BEGIN:VCALENDAR
VERSION:2.0
PRODID:-//Cordoba.info - ECPv6.14.2//NONSGML v1.0//EN
CALSCALE:GREGORIAN
METHOD:PUBLISH
X-WR-CALNAME:Cordoba.info
X-ORIGINAL-URL:https://www.cordoba.info
X-WR-CALDESC:Eventos para Cordoba.info
REFRESH-INTERVAL;VALUE=DURATION:PT1H
X-Robots-Tag:noindex
X-PUBLISHED-TTL:PT1H
BEGIN:VTIMEZONE
TZID:Europe/Madrid
BEGIN:DAYLIGHT
TZOFFSETFROM:+0100
TZOFFSETTO:+0200
TZNAME:CEST
DTSTART:20260329T010000
END:DAYLIGHT
BEGIN:STANDARD
TZOFFSETFROM:+0200
TZOFFSETTO:+0100
TZNAME:CET
DTSTART:20261025T010000
END:STANDARD
END:VTIMEZONE
BEGIN:VEVENT
DTSTART;TZID=Europe/Madrid:20260330T201500
DTEND;TZID=Europe/Madrid:20260331T010500
DTSTAMP:20260422T032102
CREATED:20260120T193316Z
LAST-MODIFIED:20260216T084143Z
UID:689410096512-1774901700-1774919100@www.cordoba.info
SUMMARY:Procesión del Vía Crucis
DESCRIPTION:La procesión del Vía Crucis representa una de las expresiones más sobrias y esenciales de la Semana Santa cordobesa. Su salida en la noche del Lunes Santo propone un ejercicio de penitencia desnudo de artificios\, donde el silencio\, el ritmo pausado y la cercanía física con la imagen marcan el sentido del cortejo. \nEstá organizada por la Hermandad del Vía Crucis del Santo Cristo de la Salud\, una corporación que ha construido su identidad desde la austeridad y la fidelidad a las formas penitenciales más antiguas. \nQué es\nEl eje de la estación de penitencia es el Santo Cristo de la Salud\, un Crucificado de finales del siglo XVI que realiza el Vía Crucis sin paso procesional\, portado directamente a hombros por tres hermanos\, uno en cada extremo de la cruz. Este gesto\, único en la Semana Santa de Córdoba\, refuerza la idea de penitencia compartida y elimina cualquier distancia entre imagen y cofradía. \nEl cortejo se compone de hermanos con túnica y cubrerrostro negros\, rosario ceñido al cíngulo\, cirios\, cruces e incensarios\, avanzando al son de tambores sordos que marcan un ritmo grave y contenido. \nDónde está y por qué importa\nLa hermandad tiene su sede en la Iglesia de la Trinidad\, antiguo enclave trinitario con una fuerte carga histórica. Desde allí\, la procesión discurre en buena parte por las calles de la Judería\, un entorno donde el silencio nocturno y la estrechez urbana refuerzan el carácter introspectivo del Vía Crucis. \nEste itinerario no es casual: conecta la devoción penitencial con uno de los espacios históricos más densos de la ciudad. \nBreve contexto histórico\nLa hermandad comienza a gestarse en 1968 y queda canónicamente erigida en 1972\, realizando su primera salida procesional en 1973. Aunque inicialmente se barajó el Viernes Santo como día de estación\, finalmente quedó fijada en el Lunes Santo por decisión de la Agrupación de Hermandades. \nEn 1976 adopta su denominación actual\, recuperando la advocación histórica del Cristo como Salud\, documentada en el siglo XIX. Desde sus inicios\, la cofradía apostó por una estética coherente con su planteamiento espiritual: severidad formal\, ausencia de paso y protagonismo absoluto del Crucificado. \nCómo se vive hoy\nEn la actualidad\, el Vía Crucis mantiene intacta su personalidad. No busca multitudes ni momentos efectistas\, sino una vivencia serena y exigente de la penitencia. Su discurrir por la Judería\, con iluminación mínima y sonidos contenidos\, convierte la procesión en una experiencia especialmente valorada por quienes buscan una Semana Santa interior\, reflexiva y fiel a los símbolos. \nLa hermandad complementa su presencia pública con una intensa labor cultural y social\, destacando su compromiso asistencial con el Hogar Santo Cristo de la Salud\, dedicado a la atención de personas mayores. \n 
URL:https://www.cordoba.info/evento/hermandad-via-crucis-cordoba/
LOCATION:Iglesia de la Trinidad\, Plaza de la Trinidad\, s/n\, Córdoba\, Córdoba\, 14003\, Spain
CATEGORIES:Eventos religiosos y procesiones
ATTACH;FMTTYPE=image/jpeg:https://www.cordoba.info/wp-content/uploads/sites/5/2026/01/SEMANA_SANTA_VIA_CRUCIS_CORDOBA_CRISTO_SALUD_04.jpg
END:VEVENT
END:VCALENDAR