BEGIN:VCALENDAR
VERSION:2.0
PRODID:-//Cordoba.info - ECPv6.14.2//NONSGML v1.0//EN
CALSCALE:GREGORIAN
METHOD:PUBLISH
X-WR-CALNAME:Cordoba.info
X-ORIGINAL-URL:https://www.cordoba.info
X-WR-CALDESC:Eventos para Cordoba.info
REFRESH-INTERVAL;VALUE=DURATION:PT1H
X-Robots-Tag:noindex
X-PUBLISHED-TTL:PT1H
BEGIN:VTIMEZONE
TZID:Europe/Madrid
BEGIN:DAYLIGHT
TZOFFSETFROM:+0100
TZOFFSETTO:+0200
TZNAME:CEST
DTSTART:20260329T010000
END:DAYLIGHT
BEGIN:STANDARD
TZOFFSETFROM:+0200
TZOFFSETTO:+0100
TZNAME:CET
DTSTART:20261025T010000
END:STANDARD
END:VTIMEZONE
BEGIN:VEVENT
DTSTART;TZID=Europe/Madrid:20260328T184000
DTEND;TZID=Europe/Madrid:20260328T231000
DTSTAMP:20260422T031943
CREATED:20260118T154529Z
LAST-MODIFIED:20260226T215226Z
UID:689410096266-1774723200-1774739400@www.cordoba.info
SUMMARY:Procesión de las Lágrimas - Sábado de Pasión
DESCRIPTION:La Hermandad de las Lágrimas en Córdoba protagoniza la tarde del Sábado de Pasión en el barrio del Parque Figueroa. Sin grandes novedades organizativas\, la cofradía mantendrá su trazado reconocible y coherente con su carácter parroquial. De hecho\, la corporación realiza su salida desde la Parroquia de Nuestra Señora de la Asunción\, en la Plaza de la Marina Española. Por este motivo\, la jornada se convierte en un punto central de encuentro vecinal y devoción popular. \nIdentidad de barrio y cercanía parroquial \nAdemás\, el itinerario vuelve a subrayar la esencia de la Hermandad de las Lágrimas en Córdoba. Se trata de una cofradía nacida y vivida en su entorno\, que entiende la penitencia como una presencia cercana para su comunidad. Asimismo\, la presencia del Santísimo Cristo de las Lágrimas y María Santísima de las Penas refuerza el sentido del Sábado de Pasión. En estas jornadas previas a la semana mayor\, las hermandades de barrio adquieren un protagonismo absoluto en la Semana Santa cordobesa. \nUn recorrido por la comunidad \nPor otro lado\, el paso de las imágenes por las vías del Figueroa crea una atmósfera de recogimiento y orgullo local. La hermandad no busca grandes traslados\, sino consolidar su fe en las calles donde se asienta su parroquia. En consecuencia\, el desfile procesional permite a los fieles vivir una experiencia íntima antes de los días grandes de la ciudad. La sobriedad y el trabajo constante definen a esta corporación que sigue creciendo junto a sus vecinos.
URL:https://www.cordoba.info/evento/hermandad-las-lagrimas-cordoba-sabado-pasion/
LOCATION:Iglesia de Nuestra Señora de la Asunción\, Plaza de la Marina Española\, s/n\, Noroeste\, Córdoba\, Córdoba\, 14011\, Spain
CATEGORIES:Eventos religiosos y procesiones
ATTACH;FMTTYPE=image/png:https://www.cordoba.info/wp-content/uploads/sites/5/2026/01/Cristo-de-las-Lagrimas-IA.png
END:VEVENT
END:VCALENDAR