BEGIN:VCALENDAR
VERSION:2.0
PRODID:-//Cordoba.info - ECPv6.14.2//NONSGML v1.0//EN
CALSCALE:GREGORIAN
METHOD:PUBLISH
X-ORIGINAL-URL:https://www.cordoba.info
X-WR-CALDESC:Eventos para Cordoba.info
REFRESH-INTERVAL;VALUE=DURATION:PT1H
X-Robots-Tag:noindex
X-PUBLISHED-TTL:PT1H
BEGIN:VTIMEZONE
TZID:Europe/Madrid
BEGIN:DAYLIGHT
TZOFFSETFROM:+0100
TZOFFSETTO:+0200
TZNAME:CEST
DTSTART:20260329T010000
END:DAYLIGHT
BEGIN:STANDARD
TZOFFSETFROM:+0200
TZOFFSETTO:+0100
TZNAME:CET
DTSTART:20261025T010000
END:STANDARD
END:VTIMEZONE
BEGIN:VEVENT
DTSTART;TZID=Europe/Madrid:20260331T170000
DTEND;TZID=Europe/Madrid:20260331T231500
DTSTAMP:20260422T043900
CREATED:20260120T211752Z
LAST-MODIFIED:20260331T092732Z
UID:689410096518-1774976400-1774998900@www.cordoba.info
SUMMARY:Procesión de La Sangre
DESCRIPTION:Siga la procesión en tiempo real\, aquí \nLa Hermandad de la Sangre realiza su Estación de Penitencia en la tarde-noche del Martes Santo\, con un recorrido que une el entorno de Capuchinos con el corazón histórico de Córdoba. Es una procesión larga\, medida en los tiempos y muy reconocible por el fuerte contenido narrativo de su paso de misterio y la sobriedad elegante del palio. \nSalida y primeros tramos\nLa cofradía pone la cruz de guía en la calle a primera hora de la tarde desde Capuchinos\, avanzando por calles amplias del centro norte. Son tramos donde el cortejo camina con soltura\, permitiendo ver con claridad la composición completa del misterio de Nuestro Padre Jesús de la Sangre en el Desprecio del Pueblo\, uno de los conjuntos más escénicos de la Semana Santa cordobesa. \nEn esta primera parte\, la procesión mantiene un ritmo constante\, con especial protagonismo del paso de misterio y su acompañamiento musical. \nCamino hacia la Carrera Oficial\nAl acercarse al casco histórico\, el recorrido se vuelve más recogido. Calles como San Fernando o el entorno de la Ribera marcan la transición hacia el tramo oficial. El cortejo se compacta y gana solemnidad\, preparándose para uno de los momentos centrales de la estación. \nPaso por la Santa Iglesia Catedral\nLa entrada en la Carrera Oficial y el posterior paso por la Santa Iglesia Catedral suponen el eje simbólico de la procesión. En el interior del templo\, la hermandad realiza su estación con recogimiento y silencio contenido\, reforzando el sentido penitencial de la jornada. \nEl discurrir del palio de Nuestra Señora Reina de los Ángeles en sus Misterios Dolorosos y San Juan Evangelista por el entorno catedralicio es uno de los momentos más esperados\, por la armonía del conjunto y la cuidada estética del paso. \nRegreso y entrada\nTras abandonar la Carrera Oficial\, la cofradía emprende el camino de vuelta ya entrada la noche. El cansancio se nota en el cortejo\, pero el ambiente se vuelve más íntimo. Las últimas calles\, especialmente en el entorno de Capuchinos\, ofrecen estampas muy reconocibles para los hermanos y vecinos. \nLa entrada se produce avanzada la noche\, cerrando una estación larga —más de cinco horas— que combina solemnidad\, relato evangélico y una presencia muy definida dentro del Martes Santo cordobés.
URL:https://www.cordoba.info/evento/hermandad-sangre-cordoba-martes-santo/
LOCATION:Convento de Capuchinos\, Plaza de Capuchinos s/n\, Córdoba\, Córdoba\, 14003\, Spain
CATEGORIES:Eventos religiosos y procesiones
ATTACH;FMTTYPE=image/jpeg:https://www.cordoba.info/wp-content/uploads/sites/5/2026/01/Nuestro_Padre_Jesus_de_la_Sangre_en_el_desprecio_de_pueblo.-Espanol-Nuestro-Padre-Jesus-de-la-Sangre-en-el-desprecio-de-pueblo-Date-24-September-2017-12-04-42-Source-https-instantesdepasion.files_.wordpress.com201004merced-2010-8.jpg
END:VEVENT
END:VCALENDAR