BEGIN:VCALENDAR
VERSION:2.0
PRODID:-//Cordoba.info - ECPv6.14.2//NONSGML v1.0//EN
CALSCALE:GREGORIAN
METHOD:PUBLISH
X-WR-CALNAME:Cordoba.info
X-ORIGINAL-URL:https://www.cordoba.info
X-WR-CALDESC:Eventos para Cordoba.info
REFRESH-INTERVAL;VALUE=DURATION:PT1H
X-Robots-Tag:noindex
X-PUBLISHED-TTL:PT1H
BEGIN:VTIMEZONE
TZID:Europe/Madrid
BEGIN:DAYLIGHT
TZOFFSETFROM:+0100
TZOFFSETTO:+0200
TZNAME:CEST
DTSTART:20260329T010000
END:DAYLIGHT
BEGIN:STANDARD
TZOFFSETFROM:+0200
TZOFFSETTO:+0100
TZNAME:CET
DTSTART:20261025T010000
END:STANDARD
END:VTIMEZONE
BEGIN:VEVENT
DTSTART;TZID=Europe/Madrid:20260403T172000
DTEND;TZID=Europe/Madrid:20260404T033000
DTSTAMP:20260420T204527
CREATED:20260127T180025Z
LAST-MODIFIED:20260226T181807Z
UID:689410099598-1775236800-1775273400@www.cordoba.info
SUMMARY:La Conversión
DESCRIPTION:La Hermandad de la Conversión en Córdoba es una de las cofradías de penitencia más jóvenes de la ciudad. Esta corporación mantiene un vínculo muy profundo con el barrio de las Electromecánicas. De hecho\, tiene su sede canónica en la Iglesia de Nuestra Señora del Rosario. Desde allí\, realiza su estación de penitencia cada tarde de Viernes Santo. Su presencia refuerza el día más extenso y exigente de toda la Semana Santa cordobesa. \nIdentidad y origen parroquial \nAdemás\, un taller cofrade en el entorno parroquial impulsó el germen de la hermandad. Este grupo recuperó la procesión de la Virgen del Rosario y promovió un viacrucis con un Cristo atribuido a Juan de Ávalos. Más tarde\, en 2011\, la Parroquia de San Andrés donó la imagen de María Santísima de Salud y Consuelo. Por este motivo\, el grupo pudo constituirse como agrupación parroquial\, paso previo a la formación de la hermandad definitiva. \nReconocimiento y crecimiento \nAsimismo\, la autoridad eclesiástica aprobó los estatutos provisionales en el año 2014. Ese mismo año\, la cofradía realizó su primera salida procesional en la tarde del Sábado de Pasión. Finalmente\, en 2017\, la aprobación definitiva de las reglas otorgó el título de Hermandad de Penitencia. Este hito permitió su ingreso oficial en la Agrupación de Cofradías. En consecuencia\, la Hermandad de la Conversión en Córdoba ha consolidado su crecimiento y su identidad en pocos años.
URL:https://www.cordoba.info/evento/horario-recorrido-conversion-cordoba-2026/
LOCATION:Iglesia de Nuestra Señora del Rosario\, Plaza de las Electromecánicas s/n\,\, Córdoba\, Córdoba\, Spain
CATEGORIES:Eventos religiosos y procesiones
ATTACH;FMTTYPE=image/jpeg:https://www.cordoba.info/wp-content/uploads/sites/5/2026/01/Paso_Conversion_Cordoba.-Por-FedeAlvrz01-Trabajo-propio-CC-BY-SA-4.0-https-commons.wikimedia.orgwindex.phpcurid127658974.jpg
END:VEVENT
END:VCALENDAR