BEGIN:VCALENDAR
VERSION:2.0
PRODID:-//Cordoba.info - ECPv6.14.2//NONSGML v1.0//EN
CALSCALE:GREGORIAN
METHOD:PUBLISH
X-WR-CALNAME:Cordoba.info
X-ORIGINAL-URL:https://www.cordoba.info
X-WR-CALDESC:Eventos para Cordoba.info
REFRESH-INTERVAL;VALUE=DURATION:PT1H
X-Robots-Tag:noindex
X-PUBLISHED-TTL:PT1H
BEGIN:VTIMEZONE
TZID:Europe/Madrid
BEGIN:DAYLIGHT
TZOFFSETFROM:+0100
TZOFFSETTO:+0200
TZNAME:CEST
DTSTART:20250330T010000
END:DAYLIGHT
BEGIN:STANDARD
TZOFFSETFROM:+0200
TZOFFSETTO:+0100
TZNAME:CET
DTSTART:20251026T010000
END:STANDARD
END:VTIMEZONE
BEGIN:VEVENT
DTSTART;TZID=Europe/Madrid:20250831T080000
DTEND;TZID=Europe/Madrid:20250831T170000
DTSTAMP:20260421T105645
CREATED:20250831T071444Z
LAST-MODIFIED:20250831T071941Z
UID:689410077434-1756627200-1756659600@www.cordoba.info
SUMMARY:Palacio de Viana – La casa de los 12 patios de Córdoba
DESCRIPTION:El Palacio de Viana concentra cinco siglos de historia en una de las casas señoriales mejor conservadas de España. Su recorrido combina 12 patios de tipologías distintas\, un jardín histórico y estancias amuebladas con colecciones originales\, en una visita que retrata la vida aristocrática cordobesa entre 1425 y 1980. No es un museo al uso: es una casa vivida donde los objetos se muestran en su contexto y los patios—agua\, sombra y flor—son el corazón del conjunto. \n  \n\nHorario general (sep–jun): mar–sáb 10:00–19:00\, dom/fest 10:00–15:00.\nVerano (jul–ago): mar–dom 9:00–15:00. Lunes cerrado. Consulta aperturas especiales en festivo.
URL:https://www.cordoba.info/evento/palacio-de-viana/
LOCATION:Palacio de Viana\, Pl. de Don Gome\, 2\, Centro\, Córdoba\, Córdoba\, 14001\, Spain
CATEGORIES:Monumentos y museos
END:VEVENT
END:VCALENDAR