BEGIN:VCALENDAR
VERSION:2.0
PRODID:-//Cordoba.info - ECPv6.14.2//NONSGML v1.0//EN
CALSCALE:GREGORIAN
METHOD:PUBLISH
X-ORIGINAL-URL:https://www.cordoba.info
X-WR-CALDESC:Eventos para Cordoba.info
REFRESH-INTERVAL;VALUE=DURATION:PT1H
X-Robots-Tag:noindex
X-PUBLISHED-TTL:PT1H
BEGIN:VTIMEZONE
TZID:Europe/Madrid
BEGIN:DAYLIGHT
TZOFFSETFROM:+0100
TZOFFSETTO:+0200
TZNAME:CEST
DTSTART:20260329T010000
END:DAYLIGHT
BEGIN:STANDARD
TZOFFSETFROM:+0200
TZOFFSETTO:+0100
TZNAME:CET
DTSTART:20261025T010000
END:STANDARD
END:VTIMEZONE
BEGIN:VEVENT
DTSTART;TZID=Europe/Madrid:20260320T193000
DTEND;TZID=Europe/Madrid:20260320T210000
DTSTAMP:20260420T064003
CREATED:20260305T175343Z
LAST-MODIFIED:20260305T175837Z
UID:689410100176-1774035000-1774040400@www.cordoba.info
SUMMARY:El gran teatro del mundo: fecha\, lugar y entradas
DESCRIPTION:El gran teatro del mundo llega como una propuesta escénica de gran calado ético y artístico. La compañía Loyola Teatro\, de la Universidad Loyola Andalucía\, pone en escena este auto sacramental de Pedro Calderón de la Barca bajo la dirección de Carmen Rey. A través de la metáfora de la vida como una representación teatral donde cada ser humano recibe un papel\, la obra invita a la reflexión sobre el destino y la responsabilidad individual\, todo ello en un entorno monumental incomparable. \nEsta representación\, organizada por el Espacio Cultural Plaza de la Concha\, es una de las propuestas culturales más profundas del calendario local. Además\, se trata de una función solidaria a beneficio de la ONG InteRed. \nEl montaje cuenta con el vestuario del reconocido diseñador Francisco Tamaral y el estilismo de Francisco de la Torre\, garantizando una puesta en escena de gran belleza visual. Si buscas eventos en Córdoba que aúnen el prestigio literario del Siglo de Oro con una causa benéfica\, esta producción de la Universidad Loyola es la elección perfecta. \n¿Qué más hacer en Córdoba ese día? \nPaseo recomendado: Recorrer la muralla de la calle Cairuán al atardecer. \nMonumento cercano: El Zoco Municipal de Artesanía\, un rincón de paz a la vuelta de la esquina. \nAtardecer sugerido: Cruza el Puente Romano para ver cómo se ilumina la ciudad justo después de la función.
URL:https://www.cordoba.info/evento/gran-teatro-del-mundo-cordoba-plaza-concha-2026/
LOCATION:Espacio Cultural Plaza de la Concha\, Plaza de la Concha 1\, Córdoba\, Córdoba\, 14003\, Spain
CATEGORIES:Teatro y artes escénicas
ATTACH;FMTTYPE=image/png:https://www.cordoba.info/wp-content/uploads/sites/5/2026/03/Cartel-teatro-mundo-concha_0.jpg.png
END:VEVENT
END:VCALENDAR