BEGIN:VCALENDAR
VERSION:2.0
PRODID:-//Cordoba.info - ECPv6.14.2//NONSGML v1.0//EN
CALSCALE:GREGORIAN
METHOD:PUBLISH
X-ORIGINAL-URL:https://www.cordoba.info
X-WR-CALDESC:Eventos para Cordoba.info
REFRESH-INTERVAL;VALUE=DURATION:PT1H
X-Robots-Tag:noindex
X-PUBLISHED-TTL:PT1H
BEGIN:VTIMEZONE
TZID:Europe/Madrid
BEGIN:DAYLIGHT
TZOFFSETFROM:+0100
TZOFFSETTO:+0200
TZNAME:CEST
DTSTART:20260329T010000
END:DAYLIGHT
BEGIN:STANDARD
TZOFFSETFROM:+0200
TZOFFSETTO:+0100
TZNAME:CET
DTSTART:20261025T010000
END:STANDARD
END:VTIMEZONE
BEGIN:VEVENT
DTSTART;TZID=Europe/Madrid:20260422T190000
DTEND;TZID=Europe/Madrid:20260422T210000
DTSTAMP:20260421T144239
CREATED:20260420T160554Z
LAST-MODIFIED:20260420T161716Z
UID:689410102193-1776884400-1776891600@www.cordoba.info
SUMMARY:Presentación del Libro: Belmonte\, 40 años de Escultura
DESCRIPTION:La Fundación Provincial de Artes Plásticas Rafael Botí acoge el próximo miércoles 22 de abril la presentación del libro Belmonte\, 40 años de escultura. Esta publicación llega como el broche de oro a la gran exposición antológica «Forma y Fondo»\, que recientemente cosechó un gran éxito en el Teatro Cómico Principal de Córdoba y en la Casa de Vacas de Madrid. El libro no solo documenta el legado del escultor\, sino que se posiciona como una pieza de estudio fundamental para entender la evolución de su lenguaje artístico\, ofreciendo una visión profunda de la relación entre la materia y el concepto en su obra. \nLa programación de la Fundación Rafael Botí destaca este mes por su compromiso con la excelencia plástica. Si buscas planes culturales en Córdoba\, asistir a esta presentación gratuita es la oportunidad perfecta para sumergirse en el universo de Belmonte y comprender los secretos de su taller. Quienes creen que el arte\, además de verse\, debe reflexionarse y conservarse en la memoria de las páginas convierten esta cita en imprescindible. \nEsta cita es imprescindible para los amantes de las artes plásticas. Una oportunidad para profundizar en la trayectoria de Belmonte en el entorno privilegiado del Centro de Arte Rafael Botí.
URL:https://www.cordoba.info/evento/presentacion-del-libro-belmonte-40-anos-de-escultura/
LOCATION:Fundación Provincial de Artes Plásticas Rafael Botí
CATEGORIES:Encuentros literarios y poesía
ATTACH;FMTTYPE=image/png:https://www.cordoba.info/wp-content/uploads/sites/5/2026/04/Presentacion-del-libro-BELMONTE.-40-ANOS-DE-ESCULTURA.-Fundacion-Boti.-Cordoba.-22-Abril-2026.png
END:VEVENT
END:VCALENDAR