BEGIN:VCALENDAR
VERSION:2.0
PRODID:-//Cordoba.info - ECPv6.14.2//NONSGML v1.0//EN
CALSCALE:GREGORIAN
METHOD:PUBLISH
X-WR-CALNAME:Cordoba.info
X-ORIGINAL-URL:https://www.cordoba.info
X-WR-CALDESC:Eventos para Cordoba.info
REFRESH-INTERVAL;VALUE=DURATION:PT1H
X-Robots-Tag:noindex
X-PUBLISHED-TTL:PT1H
BEGIN:VTIMEZONE
TZID:Europe/Madrid
BEGIN:DAYLIGHT
TZOFFSETFROM:+0100
TZOFFSETTO:+0200
TZNAME:CEST
DTSTART:20260329T010000
END:DAYLIGHT
BEGIN:STANDARD
TZOFFSETFROM:+0200
TZOFFSETTO:+0100
TZNAME:CET
DTSTART:20261025T010000
END:STANDARD
END:VTIMEZONE
BEGIN:VEVENT
DTSTART;TZID=Europe/Madrid:20260426T113000
DTEND;TZID=Europe/Madrid:20260426T121500
DTSTAMP:20260426T035842
CREATED:20250910T210951Z
LAST-MODIFIED:20250916T224558Z
UID:689410081740-1777203000-1777205700@www.cordoba.info
SUMMARY:Misa dominical en la Iglesia de San Nicolás de la Villa
DESCRIPTION:La Iglesia de San Nicolás de la Villa\, en pleno corazón de Córdoba\, es mucho más que un monumento histórico: sigue siendo un espacio vivo de fe\, donde la comunidad se reúne diariamente para celebrar la Eucaristía. Dedicada a San Nicolás de Bari\, protector de los necesitados y defensor de la fe\, cada misa en este templo es una invitación al encuentro con Dios en un entorno cargado de tradición. \nHorarios de misa (30 de marzo – 4 de octubre de 2025) \nLaborables: 8:45\, 11:30\, 19:00* y 20:00 h \nSábados y vísperas: 8:45\, 11:30\, 19:00* y 20:00 h \nDomingos y festivos: 11:30\, 19:00* y 20:00 h \n*El horario de las 19:00 h se celebra únicamente del 30 de marzo al 30 de junio y del 1 al 4 de septiembre de 2025. \nParticipar en estas misas permite vivir la espiritualidad católica en un templo que ha acompañado la vida religiosa de Córdoba durante más de siete siglos. La celebración se desarrolla en un ambiente sobrio y acogedor\, donde la música litúrgica y la solemnidad de la arquitectura elevan la experiencia de fe.
URL:https://www.cordoba.info/evento/misa-dominical-en-la-iglesia-de-san-nicolas-de-la-villa/2026-04-26/
LOCATION:Iglesia de San Nicolás de la Villa\, Avenida del Gran Capitán\, 1\, Córdoba\, Córdoba\, 14003\, Spain
CATEGORIES:Eventos religiosos y procesiones,Misas
ATTACH;FMTTYPE=image/jpeg:https://www.cordoba.info/wp-content/uploads/sites/5/2025/09/Cordoba_-_Iglesia_de_San_Nicolas_de_la_Villa_-_01.jpg
END:VEVENT
BEGIN:VEVENT
DTSTART;TZID=Europe/Madrid:20260503T113000
DTEND;TZID=Europe/Madrid:20260503T121500
DTSTAMP:20260426T035842
CREATED:20250910T210951Z
LAST-MODIFIED:20250916T224558Z
UID:689410081741-1777807800-1777810500@www.cordoba.info
SUMMARY:Misa dominical en la Iglesia de San Nicolás de la Villa
DESCRIPTION:La Iglesia de San Nicolás de la Villa\, en pleno corazón de Córdoba\, es mucho más que un monumento histórico: sigue siendo un espacio vivo de fe\, donde la comunidad se reúne diariamente para celebrar la Eucaristía. Dedicada a San Nicolás de Bari\, protector de los necesitados y defensor de la fe\, cada misa en este templo es una invitación al encuentro con Dios en un entorno cargado de tradición. \nHorarios de misa (30 de marzo – 4 de octubre de 2025) \nLaborables: 8:45\, 11:30\, 19:00* y 20:00 h \nSábados y vísperas: 8:45\, 11:30\, 19:00* y 20:00 h \nDomingos y festivos: 11:30\, 19:00* y 20:00 h \n*El horario de las 19:00 h se celebra únicamente del 30 de marzo al 30 de junio y del 1 al 4 de septiembre de 2025. \nParticipar en estas misas permite vivir la espiritualidad católica en un templo que ha acompañado la vida religiosa de Córdoba durante más de siete siglos. La celebración se desarrolla en un ambiente sobrio y acogedor\, donde la música litúrgica y la solemnidad de la arquitectura elevan la experiencia de fe.
URL:https://www.cordoba.info/evento/misa-dominical-en-la-iglesia-de-san-nicolas-de-la-villa/2026-05-03/
LOCATION:Iglesia de San Nicolás de la Villa\, Avenida del Gran Capitán\, 1\, Córdoba\, Córdoba\, 14003\, Spain
CATEGORIES:Eventos religiosos y procesiones,Misas
ATTACH;FMTTYPE=image/jpeg:https://www.cordoba.info/wp-content/uploads/sites/5/2025/09/Cordoba_-_Iglesia_de_San_Nicolas_de_la_Villa_-_01.jpg
END:VEVENT
BEGIN:VEVENT
DTSTART;TZID=Europe/Madrid:20260510T113000
DTEND;TZID=Europe/Madrid:20260510T121500
DTSTAMP:20260426T035842
CREATED:20250910T210951Z
LAST-MODIFIED:20250916T224558Z
UID:689410081742-1778412600-1778415300@www.cordoba.info
SUMMARY:Misa dominical en la Iglesia de San Nicolás de la Villa
DESCRIPTION:La Iglesia de San Nicolás de la Villa\, en pleno corazón de Córdoba\, es mucho más que un monumento histórico: sigue siendo un espacio vivo de fe\, donde la comunidad se reúne diariamente para celebrar la Eucaristía. Dedicada a San Nicolás de Bari\, protector de los necesitados y defensor de la fe\, cada misa en este templo es una invitación al encuentro con Dios en un entorno cargado de tradición. \nHorarios de misa (30 de marzo – 4 de octubre de 2025) \nLaborables: 8:45\, 11:30\, 19:00* y 20:00 h \nSábados y vísperas: 8:45\, 11:30\, 19:00* y 20:00 h \nDomingos y festivos: 11:30\, 19:00* y 20:00 h \n*El horario de las 19:00 h se celebra únicamente del 30 de marzo al 30 de junio y del 1 al 4 de septiembre de 2025. \nParticipar en estas misas permite vivir la espiritualidad católica en un templo que ha acompañado la vida religiosa de Córdoba durante más de siete siglos. La celebración se desarrolla en un ambiente sobrio y acogedor\, donde la música litúrgica y la solemnidad de la arquitectura elevan la experiencia de fe.
URL:https://www.cordoba.info/evento/misa-dominical-en-la-iglesia-de-san-nicolas-de-la-villa/2026-05-10/
LOCATION:Iglesia de San Nicolás de la Villa\, Avenida del Gran Capitán\, 1\, Córdoba\, Córdoba\, 14003\, Spain
CATEGORIES:Eventos religiosos y procesiones,Misas
ATTACH;FMTTYPE=image/jpeg:https://www.cordoba.info/wp-content/uploads/sites/5/2025/09/Cordoba_-_Iglesia_de_San_Nicolas_de_la_Villa_-_01.jpg
END:VEVENT
BEGIN:VEVENT
DTSTART;TZID=Europe/Madrid:20260517T113000
DTEND;TZID=Europe/Madrid:20260517T121500
DTSTAMP:20260426T035842
CREATED:20250910T210951Z
LAST-MODIFIED:20250916T224558Z
UID:689410081743-1779017400-1779020100@www.cordoba.info
SUMMARY:Misa dominical en la Iglesia de San Nicolás de la Villa
DESCRIPTION:La Iglesia de San Nicolás de la Villa\, en pleno corazón de Córdoba\, es mucho más que un monumento histórico: sigue siendo un espacio vivo de fe\, donde la comunidad se reúne diariamente para celebrar la Eucaristía. Dedicada a San Nicolás de Bari\, protector de los necesitados y defensor de la fe\, cada misa en este templo es una invitación al encuentro con Dios en un entorno cargado de tradición. \nHorarios de misa (30 de marzo – 4 de octubre de 2025) \nLaborables: 8:45\, 11:30\, 19:00* y 20:00 h \nSábados y vísperas: 8:45\, 11:30\, 19:00* y 20:00 h \nDomingos y festivos: 11:30\, 19:00* y 20:00 h \n*El horario de las 19:00 h se celebra únicamente del 30 de marzo al 30 de junio y del 1 al 4 de septiembre de 2025. \nParticipar en estas misas permite vivir la espiritualidad católica en un templo que ha acompañado la vida religiosa de Córdoba durante más de siete siglos. La celebración se desarrolla en un ambiente sobrio y acogedor\, donde la música litúrgica y la solemnidad de la arquitectura elevan la experiencia de fe.
URL:https://www.cordoba.info/evento/misa-dominical-en-la-iglesia-de-san-nicolas-de-la-villa/2026-05-17/
LOCATION:Iglesia de San Nicolás de la Villa\, Avenida del Gran Capitán\, 1\, Córdoba\, Córdoba\, 14003\, Spain
CATEGORIES:Eventos religiosos y procesiones,Misas
ATTACH;FMTTYPE=image/jpeg:https://www.cordoba.info/wp-content/uploads/sites/5/2025/09/Cordoba_-_Iglesia_de_San_Nicolas_de_la_Villa_-_01.jpg
END:VEVENT
BEGIN:VEVENT
DTSTART;TZID=Europe/Madrid:20260524T113000
DTEND;TZID=Europe/Madrid:20260524T121500
DTSTAMP:20260426T035842
CREATED:20250910T210951Z
LAST-MODIFIED:20250916T224558Z
UID:689410081744-1779622200-1779624900@www.cordoba.info
SUMMARY:Misa dominical en la Iglesia de San Nicolás de la Villa
DESCRIPTION:La Iglesia de San Nicolás de la Villa\, en pleno corazón de Córdoba\, es mucho más que un monumento histórico: sigue siendo un espacio vivo de fe\, donde la comunidad se reúne diariamente para celebrar la Eucaristía. Dedicada a San Nicolás de Bari\, protector de los necesitados y defensor de la fe\, cada misa en este templo es una invitación al encuentro con Dios en un entorno cargado de tradición. \nHorarios de misa (30 de marzo – 4 de octubre de 2025) \nLaborables: 8:45\, 11:30\, 19:00* y 20:00 h \nSábados y vísperas: 8:45\, 11:30\, 19:00* y 20:00 h \nDomingos y festivos: 11:30\, 19:00* y 20:00 h \n*El horario de las 19:00 h se celebra únicamente del 30 de marzo al 30 de junio y del 1 al 4 de septiembre de 2025. \nParticipar en estas misas permite vivir la espiritualidad católica en un templo que ha acompañado la vida religiosa de Córdoba durante más de siete siglos. La celebración se desarrolla en un ambiente sobrio y acogedor\, donde la música litúrgica y la solemnidad de la arquitectura elevan la experiencia de fe.
URL:https://www.cordoba.info/evento/misa-dominical-en-la-iglesia-de-san-nicolas-de-la-villa/2026-05-24/
LOCATION:Iglesia de San Nicolás de la Villa\, Avenida del Gran Capitán\, 1\, Córdoba\, Córdoba\, 14003\, Spain
CATEGORIES:Eventos religiosos y procesiones,Misas
ATTACH;FMTTYPE=image/jpeg:https://www.cordoba.info/wp-content/uploads/sites/5/2025/09/Cordoba_-_Iglesia_de_San_Nicolas_de_la_Villa_-_01.jpg
END:VEVENT
BEGIN:VEVENT
DTSTART;TZID=Europe/Madrid:20260531T113000
DTEND;TZID=Europe/Madrid:20260531T121500
DTSTAMP:20260426T035842
CREATED:20250910T210951Z
LAST-MODIFIED:20250916T224558Z
UID:689410081745-1780227000-1780229700@www.cordoba.info
SUMMARY:Misa dominical en la Iglesia de San Nicolás de la Villa
DESCRIPTION:La Iglesia de San Nicolás de la Villa\, en pleno corazón de Córdoba\, es mucho más que un monumento histórico: sigue siendo un espacio vivo de fe\, donde la comunidad se reúne diariamente para celebrar la Eucaristía. Dedicada a San Nicolás de Bari\, protector de los necesitados y defensor de la fe\, cada misa en este templo es una invitación al encuentro con Dios en un entorno cargado de tradición. \nHorarios de misa (30 de marzo – 4 de octubre de 2025) \nLaborables: 8:45\, 11:30\, 19:00* y 20:00 h \nSábados y vísperas: 8:45\, 11:30\, 19:00* y 20:00 h \nDomingos y festivos: 11:30\, 19:00* y 20:00 h \n*El horario de las 19:00 h se celebra únicamente del 30 de marzo al 30 de junio y del 1 al 4 de septiembre de 2025. \nParticipar en estas misas permite vivir la espiritualidad católica en un templo que ha acompañado la vida religiosa de Córdoba durante más de siete siglos. La celebración se desarrolla en un ambiente sobrio y acogedor\, donde la música litúrgica y la solemnidad de la arquitectura elevan la experiencia de fe.
URL:https://www.cordoba.info/evento/misa-dominical-en-la-iglesia-de-san-nicolas-de-la-villa/2026-05-31/
LOCATION:Iglesia de San Nicolás de la Villa\, Avenida del Gran Capitán\, 1\, Córdoba\, Córdoba\, 14003\, Spain
CATEGORIES:Eventos religiosos y procesiones,Misas
ATTACH;FMTTYPE=image/jpeg:https://www.cordoba.info/wp-content/uploads/sites/5/2025/09/Cordoba_-_Iglesia_de_San_Nicolas_de_la_Villa_-_01.jpg
END:VEVENT
BEGIN:VEVENT
DTSTART;TZID=Europe/Madrid:20260607T113000
DTEND;TZID=Europe/Madrid:20260607T121500
DTSTAMP:20260426T035842
CREATED:20250910T210951Z
LAST-MODIFIED:20250916T224558Z
UID:689410081746-1780831800-1780834500@www.cordoba.info
SUMMARY:Misa dominical en la Iglesia de San Nicolás de la Villa
DESCRIPTION:La Iglesia de San Nicolás de la Villa\, en pleno corazón de Córdoba\, es mucho más que un monumento histórico: sigue siendo un espacio vivo de fe\, donde la comunidad se reúne diariamente para celebrar la Eucaristía. Dedicada a San Nicolás de Bari\, protector de los necesitados y defensor de la fe\, cada misa en este templo es una invitación al encuentro con Dios en un entorno cargado de tradición. \nHorarios de misa (30 de marzo – 4 de octubre de 2025) \nLaborables: 8:45\, 11:30\, 19:00* y 20:00 h \nSábados y vísperas: 8:45\, 11:30\, 19:00* y 20:00 h \nDomingos y festivos: 11:30\, 19:00* y 20:00 h \n*El horario de las 19:00 h se celebra únicamente del 30 de marzo al 30 de junio y del 1 al 4 de septiembre de 2025. \nParticipar en estas misas permite vivir la espiritualidad católica en un templo que ha acompañado la vida religiosa de Córdoba durante más de siete siglos. La celebración se desarrolla en un ambiente sobrio y acogedor\, donde la música litúrgica y la solemnidad de la arquitectura elevan la experiencia de fe.
URL:https://www.cordoba.info/evento/misa-dominical-en-la-iglesia-de-san-nicolas-de-la-villa/2026-06-07/
LOCATION:Iglesia de San Nicolás de la Villa\, Avenida del Gran Capitán\, 1\, Córdoba\, Córdoba\, 14003\, Spain
CATEGORIES:Eventos religiosos y procesiones,Misas
ATTACH;FMTTYPE=image/jpeg:https://www.cordoba.info/wp-content/uploads/sites/5/2025/09/Cordoba_-_Iglesia_de_San_Nicolas_de_la_Villa_-_01.jpg
END:VEVENT
BEGIN:VEVENT
DTSTART;TZID=Europe/Madrid:20260614T113000
DTEND;TZID=Europe/Madrid:20260614T121500
DTSTAMP:20260426T035842
CREATED:20250910T210951Z
LAST-MODIFIED:20250916T224558Z
UID:689410081747-1781436600-1781439300@www.cordoba.info
SUMMARY:Misa dominical en la Iglesia de San Nicolás de la Villa
DESCRIPTION:La Iglesia de San Nicolás de la Villa\, en pleno corazón de Córdoba\, es mucho más que un monumento histórico: sigue siendo un espacio vivo de fe\, donde la comunidad se reúne diariamente para celebrar la Eucaristía. Dedicada a San Nicolás de Bari\, protector de los necesitados y defensor de la fe\, cada misa en este templo es una invitación al encuentro con Dios en un entorno cargado de tradición. \nHorarios de misa (30 de marzo – 4 de octubre de 2025) \nLaborables: 8:45\, 11:30\, 19:00* y 20:00 h \nSábados y vísperas: 8:45\, 11:30\, 19:00* y 20:00 h \nDomingos y festivos: 11:30\, 19:00* y 20:00 h \n*El horario de las 19:00 h se celebra únicamente del 30 de marzo al 30 de junio y del 1 al 4 de septiembre de 2025. \nParticipar en estas misas permite vivir la espiritualidad católica en un templo que ha acompañado la vida religiosa de Córdoba durante más de siete siglos. La celebración se desarrolla en un ambiente sobrio y acogedor\, donde la música litúrgica y la solemnidad de la arquitectura elevan la experiencia de fe.
URL:https://www.cordoba.info/evento/misa-dominical-en-la-iglesia-de-san-nicolas-de-la-villa/2026-06-14/
LOCATION:Iglesia de San Nicolás de la Villa\, Avenida del Gran Capitán\, 1\, Córdoba\, Córdoba\, 14003\, Spain
CATEGORIES:Eventos religiosos y procesiones,Misas
ATTACH;FMTTYPE=image/jpeg:https://www.cordoba.info/wp-content/uploads/sites/5/2025/09/Cordoba_-_Iglesia_de_San_Nicolas_de_la_Villa_-_01.jpg
END:VEVENT
BEGIN:VEVENT
DTSTART;TZID=Europe/Madrid:20260621T113000
DTEND;TZID=Europe/Madrid:20260621T121500
DTSTAMP:20260426T035842
CREATED:20250910T210951Z
LAST-MODIFIED:20250916T224558Z
UID:689410081748-1782041400-1782044100@www.cordoba.info
SUMMARY:Misa dominical en la Iglesia de San Nicolás de la Villa
DESCRIPTION:La Iglesia de San Nicolás de la Villa\, en pleno corazón de Córdoba\, es mucho más que un monumento histórico: sigue siendo un espacio vivo de fe\, donde la comunidad se reúne diariamente para celebrar la Eucaristía. Dedicada a San Nicolás de Bari\, protector de los necesitados y defensor de la fe\, cada misa en este templo es una invitación al encuentro con Dios en un entorno cargado de tradición. \nHorarios de misa (30 de marzo – 4 de octubre de 2025) \nLaborables: 8:45\, 11:30\, 19:00* y 20:00 h \nSábados y vísperas: 8:45\, 11:30\, 19:00* y 20:00 h \nDomingos y festivos: 11:30\, 19:00* y 20:00 h \n*El horario de las 19:00 h se celebra únicamente del 30 de marzo al 30 de junio y del 1 al 4 de septiembre de 2025. \nParticipar en estas misas permite vivir la espiritualidad católica en un templo que ha acompañado la vida religiosa de Córdoba durante más de siete siglos. La celebración se desarrolla en un ambiente sobrio y acogedor\, donde la música litúrgica y la solemnidad de la arquitectura elevan la experiencia de fe.
URL:https://www.cordoba.info/evento/misa-dominical-en-la-iglesia-de-san-nicolas-de-la-villa/2026-06-21/
LOCATION:Iglesia de San Nicolás de la Villa\, Avenida del Gran Capitán\, 1\, Córdoba\, Córdoba\, 14003\, Spain
CATEGORIES:Eventos religiosos y procesiones,Misas
ATTACH;FMTTYPE=image/jpeg:https://www.cordoba.info/wp-content/uploads/sites/5/2025/09/Cordoba_-_Iglesia_de_San_Nicolas_de_la_Villa_-_01.jpg
END:VEVENT
BEGIN:VEVENT
DTSTART;TZID=Europe/Madrid:20260628T113000
DTEND;TZID=Europe/Madrid:20260628T121500
DTSTAMP:20260426T035842
CREATED:20250910T210951Z
LAST-MODIFIED:20250916T224558Z
UID:689410081749-1782646200-1782648900@www.cordoba.info
SUMMARY:Misa dominical en la Iglesia de San Nicolás de la Villa
DESCRIPTION:La Iglesia de San Nicolás de la Villa\, en pleno corazón de Córdoba\, es mucho más que un monumento histórico: sigue siendo un espacio vivo de fe\, donde la comunidad se reúne diariamente para celebrar la Eucaristía. Dedicada a San Nicolás de Bari\, protector de los necesitados y defensor de la fe\, cada misa en este templo es una invitación al encuentro con Dios en un entorno cargado de tradición. \nHorarios de misa (30 de marzo – 4 de octubre de 2025) \nLaborables: 8:45\, 11:30\, 19:00* y 20:00 h \nSábados y vísperas: 8:45\, 11:30\, 19:00* y 20:00 h \nDomingos y festivos: 11:30\, 19:00* y 20:00 h \n*El horario de las 19:00 h se celebra únicamente del 30 de marzo al 30 de junio y del 1 al 4 de septiembre de 2025. \nParticipar en estas misas permite vivir la espiritualidad católica en un templo que ha acompañado la vida religiosa de Córdoba durante más de siete siglos. La celebración se desarrolla en un ambiente sobrio y acogedor\, donde la música litúrgica y la solemnidad de la arquitectura elevan la experiencia de fe.
URL:https://www.cordoba.info/evento/misa-dominical-en-la-iglesia-de-san-nicolas-de-la-villa/2026-06-28/
LOCATION:Iglesia de San Nicolás de la Villa\, Avenida del Gran Capitán\, 1\, Córdoba\, Córdoba\, 14003\, Spain
CATEGORIES:Eventos religiosos y procesiones,Misas
ATTACH;FMTTYPE=image/jpeg:https://www.cordoba.info/wp-content/uploads/sites/5/2025/09/Cordoba_-_Iglesia_de_San_Nicolas_de_la_Villa_-_01.jpg
END:VEVENT
END:VCALENDAR