BEGIN:VCALENDAR
VERSION:2.0
PRODID:-//Cordoba.info - ECPv6.14.2//NONSGML v1.0//EN
CALSCALE:GREGORIAN
METHOD:PUBLISH
X-WR-CALNAME:Cordoba.info
X-ORIGINAL-URL:https://www.cordoba.info
X-WR-CALDESC:Eventos para Cordoba.info
REFRESH-INTERVAL;VALUE=DURATION:PT1H
X-Robots-Tag:noindex
X-PUBLISHED-TTL:PT1H
BEGIN:VTIMEZONE
TZID:Europe/Madrid
BEGIN:DAYLIGHT
TZOFFSETFROM:+0100
TZOFFSETTO:+0200
TZNAME:CEST
DTSTART:20250330T010000
END:DAYLIGHT
BEGIN:STANDARD
TZOFFSETFROM:+0200
TZOFFSETTO:+0100
TZNAME:CET
DTSTART:20251026T010000
END:STANDARD
END:VTIMEZONE
BEGIN:VEVENT
DTSTART;TZID=Europe/Madrid:20251003T210000
DTEND;TZID=Europe/Madrid:20251004T000000
DTSTAMP:20260422T083123
CREATED:20250807T181735Z
LAST-MODIFIED:20250813T051332Z
UID:689410037783-1759525200-1759536000@www.cordoba.info
SUMMARY:ETERNOS. Music Party Córdoba
DESCRIPTION:Prepárate para una noche épica con el mejor pop y rock español de los años 80. El escenario se llena de historia viva con las voces originales de grandes himnos que marcaron a toda una generación. Rafa Sánchez\, ex vocalista de La Unión\, celebrará más de cuatro décadas del mítico Lobo-hombre en París; Alejo Stivel\, alma de Tequila\, hará saltar al público con clásicos como Salta o Rock and roll en la plaza del pueblo; el inclasificable y brillante Javier Gurruchaga\, al frente de la Orquesta Mondragón\, promete un show tan excéntrico como inolvidable; y José María Guzmán\, componente de Cadillac y figura clave del pop más elegante de la época\, pondrá el broche de oro con su inconfundible estilo. \nUn festival en formato concierto donde los hits no paran de sonar: Vivir al Este del Edén\, Viaje con nosotros\, Caperucita feroz\, Pensando en ti\, Perdí mi oportunidad… y muchos más. Todos interpretados por quienes los hicieron grandes. \nSerá una auténtica fiesta revival para corear cada estribillo\, emocionarse con los recuerdos y bailar hasta el último acorde. Una cita imprescindible para quienes vivieron los 80… y para quienes quieren descubrir por qué aquella década fue la edad de oro de la música española.
URL:https://www.cordoba.info/evento/eternos-music-party-cordoba/
LOCATION:Teatro de la Axerquía\, Avenida Menéndez Pidal\, 1\, Córdoba\, Córdoba\, Spain
CATEGORIES:Espectáculos y conciertos
ATTACH;FMTTYPE=image/jpeg:https://www.cordoba.info/wp-content/uploads/sites/5/2025/08/Eternos-Music-Party.jpg
END:VEVENT
END:VCALENDAR