BEGIN:VCALENDAR
VERSION:2.0
PRODID:-//Cordoba.info - ECPv6.14.2//NONSGML v1.0//EN
CALSCALE:GREGORIAN
METHOD:PUBLISH
X-ORIGINAL-URL:https://www.cordoba.info
X-WR-CALDESC:Eventos para Cordoba.info
REFRESH-INTERVAL;VALUE=DURATION:PT1H
X-Robots-Tag:noindex
X-PUBLISHED-TTL:PT1H
BEGIN:VTIMEZONE
TZID:Europe/Madrid
BEGIN:DAYLIGHT
TZOFFSETFROM:+0100
TZOFFSETTO:+0200
TZNAME:CEST
DTSTART:20260329T010000
END:DAYLIGHT
BEGIN:STANDARD
TZOFFSETFROM:+0200
TZOFFSETTO:+0100
TZNAME:CET
DTSTART:20261025T010000
END:STANDARD
END:VTIMEZONE
BEGIN:VEVENT
DTSTART;VALUE=DATE:20260430
DTEND;VALUE=DATE:20260508
DTSTAMP:20260420T060229
CREATED:20250806T154350Z
LAST-MODIFIED:20260321T204813Z
UID:689410015366-1777507200-1778112000@www.cordoba.info
SUMMARY:Cruces de Mayo 2026
DESCRIPTION:Córdoba se viste de gala con la llegada de la primavera. Las Cruces de Mayo Córdoba 2026 son el inicio del mes más hermoso de la ciudad. Esta celebración transforma plazas y rincones en auténticos museos al aire libre. La flor\, la música y la gastronomía son las grandes protagonistas. \n¿En qué consiste la fiesta de las Cruces?\nDurante los primeros días de mayo\, las asociaciones instalan cruces de tres metros. Estas estructuras se recubren totalmente de claveles rojos o blancos. El entorno de las Cruces de Mayo Córdoba 2026 se decora con macetas y elementos de forja. Cada detalle refleja el carácter único de nuestra tierra. \nSi deseas profundizar en la historia de los barrios que acogen estas instalaciones\, te recomendamos explorar los monumentos y museos que hacen de Córdoba una ciudad Patrimonio de la Humanidad. \nGastronomía y ambiente popular\nNo se puede entender una «Cruz» sin su barra. En ellas\, los cordobeses y visitantes degustan platos típicos como el salmorejo\, el flamenquín o la tortilla de patatas\, siempre acompañados de un buen vino fino o una cerveza fría. El ambiente se anima con sevillanas y rumbas\, creando una atmósfera de convivencia única. \nPara aquellos que prefieren disfrutar de la cocina local en un entorno más tranquilo tras el bullicio de las plazas\, pueden consultar nuestra selección de restaurantes y tabernas.
URL:https://www.cordoba.info/evento/cruces-de-mayo/
LOCATION:Cruz de Mayo – Avenida Fray Albino. Frente a la Calahorra\, Avenida Fray Albino. Frente a la Calahorra\, Córdoba
CATEGORIES:Fiestas populares
ATTACH;FMTTYPE=image/jpeg:https://www.cordoba.info/wp-content/uploads/sites/5/2025/08/Cruces-de-Mayo.-Artencordoba.-1.jpg
END:VEVENT
BEGIN:VEVENT
DTSTART;TZID=Europe/Madrid:20260503T000000
DTEND;TZID=Europe/Madrid:20260503T000000
DTSTAMP:20260420T060229
CREATED:20250806T154351Z
LAST-MODIFIED:20260225T173535Z
UID:689410015367-1777766400-1777766400@www.cordoba.info
SUMMARY:Batalla de las Flores
DESCRIPTION:Cada año\, en la frontera entre abril y mayo\, Córdoba revive una fiesta única y llena de alegría: la Batalla de las Flores. Esta tradición\, con más de un siglo de historia\, es el colorido pistoletazo de salida al Mayo Festivo cordobés\, el mes más emblemático en fiestas de la ciudad. \n¿En qué consiste esta «batalla»? En esta batalla se lanzan miles de claveles en el Paseo de la Victoria. No hay vencedores. Todos terminan cubiertos de flores. Desde carrozas decoradas\, participantes con trajes típicos lanzan pétalos al público. Es una fiesta de color\, música y folclore para todas las edades. \nSus raíces se remontan a antiguos juegos florales y la primera edición documentada de la Batalla de las Flores en Córdoba se sitúa en 1915\, donde lo que primaba era adornar los vehículos de la época con flores para dar la bienvenida a la primavera. Con interrupciones a lo largo de las décadas\, la fiesta se ha consolidado como un evento fijo desde los años 80\, organizado por la Federación de Peñas Cordobesas. \nMás de 100.000 claveles de colores vuelan por el aire. La atmósfera de felicidad contagia a todos los presentes. Bandas locales acompañan el desfile con música. El espíritu festivo impregna cada calle y corazón cordobés. \nLa Batalla de las Flores es mucho más que un mero desfile: es la expresión de identidad\, creatividad y comunidad de Córdoba. Cada carroza es el fruto de meses de trabajo artístico por parte de las peñas\, que ponen todo su empeño en diseñar y engalanar verdaderas obras de arte floral que homenajéan a la ciudad\, su cultura y sus tradiciones.
URL:https://www.cordoba.info/evento/batalla-de-las-flores/
LOCATION:Paseo de la Victoria\, Paseo de la Victoria\, Córdoba\, Córdoba\, 14003\, Spain
CATEGORIES:Actividades al aire libre,Eventos familiares e infantiles,Fiestas populares
ATTACH;FMTTYPE=image/jpeg:https://www.cordoba.info/wp-content/uploads/sites/5/2025/08/BATALLA_FLORES_CORDOBA_01.jpg
END:VEVENT
BEGIN:VEVENT
DTSTART;TZID=Europe/Madrid:20260504T000000
DTEND;TZID=Europe/Madrid:20260516T000000
DTSTAMP:20260420T060229
CREATED:20250806T154351Z
LAST-MODIFIED:20260225T172029Z
UID:689410015368-1777852800-1778889600@www.cordoba.info
SUMMARY:Festival y Concurso de Patios\, Rejas y Balcones
DESCRIPTION:Cada primavera\, la ciudad se transforma con el Festival de los Patios de Córdoba. Este evento es uno de los más emblemáticos del mundo. La UNESCO lo declaró Patrimonio Cultural Inmaterial de la Humanidad. Durante estas semanas\, Córdoba se llena de aromas\, geranios y una vida única. \nLos habitantes abren generosamente las puertas de sus casas. Engalanan sus patios\, rejas y balcones con claveles y jazmines. La ciudad se convierte en un auténtico museo floral al aire libre. Es la máxima expresión de la tradición cordobesa. \nQué ver en el Concurso de Patios\, Rejas y Balcones \nPodrás pasear por calles históricas y entrar en espacios privados. Estos lugares suelen estar cerrados el resto del año. Disfrutarás de la belleza de las flores en su máximo esplendor. \nEl Festival de los Patios de Córdoba incluye: \nAcceso gratuito a los patios participantes en el concurso. \nRecorridos por las zonas y rutas oficiales de la ciudad. \nPlanos detallados para localizar cada rincón floral. \nSe celebra cada mes de mayo. Las fechas exactas se confirman anualmente. Es el plan ideal para amantes de la fotografía y el arte floral.
URL:https://www.cordoba.info/evento/festival-y-concurso-de-patios-rejas-y-balcones/
LOCATION:Patio – Aceite\, 8\, Calle Aceite 8\, Córdoba\, Córdoba\, Spain
CATEGORIES:Fiestas populares
ATTACH;FMTTYPE=image/jpeg:https://www.cordoba.info/wp-content/uploads/sites/5/2025/08/Patio-de-San-Basilio-44.jpg
END:VEVENT
BEGIN:VEVENT
DTSTART;TZID=Europe/Madrid:20260522T220000
DTEND;TZID=Europe/Madrid:20260530T000000
DTSTAMP:20260420T060229
CREATED:20250806T154343Z
LAST-MODIFIED:20260225T163005Z
UID:689410015358-1779487200-1780099200@www.cordoba.info
SUMMARY:Feria de Nuestra Señora de la Salud: tradición viva y alegría sin fin
DESCRIPTION:La Feria de Córdoba Nuestra Señora de la Salud es la gran cita de la ciudad. Se celebra a finales de mayo. Es el cierre perfecto al mes de los patios. Este evento es uno de los más esperados de Andalucía. \nUna celebración hospitalaria y abierta \nEsta fiesta es famosa en toda Andalucía por su hospitalidad. A diferencia de otros recintos\, en la Feria de Córdoba predomina la entrada libre en la gran mayoría de sus casetas\, permitiendo que cualquier visitante disfrute de la música\, el baile y la gastronomía sin necesidad de invitación previa. Con más de un millón de visitas anuales durante sus 8 días\, es un evento de magnitud internacional. \nEl Real de la Feria en El Arenal \nEl recinto de El Arenal se ubica junto al Guadalquivir. Allí se instalan más de cien casetas bajo miles de farolillos. La mayoría son de acceso libre para todos los visitantes. Algunas casetas tradicionales abren sus puertas en horarios específicos. Así\, cualquier persona puede entrar y disfrutar del ambiente. \nEsta vocación de apertura y acogida ha hecho que la Feria de Córdoba sea muy apreciada por los visitantes nacionales e internacionales. El contraste con otras ferias\, donde predomina el acceso restringido\, refuerza su identidad como un evento integrador y cercano\, donde el viajero puede sentirse parte de la celebración desde el primer momento. \nTradición y Gastronomía en el Recinto \nPor el día\, el paseo de caballos\, los trajes de flamenca y de corto\, y las casetas familiares crean una estampa tradicional. Por la noche\, el Real se ilumina y la música en vivo\, las sevillanas y las fusiones con estilos más modernos llenan las casetas más animadas. \nPlatos típicos como el salmorejo\, los flamenquines\, pimientos fritos o el pescaito frito\, acompañados de vinos Montilla-Moriles o rebujito\, forman parte de la experiencia. Y para los más pequeños (y los no tan pequeños)\, la feria cuenta con la popular calle del infierno\, una gran zona de atracciones y puestos de juegos.
URL:https://www.cordoba.info/evento/feria-de-nuestra-senora-de-la-salud/
LOCATION:Recinto Ferial de El Arenal
CATEGORIES:Ferias y festivales,Fiestas populares
ATTACH;FMTTYPE=image/jpeg:https://www.cordoba.info/wp-content/uploads/sites/5/2025/08/2o-Premio-Mejor-Caseta.-Web-Ayuntamiento.jpg
END:VEVENT
END:VCALENDAR