BEGIN:VCALENDAR
VERSION:2.0
PRODID:-//Cordoba.info - ECPv6.14.2//NONSGML v1.0//EN
CALSCALE:GREGORIAN
METHOD:PUBLISH
X-WR-CALNAME:Cordoba.info
X-ORIGINAL-URL:https://www.cordoba.info
X-WR-CALDESC:Eventos para Cordoba.info
REFRESH-INTERVAL;VALUE=DURATION:PT1H
X-Robots-Tag:noindex
X-PUBLISHED-TTL:PT1H
BEGIN:VTIMEZONE
TZID:Europe/Madrid
BEGIN:DAYLIGHT
TZOFFSETFROM:+0100
TZOFFSETTO:+0200
TZNAME:CEST
DTSTART:20260329T010000
END:DAYLIGHT
BEGIN:STANDARD
TZOFFSETFROM:+0200
TZOFFSETTO:+0100
TZNAME:CET
DTSTART:20261025T010000
END:STANDARD
BEGIN:DAYLIGHT
TZOFFSETFROM:+0100
TZOFFSETTO:+0200
TZNAME:CEST
DTSTART:20270328T010000
END:DAYLIGHT
BEGIN:STANDARD
TZOFFSETFROM:+0200
TZOFFSETTO:+0100
TZNAME:CET
DTSTART:20271031T010000
END:STANDARD
BEGIN:DAYLIGHT
TZOFFSETFROM:+0100
TZOFFSETTO:+0200
TZNAME:CEST
DTSTART:20280326T010000
END:DAYLIGHT
BEGIN:STANDARD
TZOFFSETFROM:+0200
TZOFFSETTO:+0100
TZNAME:CET
DTSTART:20281029T010000
END:STANDARD
BEGIN:DAYLIGHT
TZOFFSETFROM:+0100
TZOFFSETTO:+0200
TZNAME:CEST
DTSTART:20290325T010000
END:DAYLIGHT
BEGIN:STANDARD
TZOFFSETFROM:+0200
TZOFFSETTO:+0100
TZNAME:CET
DTSTART:20291028T010000
END:STANDARD
BEGIN:DAYLIGHT
TZOFFSETFROM:+0100
TZOFFSETTO:+0200
TZNAME:CEST
DTSTART:20300331T010000
END:DAYLIGHT
BEGIN:STANDARD
TZOFFSETFROM:+0200
TZOFFSETTO:+0100
TZNAME:CET
DTSTART:20301027T010000
END:STANDARD
END:VTIMEZONE
BEGIN:VEVENT
DTSTART;VALUE=DATE:20260821
DTEND;VALUE=DATE:20260825
DTSTAMP:20260420T195221
CREATED:20250806T152648Z
LAST-MODIFIED:20250817T195554Z
UID:689410015754-1787281200-1787540399@www.cordoba.info
SUMMARY:Fiesta de Agosto Club Figueroa
DESCRIPTION:Del 15 al 17 de agosto se celebra en el Club Figueroa esta fiesta con casetas\, concursos\, música y convivencia entre vecinos. Uno de los eventos más esperados del verano cordobés. Incluye actividades sociales\, animaciones infantiles y diversión para todos los públicos en zona de piscina\, actuaciones musicales\, gala del deporte y celebración de Eucaristía\, en colaboración con la parroquia de Ntra. Señora de la Asunción\, parroquia del barrio.
URL:https://www.cordoba.info/evento/fiesta-de-agosto-club-figueroa-2/2026-08-21/
LOCATION:Club Figueroa\, Plaza de la Marina Española\, Córdoba\, Córdoba\, 14011\, Spain
CATEGORIES:Eventos familiares e infantiles,Fiestas populares
ATTACH;FMTTYPE=image/jpeg:https://www.cordoba.info/wp-content/uploads/sites/5/2025/08/Piscinas-Club-Figueroa.jpg
ORGANIZER;CN="Club Figueroa":MAILTO:clubfigueroa@club-figueroa.com
GEO:37.89153;-4.80415
X-APPLE-STRUCTURED-LOCATION;VALUE=URI;X-ADDRESS=Club Figueroa Plaza de la Marina Española Córdoba Córdoba 14011 Spain;X-APPLE-RADIUS=500;X-TITLE=Plaza de la Marina Española:geo:-4.80415,37.89153
END:VEVENT
BEGIN:VEVENT
DTSTART;VALUE=DATE:20270820
DTEND;VALUE=DATE:20270824
DTSTAMP:20260420T195221
CREATED:20250806T152648Z
LAST-MODIFIED:20250817T195554Z
UID:689410015755-1818730800-1818989999@www.cordoba.info
SUMMARY:Fiesta de Agosto Club Figueroa
DESCRIPTION:Del 15 al 17 de agosto se celebra en el Club Figueroa esta fiesta con casetas\, concursos\, música y convivencia entre vecinos. Uno de los eventos más esperados del verano cordobés. Incluye actividades sociales\, animaciones infantiles y diversión para todos los públicos en zona de piscina\, actuaciones musicales\, gala del deporte y celebración de Eucaristía\, en colaboración con la parroquia de Ntra. Señora de la Asunción\, parroquia del barrio.
URL:https://www.cordoba.info/evento/fiesta-de-agosto-club-figueroa-2/2027-08-20/
LOCATION:Club Figueroa\, Plaza de la Marina Española\, Córdoba\, Córdoba\, 14011\, Spain
CATEGORIES:Eventos familiares e infantiles,Fiestas populares
ATTACH;FMTTYPE=image/jpeg:https://www.cordoba.info/wp-content/uploads/sites/5/2025/08/Piscinas-Club-Figueroa.jpg
ORGANIZER;CN="Club Figueroa":MAILTO:clubfigueroa@club-figueroa.com
GEO:37.89153;-4.80415
X-APPLE-STRUCTURED-LOCATION;VALUE=URI;X-ADDRESS=Club Figueroa Plaza de la Marina Española Córdoba Córdoba 14011 Spain;X-APPLE-RADIUS=500;X-TITLE=Plaza de la Marina Española:geo:-4.80415,37.89153
END:VEVENT
BEGIN:VEVENT
DTSTART;VALUE=DATE:20280818
DTEND;VALUE=DATE:20280822
DTSTAMP:20260420T195221
CREATED:20250806T152648Z
LAST-MODIFIED:20250817T195554Z
UID:689410015756-1850180400-1850439599@www.cordoba.info
SUMMARY:Fiesta de Agosto Club Figueroa
DESCRIPTION:Del 15 al 17 de agosto se celebra en el Club Figueroa esta fiesta con casetas\, concursos\, música y convivencia entre vecinos. Uno de los eventos más esperados del verano cordobés. Incluye actividades sociales\, animaciones infantiles y diversión para todos los públicos en zona de piscina\, actuaciones musicales\, gala del deporte y celebración de Eucaristía\, en colaboración con la parroquia de Ntra. Señora de la Asunción\, parroquia del barrio.
URL:https://www.cordoba.info/evento/fiesta-de-agosto-club-figueroa-2/2028-08-18/
LOCATION:Club Figueroa\, Plaza de la Marina Española\, Córdoba\, Córdoba\, 14011\, Spain
CATEGORIES:Eventos familiares e infantiles,Fiestas populares
ATTACH;FMTTYPE=image/jpeg:https://www.cordoba.info/wp-content/uploads/sites/5/2025/08/Piscinas-Club-Figueroa.jpg
ORGANIZER;CN="Club Figueroa":MAILTO:clubfigueroa@club-figueroa.com
GEO:37.89153;-4.80415
X-APPLE-STRUCTURED-LOCATION;VALUE=URI;X-ADDRESS=Club Figueroa Plaza de la Marina Española Córdoba Córdoba 14011 Spain;X-APPLE-RADIUS=500;X-TITLE=Plaza de la Marina Española:geo:-4.80415,37.89153
END:VEVENT
BEGIN:VEVENT
DTSTART;VALUE=DATE:20290817
DTEND;VALUE=DATE:20290821
DTSTAMP:20260420T195221
CREATED:20250806T152648Z
LAST-MODIFIED:20250817T195554Z
UID:689410015757-1881630000-1881889199@www.cordoba.info
SUMMARY:Fiesta de Agosto Club Figueroa
DESCRIPTION:Del 15 al 17 de agosto se celebra en el Club Figueroa esta fiesta con casetas\, concursos\, música y convivencia entre vecinos. Uno de los eventos más esperados del verano cordobés. Incluye actividades sociales\, animaciones infantiles y diversión para todos los públicos en zona de piscina\, actuaciones musicales\, gala del deporte y celebración de Eucaristía\, en colaboración con la parroquia de Ntra. Señora de la Asunción\, parroquia del barrio.
URL:https://www.cordoba.info/evento/fiesta-de-agosto-club-figueroa-2/2029-08-17/
LOCATION:Club Figueroa\, Plaza de la Marina Española\, Córdoba\, Córdoba\, 14011\, Spain
CATEGORIES:Eventos familiares e infantiles,Fiestas populares
ATTACH;FMTTYPE=image/jpeg:https://www.cordoba.info/wp-content/uploads/sites/5/2025/08/Piscinas-Club-Figueroa.jpg
ORGANIZER;CN="Club Figueroa":MAILTO:clubfigueroa@club-figueroa.com
GEO:37.89153;-4.80415
X-APPLE-STRUCTURED-LOCATION;VALUE=URI;X-ADDRESS=Club Figueroa Plaza de la Marina Española Córdoba Córdoba 14011 Spain;X-APPLE-RADIUS=500;X-TITLE=Plaza de la Marina Española:geo:-4.80415,37.89153
END:VEVENT
BEGIN:VEVENT
DTSTART;VALUE=DATE:20300816
DTEND;VALUE=DATE:20300820
DTSTAMP:20260420T195221
CREATED:20250806T152648Z
LAST-MODIFIED:20250817T195554Z
UID:689410053891-1913079600-1913338799@www.cordoba.info
SUMMARY:Fiesta de Agosto Club Figueroa
DESCRIPTION:Del 15 al 17 de agosto se celebra en el Club Figueroa esta fiesta con casetas\, concursos\, música y convivencia entre vecinos. Uno de los eventos más esperados del verano cordobés. Incluye actividades sociales\, animaciones infantiles y diversión para todos los públicos en zona de piscina\, actuaciones musicales\, gala del deporte y celebración de Eucaristía\, en colaboración con la parroquia de Ntra. Señora de la Asunción\, parroquia del barrio.
URL:https://www.cordoba.info/evento/fiesta-de-agosto-club-figueroa-2/2030-08-16/
LOCATION:Club Figueroa\, Plaza de la Marina Española\, Córdoba\, Córdoba\, 14011\, Spain
CATEGORIES:Eventos familiares e infantiles,Fiestas populares
ATTACH;FMTTYPE=image/jpeg:https://www.cordoba.info/wp-content/uploads/sites/5/2025/08/Piscinas-Club-Figueroa.jpg
ORGANIZER;CN="Club Figueroa":MAILTO:clubfigueroa@club-figueroa.com
GEO:37.89153;-4.80415
X-APPLE-STRUCTURED-LOCATION;VALUE=URI;X-ADDRESS=Club Figueroa Plaza de la Marina Española Córdoba Córdoba 14011 Spain;X-APPLE-RADIUS=500;X-TITLE=Plaza de la Marina Española:geo:-4.80415,37.89153
END:VEVENT
END:VCALENDAR