BEGIN:VCALENDAR
VERSION:2.0
PRODID:-//Cordoba.info - ECPv6.14.2//NONSGML v1.0//EN
CALSCALE:GREGORIAN
METHOD:PUBLISH
X-ORIGINAL-URL:https://www.cordoba.info
X-WR-CALDESC:Eventos para Cordoba.info
REFRESH-INTERVAL;VALUE=DURATION:PT1H
X-Robots-Tag:noindex
X-PUBLISHED-TTL:PT1H
BEGIN:VTIMEZONE
TZID:Europe/Madrid
BEGIN:DAYLIGHT
TZOFFSETFROM:+0100
TZOFFSETTO:+0200
TZNAME:CEST
DTSTART:20250330T010000
END:DAYLIGHT
BEGIN:STANDARD
TZOFFSETFROM:+0200
TZOFFSETTO:+0100
TZNAME:CET
DTSTART:20251026T010000
END:STANDARD
END:VTIMEZONE
BEGIN:VEVENT
DTSTART;VALUE=DATE:20250815
DTEND;VALUE=DATE:20250819
DTSTAMP:20260421T021434
CREATED:20250806T152648Z
LAST-MODIFIED:20250817T195554Z
UID:689410015753-1755226800-1755485999@www.cordoba.info
SUMMARY:Fiesta de Agosto Club Figueroa
DESCRIPTION:Del 15 al 17 de agosto se celebra en el Club Figueroa esta fiesta con casetas\, concursos\, música y convivencia entre vecinos. Uno de los eventos más esperados del verano cordobés. Incluye actividades sociales\, animaciones infantiles y diversión para todos los públicos en zona de piscina\, actuaciones musicales\, gala del deporte y celebración de Eucaristía\, en colaboración con la parroquia de Ntra. Señora de la Asunción\, parroquia del barrio.
URL:https://www.cordoba.info/evento/fiesta-de-agosto-club-figueroa-2/2025-08-15/
LOCATION:Club Figueroa\, Plaza de la Marina Española\, Córdoba\, Córdoba\, 14011\, Spain
CATEGORIES:Eventos familiares e infantiles,Fiestas populares
ATTACH;FMTTYPE=image/jpeg:https://www.cordoba.info/wp-content/uploads/sites/5/2025/08/Piscinas-Club-Figueroa.jpg
ORGANIZER;CN="Club Figueroa":MAILTO:clubfigueroa@club-figueroa.com
GEO:37.89153;-4.80415
X-APPLE-STRUCTURED-LOCATION;VALUE=URI;X-ADDRESS=Club Figueroa Plaza de la Marina Española Córdoba Córdoba 14011 Spain;X-APPLE-RADIUS=500;X-TITLE=Plaza de la Marina Española:geo:-4.80415,37.89153
END:VEVENT
END:VCALENDAR