BEGIN:VCALENDAR
VERSION:2.0
PRODID:-//Cordoba.info - ECPv6.14.2//NONSGML v1.0//EN
CALSCALE:GREGORIAN
METHOD:PUBLISH
X-ORIGINAL-URL:https://www.cordoba.info
X-WR-CALDESC:Eventos para Cordoba.info
REFRESH-INTERVAL;VALUE=DURATION:PT1H
X-Robots-Tag:noindex
X-PUBLISHED-TTL:PT1H
BEGIN:VTIMEZONE
TZID:Europe/Madrid
BEGIN:DAYLIGHT
TZOFFSETFROM:+0100
TZOFFSETTO:+0200
TZNAME:CEST
DTSTART:20260329T010000
END:DAYLIGHT
BEGIN:STANDARD
TZOFFSETFROM:+0200
TZOFFSETTO:+0100
TZNAME:CET
DTSTART:20261025T010000
END:STANDARD
END:VTIMEZONE
BEGIN:VEVENT
DTSTART;TZID=Europe/Madrid:20260322T123000
DTEND;TZID=Europe/Madrid:20260322T140000
DTSTAMP:20260420T093433
CREATED:20260305T183650Z
LAST-MODIFIED:20260305T184226Z
UID:689410100178-1774182600-1774188000@www.cordoba.info
SUMMARY:El gran teatro del mundo: fecha\, lugar y detalles
DESCRIPTION:El gran teatro del mundo llega a su tercera y última representación programada por CECOSAM. La compañía Loyola Teatro\, de la Universidad Loyola Andalucía\, pone en escena esta obra cumbre de Pedro Calderón de la Barca bajo la dirección de Carmen Rey. En este emblemático escenario de la Avenida de los Custodios\, la metáfora de la vida como una función teatral cobra un sentido especial\, invitando al público a reflexionar sobre la existencia\, los roles sociales y la igualdad final de todos los seres humanos. \nSi estás buscando qué hacer en Córdoba este domingo\, esta función matinal es una de las propuestas culturales más profundas y estéticas del calendario local. Una oportunidad única de disfrutar gratis de una puesta en escena de primer nivel junto a las murallas y el entorno de San Basilio. \nHaz que tu mañana sea redonda uniendo el teatro con la esencia de la ciudad: \nHistoria Viva: Antes del teatro\, recorre las murallas del barrio de San Basilio y siente la herencia medieval de la ciudad. \nGastronomía de la Tierra: El evento termina a la hora perfecta para reservar en los Restaurantes de Córdoba cercanos a Vallellano y probar el auténtico rabo de toro o el salmorejo cordobés. \nPatrimonio Monumental: La Mezquita-Catedral y el Alcázar se encuentran a escasa distancia; visítalos para completar un domingo de inmersión cultural absoluta.
URL:https://www.cordoba.info/evento/el-gran-teatro-del-mundo-cordoba-custodios-2026/
LOCATION:Cementerio de la Salud (Ntra. Señora de la Salud)\, Avda. de los Custodios\, s/n\, España
CATEGORIES:Actividades al aire libre,Teatro y artes escénicas
ATTACH;FMTTYPE=image/png:https://www.cordoba.info/wp-content/uploads/sites/5/2026/03/Cartel-teatro-mundo-LA-SALUD.jpg.png
GEO:≈ 37.8756° N;≈ ‑4.7884° W entrepiedrasycipreses.comMapcartaWikimapia
X-APPLE-STRUCTURED-LOCATION;VALUE=URI;X-ADDRESS=Cementerio de la Salud (Ntra. Señora de la Salud) Avda. de los Custodios s/n España;X-APPLE-RADIUS=500;X-TITLE=Avda. de los Custodios\, s/n:geo:≈ ‑4.7884° W entrepiedrasycipreses.comMapcartaWikimapia,≈ 37.8756° N
END:VEVENT
BEGIN:VEVENT
DTSTART;TZID=Europe/Madrid:20260321T123000
DTEND;TZID=Europe/Madrid:20260321T140000
DTSTAMP:20260420T093433
CREATED:20260305T181523Z
LAST-MODIFIED:20260305T182256Z
UID:689410100177-1774096200-1774101600@www.cordoba.info
SUMMARY:El gran teatro del mundo: fecha\, lugar y detalles
DESCRIPTION:El gran teatro del mundo se representa en una ubicación excepcional: el entorno gestionado por CECOSAM en la Avenida de Libia (Cementerio de San Rafael). La compañía Loyola Teatro\, de la Universidad Loyola Andalucía\, pone en escena esta obra cumbre de Pedro Calderón de la Barca bajo la dirección de Carmen Rey. La pieza\, que utiliza la vida como una representación teatral donde cada personaje debe rendir cuentas de su actuación\, encuentra en este espacio el escenario perfecto para su mensaje sobre la existencia\, la igualdad ante el destino y la trascendencia. \nEsta función matinal es una de las propuestas culturales más originales y potentes del calendario local. Una oportunidad única de disfrutar del Siglo de Oro con una puesta en escena de gran nivel y acceso gratuito. \nHaz que tu sábado sea redondo uniendo la literatura con la exploración de la ciudad: \nHistoria Viva: Tras la función\, descubre la arquitectura del barrio de Cañero\, una de las zonas con más personalidad de la Córdoba del siglo XX. \nGastronomía de Barrio: Aprovecha la cercanía para almorzar en los Restaurantes de Córdoba de la zona sureste\, conocidos por sus generosas tapas y ambiente local. \nPatrimonio Monumental: Si te desplazas desde el centro\, inicia el día visitando la Mezquita-Catedral antes de poner rumbo a la Avenida de Libia para el show de las 12:30.
URL:https://www.cordoba.info/evento/el-gran-teatro-del-mundo-cordoba-cecosam-2026/
LOCATION:Cementerio de San Rafael\, Av. de Libia s/n\, España
CATEGORIES:Actividades al aire libre,Teatro y artes escénicas
ATTACH;FMTTYPE=image/png:https://www.cordoba.info/wp-content/uploads/sites/5/2026/03/Cartel-teatro-mundo-SAN-RAFAEL.jpg.png
GEO:37.88734° N;‑4.76110° W WikipediaDicesWikimapia
X-APPLE-STRUCTURED-LOCATION;VALUE=URI;X-ADDRESS=Cementerio de San Rafael Av. de Libia s/n España;X-APPLE-RADIUS=500;X-TITLE=Av. de Libia s/n:geo:‑4.76110° W WikipediaDicesWikimapia,37.88734° N
END:VEVENT
END:VCALENDAR