BEGIN:VCALENDAR
VERSION:2.0
PRODID:-//Cordoba.info - ECPv6.14.2//NONSGML v1.0//EN
CALSCALE:GREGORIAN
METHOD:PUBLISH
X-WR-CALNAME:Cordoba.info
X-ORIGINAL-URL:https://www.cordoba.info
X-WR-CALDESC:Eventos para Cordoba.info
REFRESH-INTERVAL;VALUE=DURATION:PT1H
X-Robots-Tag:noindex
X-PUBLISHED-TTL:PT1H
BEGIN:VTIMEZONE
TZID:Europe/Madrid
BEGIN:DAYLIGHT
TZOFFSETFROM:+0100
TZOFFSETTO:+0200
TZNAME:CEST
DTSTART:20260329T010000
END:DAYLIGHT
BEGIN:STANDARD
TZOFFSETFROM:+0200
TZOFFSETTO:+0100
TZNAME:CET
DTSTART:20261025T010000
END:STANDARD
END:VTIMEZONE
BEGIN:VEVENT
DTSTART;TZID=Europe/Madrid:20260604T190000
DTEND;TZID=Europe/Madrid:20260604T213000
DTSTAMP:20260420T014532
CREATED:20250806T154420Z
LAST-MODIFIED:20260415T064641Z
UID:689410015371-1780599600-1780608600@www.cordoba.info
SUMMARY:Corpus Christi
DESCRIPTION:Vivir el Corpus Christi en Córdoba es sumergirse en una tradición que se remonta siglos atrás\, cuando la ciudad recibió el privilegio papal de realizar su procesión en la tarde del domingo. El evento no es solo un acto litúrgico; es una experiencia sensorial. Las calles del entorno de la Catedral se alfombran con romero y plantas aromáticas\, mientras que el aroma a incienso envuelve los muros de piedra de la Judería. \nEl epicentro es la imponente Custodia procesional\, una joya de la orfebrería que recorre las calles bajo el respeto de miles de cordobeses. Durante el trayecto\, las hermandades de la ciudad compiten en belleza instalando altares efímeros que son verdaderas obras de arte sacro. Es el momento perfecto para entender la idiosincrasia de una ciudad que cuida sus raíces con un mimo exquisito\, combinando el silencio del rezo con la elegancia de sus túnicas y mantillas. \nEl Corpus Christi en Córdoba destaca por su orden y su estética impecable. \nLa jornada comienza con la Solemne Eucaristía en el Altar Mayor de la Mezquita-Catedral de Córdoba\, presidida por el Obispo. Tras la misa\, el cortejo sale por la Puerta del Perdón\, iniciando un itinerario que busca la sombra de las calles estrechas para protegerse del sol de junio con la representación de todas las Hermandades de Penitencia y de Gloria de la ciudad que procesionan por orden de antigüedad. \n\nLos altares eucarísticos\nEs fundamental prestar atención a los altares eucarísticos montados por las cofradías. Estos se ubican en puntos estratégicos como la calle Cardenal González o la Plaza de las Tendillas. La música también juega un papel crucial\, con la presencia de bandas de cornetas y tambores que interpretan marchas procesionales de corte clásico\, elevando la emotividad del desfile. \nSi buscas la esencia de la Córdoba eterna\, este es el evento que mejor la define.
URL:https://www.cordoba.info/evento/corpus-christi-cordoba-2026/
LOCATION:Santa Iglesia Catedral (Mezquita-Catedral)\, Calle Cardenal Hererro\, 1\, Córdoba\, Córdoba\, 14002\, Spain
CATEGORIES:Actividades al aire libre,Eventos religiosos y procesiones
ATTACH;FMTTYPE=image/png:https://www.cordoba.info/wp-content/uploads/sites/5/2025/08/Imagen-generada-por-IA-del-Corpus-de-Cordoba.png
GEO:3.787.903;−4.77981 ([turn0search21]turn0search5)
X-APPLE-STRUCTURED-LOCATION;VALUE=URI;X-ADDRESS=Santa Iglesia Catedral (Mezquita-Catedral) Calle Cardenal Hererro 1 Córdoba Córdoba 14002 Spain;X-APPLE-RADIUS=500;X-TITLE=Calle Cardenal Hererro\, 1:geo:−4.77981 ([turn0search21]turn0search5),3.787.903
END:VEVENT
END:VCALENDAR