BEGIN:VCALENDAR
VERSION:2.0
PRODID:-//Cordoba.info - ECPv6.14.2//NONSGML v1.0//EN
CALSCALE:GREGORIAN
METHOD:PUBLISH
X-WR-CALNAME:Cordoba.info
X-ORIGINAL-URL:https://www.cordoba.info
X-WR-CALDESC:Eventos para Cordoba.info
REFRESH-INTERVAL;VALUE=DURATION:PT1H
X-Robots-Tag:noindex
X-PUBLISHED-TTL:PT1H
BEGIN:VTIMEZONE
TZID:Europe/Madrid
BEGIN:DAYLIGHT
TZOFFSETFROM:+0100
TZOFFSETTO:+0200
TZNAME:CEST
DTSTART:20250330T010000
END:DAYLIGHT
BEGIN:STANDARD
TZOFFSETFROM:+0200
TZOFFSETTO:+0100
TZNAME:CET
DTSTART:20251026T010000
END:STANDARD
BEGIN:DAYLIGHT
TZOFFSETFROM:+0100
TZOFFSETTO:+0200
TZNAME:CEST
DTSTART:20260329T010000
END:DAYLIGHT
BEGIN:STANDARD
TZOFFSETFROM:+0200
TZOFFSETTO:+0100
TZNAME:CET
DTSTART:20261025T010000
END:STANDARD
END:VTIMEZONE
BEGIN:VEVENT
DTSTART;VALUE=DATE:20260327
DTEND;VALUE=DATE:20260407
DTSTAMP:20260420T055954
CREATED:20250828T130226Z
LAST-MODIFIED:20260225T212616Z
UID:689410076740-1774580400-1775444399@www.cordoba.info
SUMMARY:Semana Santa de Córdoba 2026
DESCRIPTION:La Semana Santa de Córdoba 2026 volverá a ser\, más que un calendario de procesiones\, una forma de vivir la ciudad. Durante siete días —desde el Domingo de Ramos hasta el Domingo de Resurrección— Córdoba se transforma sin dejar de ser ella misma: calles estrechas que se silencian\, plazas que se llenan de espera y barrios que se reconocen en sus hermandades. \nNo es una Semana Santa pensada para el espectáculo rápido. Aquí el tiempo se dilata. El paso avanza despacio\, el sonido manda —una marcha lejana\, un rezo\, el golpe seco del llamador— y el público sabe cuándo hablar y cuándo callar. En 2026\, como cada año\, la ciudad volverá a mirarse a sí misma a través de sus cofradías. \nLa ciudad como escenario (y protagonista)\nLas hermandades parten de parroquias vivas\, no de decorados. San Lorenzo\, San Andrés\, San Pedro\, la Axerquía o el Campo de la Verdad no son solo puntos del recorrido: son lugares con memoria\, donde la Semana Santa se prepara durante todo el año. \nEl paso por la Mezquita-Catedral de Córdoba sigue siendo uno de los momentos más reconocibles. No por grandilocuencia\, sino por contraste: la piedra milenaria\, la luz contenida y el sonido medido convierten ese tramo en un punto de máxima concentración emocional y simbólica. \nSonidos\, ritmos y silencios\nLa Semana Santa cordobesa se reconoce por su equilibrio. Hay tardes de bullicio y noches de recogimiento. Hay palios que avanzan con cadencia suave y pasos de Cristo que caminan casi en silencio\, acompañados por promesas cumplidas. \n  \nEl sonido no es constante\, y eso lo hace más intenso: \n\nuna banda que aparece al fondo de la calle\,\nun capataz que mide el momento exacto\,\nun público que guarda silencio sin que nadie lo pida.\n\n  \nEn 2026\, ese lenguaje no escrito volverá a funcionar porque forma parte de la cultura compartida. \nHermandades\, barrio y continuidad\nLas hermandades no pasan: pertenecen. Mantienen vínculos sociales\, asistenciales y religiosos que se hacen visibles en estos días\, pero que existen todo el año. Por eso la Semana Santa de Córdoba no se entiende sin su dimensión cotidiana. \nEl relevo generacional\, la convivencia entre tradición y presente\, y el cuidado del patrimonio seguirán marcando una Semana Santa que no se reinventa cada año\, pero tampoco se repite sin conciencia. \nCórdoba en estado puro\nLa Semana Santa de Córdoba 2026 no busca impresionar: busca permanecer. En la memoria de quien vuelve\, en el barrio que espera a su hermandad\, en el silencio justo antes de que un paso cruce una esquina. \nEs una celebración donde la fe\, la historia y la ciudad se cruzan sin ruido innecesario. Y por eso\, año tras año\, sigue teniendo sentido.
URL:https://www.cordoba.info/evento/semana-santa-de-cordoba-2026/
CATEGORIES:Eventos religiosos y procesiones
ATTACH;FMTTYPE=image/jpeg:https://www.cordoba.info/wp-content/uploads/sites/5/2025/08/SEMANA_SANTA_CALVARIO_CORDOBA_07.jpg
END:VEVENT
BEGIN:VEVENT
DTSTART;TZID=Europe/Madrid:20251011T151000
DTEND;TZID=Europe/Madrid:20251012T025000
DTSTAMP:20260420T055954
CREATED:20250807T103458Z
LAST-MODIFIED:20250910T214604Z
UID:689410032030-1760195400-1760237400@www.cordoba.info
SUMMARY:Magna Procesión de Córdoba 2025
DESCRIPTION:La Magna Procesión de Córdoba 2025\, también conocida como Vía Crucis Magno\, tendrá lugar el sábado 11 de octubre y congregará a 34 hermandades de la ciudad y la provincia en una celebración sin precedentes para conmemorar el 600 aniversario del primer rezo del Santo Vía Crucis en Occidente\, originado en 1425 en el convento de Scala Coeli gracias al beato cordobés Álvaro de Córdoba. \nBajo el lema “Córdoba\, Vía Sacra de Occidente”\, este magno acontecimiento se desarrollará en el marco del Jubileo 2025 y contará con la participación activa del obispo\, el Cabildo Catedral y miles de fieles. \nLa procesión recorrerá el entorno de la Mezquita-Catedral de Córdoba\, convirtiendo la ciudad en epicentro de la religiosidad y la cultura cofrade. Las hermandades participantes se agrupan en bloques temáticos que reflejan la espiritualidad del Vía Crucis y la devoción de siglos. Se prevé la asistencia de miles de personas y una destacada repercusión artística\, espiritual y turística\, reafirmando a Córdoba como referente internacional en celebraciones religiosas y tradiciones populares \nLos municipios con representación son Palma del Río\, La Rambla\, Pozoblanco\, Cabra\, Montilla\, El Carpio\, Priego de Córdoba\, Lucena\, Montoro\, Fernán Núñez\, Puente Genil\, Aguilar de la Frontera y la capital.
URL:https://www.cordoba.info/evento/magna-procesion-2025/
LOCATION:Santa Iglesia Catedral (Mezquita-Catedral)\, Calle Cardenal Hererro\, 1\, Córdoba\, Córdoba\, 14002\, Spain
CATEGORIES:Eventos religiosos y procesiones,Misas
ATTACH;FMTTYPE=image/jpeg:https://www.cordoba.info/wp-content/uploads/sites/5/2025/08/Logo-Magno-Via-Crucis-de-las-Cofradias-de-la-Diocesis-de-Cordoba-2025.jpg
GEO:3.787.903;−4.77981 ([turn0search21]turn0search5)
X-APPLE-STRUCTURED-LOCATION;VALUE=URI;X-ADDRESS=Santa Iglesia Catedral (Mezquita-Catedral) Calle Cardenal Hererro 1 Córdoba Córdoba 14002 Spain;X-APPLE-RADIUS=500;X-TITLE=Calle Cardenal Hererro\, 1:geo:−4.77981 ([turn0search21]turn0search5),3.787.903
END:VEVENT
END:VCALENDAR