BEGIN:VCALENDAR
VERSION:2.0
PRODID:-//Cordoba.info - ECPv6.14.2//NONSGML v1.0//EN
CALSCALE:GREGORIAN
METHOD:PUBLISH
X-ORIGINAL-URL:https://www.cordoba.info
X-WR-CALDESC:Eventos para Cordoba.info
REFRESH-INTERVAL;VALUE=DURATION:PT1H
X-Robots-Tag:noindex
X-PUBLISHED-TTL:PT1H
BEGIN:VTIMEZONE
TZID:Europe/Madrid
BEGIN:DAYLIGHT
TZOFFSETFROM:+0100
TZOFFSETTO:+0200
TZNAME:CEST
DTSTART:20250330T010000
END:DAYLIGHT
BEGIN:STANDARD
TZOFFSETFROM:+0200
TZOFFSETTO:+0100
TZNAME:CET
DTSTART:20251026T010000
END:STANDARD
BEGIN:DAYLIGHT
TZOFFSETFROM:+0100
TZOFFSETTO:+0200
TZNAME:CEST
DTSTART:20260329T010000
END:DAYLIGHT
BEGIN:STANDARD
TZOFFSETFROM:+0200
TZOFFSETTO:+0100
TZNAME:CET
DTSTART:20261025T010000
END:STANDARD
END:VTIMEZONE
BEGIN:VEVENT
DTSTART;TZID=Europe/Madrid:20260411T213000
DTEND;TZID=Europe/Madrid:20260411T233000
DTSTAMP:20260422T124942
CREATED:20260326T181111Z
LAST-MODIFIED:20260326T181456Z
UID:689410101142-1775943000-1775950200@www.cordoba.info
SUMMARY:Mamá Ladilla en Córdoba: Presentación de 'Molestar General'
DESCRIPTION:Mamá Ladilla en Córdoba aterriza el próximo sábado 11 de abril para incendiar el escenario del Ambigú Axerquía. La mítica banda liderada por Juan Abarca regresa al sur para presentar su nuevo trabajo de estudio\, «Molestar General»\, un álbum que mantiene intacta su capacidad para la crítica mordaz\, el humor surrealista y esa complejidad musical que los hace únicos. En este directo\, el grupo promete no solo «escupir» sus nuevas canciones\, sino también remover su extenso fondo de armario para ofrecer un repertorio variado que repasará sus tres décadas de trayectoria. \nLa propuesta de Mamá Ladilla en Córdoba destaca por su dualidad: letras que parecen bromas pero encierran verdades como puños\, sostenidas por una ejecución técnica impecable. Si buscas eventos que garanticen un pogo liberador y un despliegue de rock alternativo sin filtros\, la visita de Mamá Ladilla al Ambigú es el plan de sábado definitivo. \nPrepárate para una descarga de energía\, risas y guitarrazos. Una cita ineludible para los amantes del rock con neuronas y para quienes buscan un directo potente en una de las salas con mejores vistas de la ciudad.
URL:https://www.cordoba.info/evento/mama-ladilla-en-cordoba-presentacion-de-molestar-general/
LOCATION:Teatro de la Axerquía\, Avenida Menéndez Pidal\, 1\, Córdoba\, Córdoba\, Spain
CATEGORIES:Espectáculos y conciertos
ATTACH;FMTTYPE=image/png:https://www.cordoba.info/wp-content/uploads/sites/5/2026/03/MAMA-LADILLA.-Sala-Ambigu.-Cordoba.-Sabado-11-Abril-2026.png
END:VEVENT
BEGIN:VEVENT
DTSTART;TZID=Europe/Madrid:20260408T080000
DTEND;TZID=Europe/Madrid:20260408T170000
DTSTAMP:20260422T124942
CREATED:20260408T180423Z
LAST-MODIFIED:20260408T180423Z
UID:689410101910-1775635200-1775667600@www.cordoba.info
SUMMARY:Luz Casal en Córdoba: Una Noche con Nat Simons & Aurora Beltrán
DESCRIPTION:Luz Casal en Córdoba aterriza el próximo 8 de julio para protagonizar una velada histórica en el Teatro de la Axerquía. Dentro de la programación del 45º Festival de la Guitarra\, la artista gallega\, poseedora de una de las carreras más sólidas e internacionales de nuestra música\, regresa para repasar sus grandes himnos y presentar sus trabajos más recientes. No estará sola: la noche se completa con la presencia de la mítica Aurora Beltrán (líder de Tahúres Zurdos) y el talento renovador de Nat Simons\, conformando una tríada de mujeres que han hecho de la guitarra y la voz su mejor arma de expresión. \nLa propuesta de Luz Casal en Córdoba destaca por su equilibrio entre la veteranía y la frescura. Mientras Luz aporta su maestría interpretativa y Aurora Beltrán la fuerza del rock estatal más auténtico\, Nat Simons llega como la gran esperanza del rock y americana en castellano. Si buscas eventos en Córdoba hoy (o para tu agenda de julio) que garanticen emoción\, guitarras afiladas y textos cuidados\, este triplete femenino es la apuesta más segura del Festival.
URL:https://www.cordoba.info/evento/luz-casal-cordoba-festival-guitarra-2026/
LOCATION:Teatro de la Axerquía\, Avenida Menéndez Pidal\, 1\, Córdoba\, Córdoba\, Spain
CATEGORIES:Espectáculos y conciertos
ATTACH;FMTTYPE=image/jpeg:https://www.cordoba.info/wp-content/uploads/sites/5/2026/04/20260217225320_1771365200.4727LUZCASAL.jpg
END:VEVENT
BEGIN:VEVENT
DTSTART;TZID=Europe/Madrid:20251003T210000
DTEND;TZID=Europe/Madrid:20251004T003000
DTSTAMP:20260422T124942
CREATED:20260212T195105Z
LAST-MODIFIED:20260212T195442Z
UID:689410099919-1759525200-1759537800@www.cordoba.info
SUMMARY:ETERNOS Music Party: el gran festival de los años 80
DESCRIPTION:ETERNOS Music Party es mucho más que un concierto; es un festival trepidante donde un éxito da paso a otro sin descanso. El cartel reúne a cuatro figuras fundamentales de la música española: Rafa Sánchez (la voz carismática de La Unión)\, Alejo Stivel (líder de los míticos Tequila)\, Javier Gurruchaga junto a su Orquesta Mondragón\, y el toque elegante de José María Guzmán con Cadillac. \nEl repertorio es un arsenal de himnos inmortales. Sonarán temas como Lobo-hombre en París (que recientemente celebró su 40 aniversario)\, el poder rockero de Salta! y Rock and Roll en la plaza del pueblo\, la excentricidad divertida de Viaje con nosotros y Caperucita feroz\, o la cuidada melodía de Vivir al este del Edén. Con músicos de primer nivel y la energía intacta de sus solistas\, este evento en el Teatro de la Axerquía es la oportunidad perfecta para revivir la década más brillante de nuestra música en un formato dinámico y festivo. \nLa celebración de ETERNOS Music Party destaca por su compromiso con la accesibilidad y la calidad artística original. \nVoces Originales: A diferencia de otras giras de nostalgia\, aquí los protagonistas son los intérpretes y compositores originales de cada formación. \nFormato Festival: Un show continuo de grandes éxitos diseñado para mantener la intensidad alta de principio a fin. \nInclusión: El evento cuenta con mochilas vibratorias para personas con discapacidad auditiva (bajo solicitud previa 72 horas antes en g_protocolo.imae@ayuncordoba.es).
URL:https://www.cordoba.info/evento/eternos-music-party-cordoba-axerquia-80s/
LOCATION:Teatro de la Axerquía\, Avenida Menéndez Pidal\, 1\, Córdoba\, Córdoba\, Spain
CATEGORIES:Espectáculos y conciertos
ATTACH;FMTTYPE=image/jpeg:https://www.cordoba.info/wp-content/uploads/sites/5/2026/02/Eternos_1080x1920-800x1422-1.jpg
END:VEVENT
BEGIN:VEVENT
DTSTART;TZID=Europe/Madrid:20251003T210000
DTEND;TZID=Europe/Madrid:20251004T000000
DTSTAMP:20260422T124942
CREATED:20250807T181735Z
LAST-MODIFIED:20250813T051332Z
UID:689410037783-1759525200-1759536000@www.cordoba.info
SUMMARY:ETERNOS. Music Party Córdoba
DESCRIPTION:Prepárate para una noche épica con el mejor pop y rock español de los años 80. El escenario se llena de historia viva con las voces originales de grandes himnos que marcaron a toda una generación. Rafa Sánchez\, ex vocalista de La Unión\, celebrará más de cuatro décadas del mítico Lobo-hombre en París; Alejo Stivel\, alma de Tequila\, hará saltar al público con clásicos como Salta o Rock and roll en la plaza del pueblo; el inclasificable y brillante Javier Gurruchaga\, al frente de la Orquesta Mondragón\, promete un show tan excéntrico como inolvidable; y José María Guzmán\, componente de Cadillac y figura clave del pop más elegante de la época\, pondrá el broche de oro con su inconfundible estilo. \nUn festival en formato concierto donde los hits no paran de sonar: Vivir al Este del Edén\, Viaje con nosotros\, Caperucita feroz\, Pensando en ti\, Perdí mi oportunidad… y muchos más. Todos interpretados por quienes los hicieron grandes. \nSerá una auténtica fiesta revival para corear cada estribillo\, emocionarse con los recuerdos y bailar hasta el último acorde. Una cita imprescindible para quienes vivieron los 80… y para quienes quieren descubrir por qué aquella década fue la edad de oro de la música española.
URL:https://www.cordoba.info/evento/eternos-music-party-cordoba/
LOCATION:Teatro de la Axerquía\, Avenida Menéndez Pidal\, 1\, Córdoba\, Córdoba\, Spain
CATEGORIES:Espectáculos y conciertos
ATTACH;FMTTYPE=image/jpeg:https://www.cordoba.info/wp-content/uploads/sites/5/2025/08/Eternos-Music-Party.jpg
END:VEVENT
END:VCALENDAR