BEGIN:VCALENDAR
VERSION:2.0
PRODID:-//Cordoba.info - ECPv6.14.2//NONSGML v1.0//EN
CALSCALE:GREGORIAN
METHOD:PUBLISH
X-WR-CALNAME:Cordoba.info
X-ORIGINAL-URL:https://www.cordoba.info
X-WR-CALDESC:Eventos para Cordoba.info
REFRESH-INTERVAL;VALUE=DURATION:PT1H
X-Robots-Tag:noindex
X-PUBLISHED-TTL:PT1H
BEGIN:VTIMEZONE
TZID:Europe/Madrid
BEGIN:DAYLIGHT
TZOFFSETFROM:+0100
TZOFFSETTO:+0200
TZNAME:CEST
DTSTART:20250330T010000
END:DAYLIGHT
BEGIN:STANDARD
TZOFFSETFROM:+0200
TZOFFSETTO:+0100
TZNAME:CET
DTSTART:20251026T010000
END:STANDARD
BEGIN:DAYLIGHT
TZOFFSETFROM:+0100
TZOFFSETTO:+0200
TZNAME:CEST
DTSTART:20260329T010000
END:DAYLIGHT
BEGIN:STANDARD
TZOFFSETFROM:+0200
TZOFFSETTO:+0100
TZNAME:CET
DTSTART:20261025T010000
END:STANDARD
END:VTIMEZONE
BEGIN:VEVENT
DTSTART;TZID=Europe/Madrid:20260331T165000
DTEND;TZID=Europe/Madrid:20260401T015000
DTSTAMP:20260421T111452
CREATED:20260121T203336Z
LAST-MODIFIED:20260331T092537Z
UID:689410096562-1774975800-1775008200@www.cordoba.info
SUMMARY:Procesión de La Agonía
DESCRIPTION:Siga la procesión en tiempo real\, aquí \n  \nLa Hermandad de la Agonía nació en el barrio del Naranjo a finales de los años setenta. Desde sus inicios\, la cofradía mantiene un vínculo estrecho con la Iglesia de Santa Victoria. Su devoción principal se centra en el Santísimo Cristo de la Agonía\, una imponente talla de 1954. De hecho\, la corporación incorporó en 1988 a Nuestra Señora de la Salud\, reforzando su identidad mariana. Por este motivo\, la hermandad representa hoy una de las fuerzas vivas más importantes de la Semana Santa de Córdoba. \nUn hito histórico en la Fuensanta \nEste 2026 marca un antes y un después en la trayectoria de la corporación. Por primera vez en su historia\, la Hermandad de la Agonía en Córdoba comenzará su estación de penitencia desde el Santuario de la Fuensanta. Asimismo\, este cambio de sede para la salida procesional añade un carácter extraordinario a la jornada del Martes Santo. La cofradía afronta tradicionalmente uno de los recorridos más largos de la ciudad\, demostrando la enorme entrega de sus nazarenos. \nEstética y personalidad de barrio \nLa hermandad destaca por un patrimonio artístico en constante crecimiento. El paso del Cristo luce un elegante estilo renacentista y camina acompañado por una banda de cornetas y tambores. Los hermanos visten túnica y cubrerrostro morados con capa blanca\, una estética ya consolidada en el panorama cofrade. En consecuencia\, la Hermandad de la Agonía en Córdoba combina sus raíces populares con un rigor ejemplar. Su presencia en las calles cordobesas es sinónimo de fe\, esfuerzo y personalidad propia. \n  \n 
URL:https://www.cordoba.info/evento/hermandad-agonia-cordoba-naranjo-fuensanta/
LOCATION:Santuario de Ntra. Sra. de la Fuensanta\, Pl. Santuario de la Fuensanta\, s/n\, Córdoba\, Córdoba\, 14010\, Spain
CATEGORIES:Eventos religiosos y procesiones
ATTACH;FMTTYPE=image/jpeg:https://www.cordoba.info/wp-content/uploads/sites/5/2026/01/SEMANA_SANTA_AGONIA_CORDOBA_01.jpg
END:VEVENT
BEGIN:VEVENT
DTSTART;VALUE=DATE:20250905
DTEND;VALUE=DATE:20250910
DTSTAMP:20260421T111452
CREATED:20250806T154345Z
LAST-MODIFIED:20250813T053614Z
UID:689410042590-1757041200-1757386799@www.cordoba.info
SUMMARY:Velá de la Fuensanta
DESCRIPTION:La Velá de la Fuensanta – Fiesta popular y devoción en el corazón de Córdoba\nCada septiembre\, Córdoba celebra una de sus fiestas más queridas y con mayor arraigo vecinal: La Velá de la Fuensanta\, en honor a la Virgen de la Fuensanta\, copatrona de la ciudad. Esta cita\, profundamente cordobesa\, combina religiosidad\, tradición\, gastronomía\, cultura y entretenimiento popular. \nEl epicentro de la fiesta se sitúa en la Plaza del Pocito\, la Avenida de la Fuensanta\, la calle Conquistador Ordoño Álvarez y alrededores. Allí se instalan alrededor de 30 puestos y atracciones\, incluyendo los clásicos de campanitas\, globos\, algodón dulce\, tiro al blanco o el tren de la bruja. Las noches se animan con actuaciones de copla\, flamenco\, pasacalles\, coros rocieros y batucadas\, en un ambiente festivo y familiar. \nUno de los momentos más esperados es el Día del Niño\, con precios especiales en las atracciones\, así como las degustaciones populares organizadas por asociaciones del barrio: sardiná\, huevá\, salmorejá y frutas frescas\, en colaboración con MercaCórdoba. \nLa eucaristía solemne del día 8 de septiembre en el Santuario de la Fuensanta marca el punto culminante de la celebración religiosa. \nAdemás\, dentro del programa\, destaca la ya tradicional Ruta del Caimán\, organizada por el Club de Piragüismo Córdoba: paseos en piragua por el Guadalquivir\, abiertos a todas las edades\, que permiten disfrutar del río y del paisaje urbano de forma diferente y divertida. \nLa Velá de la Fuensanta no es solo una fiesta\, es una expresión viva de la identidad cordobesa\, donde las asociaciones vecinales\, cofradías y ciudadanos se convierten en los verdaderos protagonistas. Si visitas Córdoba en septiembre\, esta es una cita imprescindible.
URL:https://www.cordoba.info/evento/vela-de-la-fuensanta/
LOCATION:Santuario de Ntra. Sra. de la Fuensanta\, Pl. Santuario de la Fuensanta\, s/n\, Córdoba\, Córdoba\, 14010\, Spain
CATEGORIES:Ferias y festivales,Fiestas populares
ATTACH;FMTTYPE=image/png:https://www.cordoba.info/wp-content/uploads/sites/5/2025/08/Campanita-de-la-Vela-de-la-Fuensanta.png
END:VEVENT
END:VCALENDAR