BEGIN:VCALENDAR
VERSION:2.0
PRODID:-//Cordoba.info - ECPv6.14.2//NONSGML v1.0//EN
CALSCALE:GREGORIAN
METHOD:PUBLISH
X-WR-CALNAME:Cordoba.info
X-ORIGINAL-URL:https://www.cordoba.info
X-WR-CALDESC:Eventos para Cordoba.info
REFRESH-INTERVAL;VALUE=DURATION:PT1H
X-Robots-Tag:noindex
X-PUBLISHED-TTL:PT1H
BEGIN:VTIMEZONE
TZID:Europe/Madrid
BEGIN:DAYLIGHT
TZOFFSETFROM:+0100
TZOFFSETTO:+0200
TZNAME:CEST
DTSTART:20260329T010000
END:DAYLIGHT
BEGIN:STANDARD
TZOFFSETFROM:+0200
TZOFFSETTO:+0100
TZNAME:CET
DTSTART:20261025T010000
END:STANDARD
END:VTIMEZONE
BEGIN:VEVENT
DTSTART;TZID=Europe/Madrid:20260417T200000
DTEND;TZID=Europe/Madrid:20260419T133000
DTSTAMP:20260420T143745
CREATED:20260310T210035Z
LAST-MODIFIED:20260310T210426Z
UID:689410100183-1776456000-1776605400@www.cordoba.info
SUMMARY:Kiko del Show en Córdoba: fecha\, lugar y entradas
DESCRIPTION:Kiko del Show en Córdoba presenta una propuesta radicalmente distinta al ilusionismo convencional. Este espectáculo\, diseñado específicamente para un público adulto (recomendado para mayores de 16 años)\, fusiona la magia de cerca con un humor afilado\, irreverente y descarado. A través de la improvisación\, la música y una energía inagotable\, el Mago Kiko rompe la «cuarta pared» para que el espectador no solo observe\, sino que forme parte activa del «lío» en una noche políticamente incorrecta y sorprendente. \nEl show de Kiko ofrece una experiencia inmersiva completa que incluye un tour exclusivo por los secretos de la Sala Abracadabra antes de que comience el espectáculo principal. \nLa propuesta de Kiko del Show en Córdoba se enmarca dentro de la «Experiencia Mágica» de la Sala Abracadabra. La velada comienza con un mini-tour guiado por las instalaciones donde descubrirás objetos originales de magia\, el aula de formación y curiosidades del mundo del ilusionismo. Posteriormente\, vivirás 60 minutos de show exclusivo. Si buscas eventos en Córdoba que rompan con lo tradicional y garanticen risas y asombro a partes iguales\, esta es la cita perfecta.
URL:https://www.cordoba.info/evento/kiko-del-show-en-cordoba-fecha-lugar-y-entradas/
LOCATION:Sala Abracadabra\, C/ Noriega 9B - Polígono Tecnocórdoba\, Las Quemadas\, Córdoba\, Córdoba\, 14014\, Spain
CATEGORIES:Espectáculos y conciertos
ATTACH;FMTTYPE=image/png:https://www.cordoba.info/wp-content/uploads/sites/5/2026/03/IMG-1316.png
END:VEVENT
BEGIN:VEVENT
DTSTART;TZID=Europe/Madrid:20260327T200000
DTEND;TZID=Europe/Madrid:20260328T213000
DTSTAMP:20260420T143745
CREATED:20260309T213854Z
LAST-MODIFIED:20260310T203916Z
UID:689410100182-1774641600-1774733400@www.cordoba.info
SUMMARY:La Noche de los Imposibles: Isaac Deck reinventa la magia en la Sala Abracadabra
DESCRIPTION:La Noche de los Imposibles supone el estreno más esperado de la temporada para los amantes del ilusionismo. Isaac Deck\, uno de los nombres con más proyección del panorama mágico actual\, presenta un show donde lo imposible deja de serlo. Olvida los trucos convencionales; aquí la narrativa y la emoción se dan la mano en un espectáculo diseñado para dejar huella. \nEl último fin de semana de marzo\, la capital cordobesa se llena de misterio. La programación de La Noche de los Imposibles en Córdoba es el plan ideal para aquellos que buscan una alternativa al ocio tradicional. Si buscas planes culturales en Córdoba\, la Sala Abracadabra ofrece una experiencia inmersiva única: desde descubrir los secretos del aula de formación hasta alucinar con las predicciones inéditas de Isaac Deck. \nLa propuesta de La Noche de los Imposibles destaca por su formato «Experiencia Mágica». Antes del show principal de Isaac Deck\, los asistentes disfrutan de un mini-tour guiado por la Sala Abracadabra\, donde pueden descubrir objetos originales\, fotocalls y el aula de formación de la escuela. Además\, la sala ofrece servicio de refrescos\, palomitas y una tienda de artículos mágicos para los que quieran iniciarse en este arte. Si buscas eventos en Córdoba que ofrezcan algo más que una simple butaca\, este estreno es imprescindible.
URL:https://www.cordoba.info/evento/noche-de-los-imposibles-cordoba-isaac-deck-2026/
LOCATION:Sala Abracadabra\, C/ Noriega 9B - Polígono Tecnocórdoba\, Las Quemadas\, Córdoba\, Córdoba\, 14014\, Spain
CATEGORIES:Espectáculos y conciertos
ATTACH;FMTTYPE=image/png:https://www.cordoba.info/wp-content/uploads/sites/5/2026/03/IMG-0273.png
END:VEVENT
BEGIN:VEVENT
DTSTART;TZID=Europe/Madrid:20260313T200000
DTEND;TZID=Europe/Madrid:20260313T213000
DTSTAMP:20260420T143745
CREATED:20260304T182502Z
LAST-MODIFIED:20260309T212204Z
UID:689410100011-1773432000-1773437400@www.cordoba.info
SUMMARY:Hipnotízate: fecha\, lugar y entradas
DESCRIPTION:Hipnotízate es la oportunidad definitiva para vivir en primera persona lo que siempre has visto a través de la pantalla. El reconocido mago e hipnotista gaditano Magic Jose aterriza en la Sala Abracadabra con un espectáculo diseñado para romper moldes. No es solo un show para ver\, es un show para sentir: una experiencia inmersiva donde los voluntarios del público se convierten en los verdaderos protagonistas bajo los efectos de la sugestión y el asombro. \nLa propuesta de Hipnotízate destaca por su cercanía. Magic Jose\, con su estilo dinámico y el desparpajo propio de su origen gaditano\, crea un entorno seguro y divertido para explorar los límites de la mente humana. Desde efectos de magia clásica hasta demostraciones de hipnosis profunda\, el show está pensado para que tanto el espectador pasivo como el voluntario vivan una noche inolvidable. Si buscas eventos en Córdoba que se salgan de lo convencional\, esta es tu cita.
URL:https://www.cordoba.info/evento/hipnotizate-cordoba-magic-jose-sala-abracadabra-2026/
LOCATION:Sala Abracadabra\, C/ Noriega 9B - Polígono Tecnocórdoba\, Las Quemadas\, Córdoba\, Córdoba\, 14014\, Spain
CATEGORIES:Espectáculos y conciertos
ATTACH;FMTTYPE=image/png:https://www.cordoba.info/wp-content/uploads/sites/5/2026/03/magicjose4_0.jpg.png
END:VEVENT
END:VCALENDAR