BEGIN:VCALENDAR
VERSION:2.0
PRODID:-//Cordoba.info - ECPv6.14.2//NONSGML v1.0//EN
CALSCALE:GREGORIAN
METHOD:PUBLISH
X-WR-CALNAME:Cordoba.info
X-ORIGINAL-URL:https://www.cordoba.info
X-WR-CALDESC:Eventos para Cordoba.info
REFRESH-INTERVAL;VALUE=DURATION:PT1H
X-Robots-Tag:noindex
X-PUBLISHED-TTL:PT1H
BEGIN:VTIMEZONE
TZID:Europe/Madrid
BEGIN:DAYLIGHT
TZOFFSETFROM:+0100
TZOFFSETTO:+0200
TZNAME:CEST
DTSTART:20260329T010000
END:DAYLIGHT
BEGIN:STANDARD
TZOFFSETFROM:+0200
TZOFFSETTO:+0100
TZNAME:CET
DTSTART:20261025T010000
END:STANDARD
END:VTIMEZONE
BEGIN:VEVENT
DTSTART;TZID=Europe/Madrid:20260423T200000
DTEND;TZID=Europe/Madrid:20260423T230000
DTSTAMP:20260425T121741
CREATED:20260421T090102Z
LAST-MODIFIED:20260421T090753Z
UID:689410102195-1776974400-1776985200@www.cordoba.info
SUMMARY:Ana Verdú desvela los secretos de Carlos V custodiados en el Archivo de Córdoba
DESCRIPTION:El Real Círculo de la Amistad acoge el próximo jueves 23 de abril la tercera sesión del ciclo conmemorativo dedicado al paso de la Corte Imperial por Córdoba. Bajo el título «Carlos V en el Archivo Municipal»\, la sesión contará con la intervención de Ana Verdú\, exdirectora del Archivo Municipal de Córdoba y una de las mayores expertas en la gestión documental de la ciudad. La conferencia permitirá a los asistentes explorar fondos documentales inéditos y testimonios históricos que narran cómo se engalanó Córdoba en mayo de 1526 para recibir a Carlos V e Isabel de Portugal tras su enlace en Sevilla. \nLa propuesta de esta conferencia en Córdoba destaca por su rigor científico y su valor divulgativo. Tras 500 años de aquel acontecimiento\, la mirada de Ana Verdú rescata detalles sobre la logística\, las celebraciones y el impacto social que tuvo la estancia de los monarcas en su camino hacia Granada. Si buscas eventos que unan cultura\, rigor histórico y patrimonio\, esta cita organizada por el Ayuntamiento y el Archivo Municipal es una parada obligatoria.
URL:https://www.cordoba.info/evento/carlos-v-archivo-municipal-cordoba-conferencia-2026/
LOCATION:Real Círculo de la Amistad\, Calle Alfonso XIII\, Córdoba\, Córdoba\, 14003\, Spain
CATEGORIES:Conferencias
ATTACH;FMTTYPE=image/png:https://www.cordoba.info/wp-content/uploads/sites/5/2026/04/Conferencia-CARLOS-V-EN-EL-ARCHIVO-MUNICIPAL.-Real-Circulo-de-la-Amistad-de-Cordoba.-23-Abril-2026-1.png
END:VEVENT
END:VCALENDAR