BEGIN:VCALENDAR
VERSION:2.0
PRODID:-//Cordoba.info - ECPv6.14.2//NONSGML v1.0//EN
CALSCALE:GREGORIAN
METHOD:PUBLISH
X-ORIGINAL-URL:https://www.cordoba.info
X-WR-CALDESC:Eventos para Cordoba.info
REFRESH-INTERVAL;VALUE=DURATION:PT1H
X-Robots-Tag:noindex
X-PUBLISHED-TTL:PT1H
BEGIN:VTIMEZONE
TZID:Europe/Madrid
BEGIN:DAYLIGHT
TZOFFSETFROM:+0100
TZOFFSETTO:+0200
TZNAME:CEST
DTSTART:20260329T010000
END:DAYLIGHT
BEGIN:STANDARD
TZOFFSETFROM:+0200
TZOFFSETTO:+0100
TZNAME:CET
DTSTART:20261025T010000
END:STANDARD
END:VTIMEZONE
BEGIN:VEVENT
DTSTART;TZID=Europe/Madrid:20260329T180000
DTEND;TZID=Europe/Madrid:20260329T235000
DTSTAMP:20260422T124958
CREATED:20260118T224934Z
LAST-MODIFIED:20260226T212000Z
UID:689410096360-1774807200-1774828200@www.cordoba.info
SUMMARY:Procesión de la Vera Cruz
DESCRIPTION:La Hermandad de la Vera Cruz en Córdoba representa un testimonio vivo de fe desde 1497. Esta archicofradía hunde sus raíces en la espiritualidad franciscana y parte cada Lunes Santo desde la Iglesia de San José y Espíritu Santo. Su cortejo fusiona la penitencia y la historia en el emblemático barrio del Campo de la Verdad. De hecho\, los nazarenos visten túnica blanca y cubrerrostro burdeos\, desplegando una narrativa de humildad por las orillas del Guadalquivir. Por este motivo\, es una de las citas imprescindibles de la Semana Santa cordobesa. \nMajestad y elegancia en el cortejo \nAdemás\, la cofradía se articula en torno a dos pilares devocionales de gran calado. Nuestro Señor de los Reyes encarna la majestad del sufrimiento\, mientras que María Santísima del Dulce Nombre irradia una elegancia serena bajo su palio. Asimismo\, vivir la Hermandad de la Vera Cruz en Córdoba supone un viaje al pasado para rescatar la esencia del silencio orante. La estación de penitencia culmina en la Mezquita-Catedral\, ofreciendo un diálogo perfecto entre la fe y el arte monumental de la ciudad. \nMomentos clave y horarios (Duración: 7 horas)\nPor otro lado\, el itinerario regala estampas icónicas que quedan grabadas en la memoria. El paso por el Puente Romano\, con la ciudad al fondo\, resulta sencillamente inolvidable tanto a la ida como a la vuelta. En consecuencia\, aquí tienes los puntos estelares para seguir su huella: \n18:00 – Salida: Inicio en el Campo de la Verdad. \n18:40 – Puente Romano: Estampa milenaria sobre el Guadalquivir. \n19:22 – Entrada C.O.: Comienzo del tramo oficial. \n20:02 – Puerta de las Cofradías: Momento culminante ante la Catedral. \n21:40 – Plaza del Potro: Marco incomparable de la Córdoba clásica. \n23:50 – Entrada: Emotivo regreso al templo.
URL:https://www.cordoba.info/evento/procesion-vera-cruz-cordoba-itinerario-horarios/
LOCATION:Iglesia de San José y Espíritu Santo\, Olaza de Santa Teresa 1\, Córdoba\, Córdoba\, 14009\, Spain
CATEGORIES:Eventos religiosos y procesiones
ATTACH;FMTTYPE=image/jpeg:https://www.cordoba.info/wp-content/uploads/sites/5/2026/01/SEMANA_SANTA_VERACRUZ_CORDOBA_05.-Por-Arte-en-Cordoba-http-www.artencordoba.comsemana-santaFOTOSVERA_CRUZSEMANA_SANTA_VERACRUZ_CORDOBA_05.jpg-CC-BY-SA-4.0-https-commons.wikimedia.orgwindex.phpcurid62706660.jpg
END:VEVENT
BEGIN:VEVENT
DTSTART;TZID=Europe/Madrid:20260329T173000
DTEND;TZID=Europe/Madrid:20260330T003000
DTSTAMP:20260422T124958
CREATED:20260118T224043Z
LAST-MODIFIED:20260328T201249Z
UID:689410096359-1774805400-1774830600@www.cordoba.info
SUMMARY:Procesión del Amor
DESCRIPTION:Sigue los itinerarios de las procesiones del Domingo de Ramos aquí \n¡Vive la pasión desbordante del barrio de El Cerro con la Hermandad del Amor! \nEsta corporación\, una de las más completas de Córdoba\, es de las pocas que despliega tres pasos en su Estación de Penitencia\, ofreciendo una narrativa visual que abarca desde el desprecio sufrido por Jesús hasta la victoria del Amor en la Cruz. Con su sede en la Iglesia de Jesús Divino Obrero\, el cortejo destaca por su túnica blanca con capa y cubrerrostro negros\, creando un contraste solemne al cruzar el Guadalquivir. \nEl despliegue iconográfico es magistral: abre el misterio de Nuestro Padre Jesús del Silencio (obra de Ortega Bru)\, seguido por el Santísimo Cristo del Amor\, un crucificado del siglo XVI que procesiona con una estética clásica junto a la Virgen y San Juan. Cierra el palio de María Santísima de la Encarnación\, famosa por ser portada por la primera cuadrilla de mujeres costaleras de Andalucía\, un hito de valentía y fe que define la identidad de esta hermandad. \nMomentos Imprescindibles del Recorrido\n\n17:30 – Salida: El barrio de El Cerro se convierte en un hervidero de fe cuando los tres pasos inician su largo caminar hacia la Catedral.\nPuente Romano: Uno de los momentos más bellos de la Semana Santa cordobesa; ver el imponente misterio del Silencio y el Crucificado recortados sobre la Mezquita al atardecer.\nEntrada en Carrera Oficial: La solemnidad se apodera del cortejo al entrar en el entorno del Triunfo y la Puerta del Perdón.\n00:30 – Entrada en el Templo: El regreso nocturno a su barrio es un estallido de fervor popular y música\, sellando una jornada de siete horas de entrega absoluta.
URL:https://www.cordoba.info/evento/hermandad-del-amor-cordoba-itinerario-horarios/
LOCATION:Iglesia de Jesús Divino Obrero\, C. Beato Henares\, 1\, Sur\, Córdoba\, Córdoba\, 14009\, Spain
CATEGORIES:Eventos religiosos y procesiones
ATTACH;FMTTYPE=image/png:https://www.cordoba.info/wp-content/uploads/sites/5/2026/01/Cristo-del-Amor-Crucificado.png
END:VEVENT
END:VCALENDAR