BEGIN:VCALENDAR
VERSION:2.0
PRODID:-//Cordoba.info - ECPv6.14.2//NONSGML v1.0//EN
CALSCALE:GREGORIAN
METHOD:PUBLISH
X-ORIGINAL-URL:https://www.cordoba.info
X-WR-CALDESC:Eventos para Cordoba.info
REFRESH-INTERVAL;VALUE=DURATION:PT1H
X-Robots-Tag:noindex
X-PUBLISHED-TTL:PT1H
BEGIN:VTIMEZONE
TZID:Europe/Madrid
BEGIN:DAYLIGHT
TZOFFSETFROM:+0100
TZOFFSETTO:+0200
TZNAME:CEST
DTSTART:20260329T010000
END:DAYLIGHT
BEGIN:STANDARD
TZOFFSETFROM:+0200
TZOFFSETTO:+0100
TZNAME:CET
DTSTART:20261025T010000
END:STANDARD
END:VTIMEZONE
BEGIN:VEVENT
DTSTART;TZID=Europe/Madrid:20260619T220000
DTEND;TZID=Europe/Madrid:20260619T233000
DTSTAMP:20260421T200624
CREATED:20260311T205029Z
LAST-MODIFIED:20260311T205140Z
UID:689410100187-1781906400-1781911800@www.cordoba.info
SUMMARY:Sidecars en Córdoba: El rock honesto de la banda madrileña corona el verano cordobés
DESCRIPTION:Sidecars llega a Córdoba como uno de los platos fuertes de la programación musical del mes de junio. Con casi dos décadas de trayectoria y consolidados como una de las formaciones más sólidas y queridas del panorama nacional\, Juancho\, Gerbass y Ruly aterrizan en el Coso de los Califas para presentar ‘EVEREST’\, su séptimo disco de estudio. Un trabajo que refleja la madurez de la banda y que promete una noche de guitarras\, letras cuidadas y ese sonido rock de autor que los ha hecho únicos. \nEste concierto es una de las propuestas culturales más potentes de la temporada. Una oportunidad ideal para disfrutar del directo de Sidecars bajo el cielo de una noche de verano cordobesa. \nHaz que tu jornada sea redonda uniendo el concierto con la esencia de la ciudad: \nHistoria Viva: Dedica la tarde a pasear por los jardines de Vallellano o la Judería antes de dirigirte hacia la Avenida de Gran Vía Parque. \nGastronomía de Barrio: Disfruta de una cena de tapas en los Restaurantes de Córdoba de la zona de Ciudad Jardín para entrar con energía al show de las 22:00 h. \nAtardecer Cordobés: El entorno de la Plaza de Toros ofrece una luz única al caer el sol\, perfecta para las fotos previas al directo.
URL:https://www.cordoba.info/evento/sidecars-cordoba-concierto-everest-2026/
LOCATION:Plaza de Toros Los Califas\, Av. Gran Vía Parque\, s/n\, Córdoba\, Córdoba\, 14002\, Spain
CATEGORIES:Espectáculos y conciertos
ATTACH;FMTTYPE=image/jpeg:https://www.cordoba.info/wp-content/uploads/sites/5/2026/03/galeria_3523_ATsfyi2V.jpg
END:VEVENT
BEGIN:VEVENT
DTSTART;TZID=Europe/Madrid:20260627T220000
DTEND;TZID=Europe/Madrid:20260627T220000
DTSTAMP:20260421T200624
CREATED:20260312T153013Z
LAST-MODIFIED:20260312T153059Z
UID:689410100226-1782597600-1782597600@www.cordoba.info
SUMMARY:Los Morancos en Córdoba: fecha\, lugar y entradas
DESCRIPTION:Los Morancos regresan a Córdoba con su espectáculo más gamberro y actual: «Bota Antonia». En un mundo en crisis\, la mítica Antonia decide que ya es hora de tomar las riendas y funda su propio partido político: el «SC» (Sentido Común). Bajo el lema «Viviremos en la gloria cuando gobierne la Antonia»\, los hermanos Cadaval despliegan toda su artillería de humor\, música y crítica social para demostrar que\, ante el tambaleo de la política internacional\, solo nos queda la risa. \nLa propuesta de Los Morancos destaca por su capacidad para conectar con la realidad social desde el esperpento y la carcajada. Antonia\, convertida en líder global\, arremete contra los gobernantes actuales en una función que mezcla gags clásicos con nuevos personajes y números musicales que ya son marca de la casa. Si buscas eventos en Córdoba que garanticen desconexión total y risas en familia\, esta «campaña electoral» de los Cadaval es la ganadora. \nHaz que tu jornada sea redonda uniendo el espectáculo con la esencia de la ciudad: \nHistoria Viva: Dedica la tarde a pasear por los Patios de Córdoba de San Basilio (aunque el festival haya pasado\, el encanto del barrio permanece). \nGastronomía de Barrio: Disfruta de un salmorejo y un flamenquín en los Restaurantes de Córdoba de la zona de Poniente antes de entrar al show de las 22:00. \nAtardecer Monumental: El entorno de la Plaza de Toros ofrece una luz única al caer el sol\, perfecta para las fotos previas al despliegue de humor de Los Morancos.
URL:https://www.cordoba.info/evento/los-morancos-cordoba-bota-antonia-2026/
LOCATION:Plaza de Toros Los Califas\, Av. Gran Vía Parque\, s/n\, Córdoba\, Córdoba\, 14002\, Spain
CATEGORIES:Espectáculos y conciertos
ATTACH;FMTTYPE=image/jpeg:https://www.cordoba.info/wp-content/uploads/sites/5/2026/03/galeria_2706_gV2slY8Q.jpg
END:VEVENT
BEGIN:VEVENT
DTSTART;TZID=Europe/Madrid:20260905T200000
DTEND;TZID=Europe/Madrid:20260905T213000
DTSTAMP:20260421T200624
CREATED:20260312T154958Z
LAST-MODIFIED:20260312T155038Z
UID:689410100235-1788638400-1788643800@www.cordoba.info
SUMMARY:Luli Pampín: La superheroína de los más pequeños aterriza en Los Califas
DESCRIPTION:La llegada de Luli Pampín a Córdoba el próximo 5 de septiembre promete ser la gran fiesta de vuelta al cole para miles de niños cordobeses. Con su inseparable traje rosa y su energía inagotable\, Luli transformará la Plaza de Toros en un escenario mágico donde la imaginación no tiene límites. «El Libro Musical» es mucho más que un concierto; es el fenómeno global de YouTube trasladado al directo con una producción espectacular. \nLa programación de Luli Pampín en Córdoba se convierte en el regalo perfecto para las familias antes de la rutina escolar. Si buscas planes familiares en Córdoba\, ver a Luli Pampín en directo es una experiencia que los niños recordarán durante años\, cantando himnos como «La vaca Lola» o «Chumbala Cachumbala» en un recinto emblemático como la Plaza de Toros Los Califas. \nHaz que tu jornada sea redonda uniendo el espectáculo con la esencia de la ciudad: \nHistoria Viva: Dedica la mañana a visitar el Alcázar de los Reyes Cristianos y sus jardines\, un espacio que a los niños les encanta antes del show. \nSabor Familiar: Disfruta de una merienda tradicional en las Cafeterías de Córdoba del centro antes de dirigirte a la Plaza de Toros. \nOcio Infantil: El entorno de la Avenida de los Custodios y Vallellano cuenta con parques infantiles ideales para que los niños quemen energía antes de las 20:00 h.
URL:https://www.cordoba.info/evento/luli-pampin-cordoba-plaza-toros-2026/
LOCATION:Plaza de Toros Los Califas\, Av. Gran Vía Parque\, s/n\, Córdoba\, Córdoba\, 14002\, Spain
CATEGORIES:Espectáculos y conciertos
ATTACH;FMTTYPE=image/jpeg:https://www.cordoba.info/wp-content/uploads/sites/5/2026/03/galeria_3612_7vt4b3lj.jpg
END:VEVENT
BEGIN:VEVENT
DTSTART;TZID=Europe/Madrid:20260911T220000
DTEND;TZID=Europe/Madrid:20260911T233000
DTSTAMP:20260421T200624
CREATED:20260314T185046Z
LAST-MODIFIED:20260314T185136Z
UID:689410100430-1789164000-1789169400@www.cordoba.info
SUMMARY:Antonio Orozco en Córdoba: fecha\, lugar y entradas
DESCRIPTION:Antonio Orozco regresa a Córdoba para presentar su propuesta más íntima y agradecida: “La Gira de tu Vida”. Tras el rotundo éxito de su anterior tour\, el artista catalán inicia una nueva etapa donde el relato ya no es suyo\, sino de sus seguidores. Este concierto es un reconocimiento a las vivencias del público que han dado forma a su carrera durante décadas. Con su voz rasgada y su capacidad innata para emocionar\, Orozco promete una noche de conexión absoluta\, repasando sus grandes himnos y sus temas más recientes bajo el cielo cordobés. \nLa propuesta de Antonio Orozco destaca por su enfoque humanista. «La Gira de tu Vida» no es solo un concierto de grandes éxitos\, sino una narrativa musical que pone el foco en las historias de quienes han acompañado al artista. Si buscas eventos en Córdoba que garanticen piel de gallina y canciones que forman parte del patrimonio del pop español como «Mi héroe» o «Estoy hecho de pedacitos de ti»\, esta noche en el Coso de los Califas es obligatoria. \nHaz que tu jornada sea redonda uniendo el concierto con la esencia de la ciudad: \nHistoria Viva: Dedica la tarde a recorrer la Judería de Córdoba antes de desplazarte a la Plaza de Toros. \nSabor Local: Prueba el mejor flamenquín en los Restaurantes de Córdoba del entorno de Vallellano antes del show. \nAtardecer Monumental: La luz de septiembre en el entorno de la Plaza de Toros es el preludio perfecto para una noche de himnos y sentimientos.
URL:https://www.cordoba.info/evento/antonio-orozco-en-cordoba-fecha-lugar-y-entradas/
LOCATION:Plaza de Toros Los Califas\, Av. Gran Vía Parque\, s/n\, Córdoba\, Córdoba\, 14002\, Spain
CATEGORIES:Espectáculos y conciertos
ATTACH;FMTTYPE=image/png:https://www.cordoba.info/wp-content/uploads/sites/5/2026/03/orozco_cordstorie.png
END:VEVENT
BEGIN:VEVENT
DTSTART;TZID=Europe/Madrid:20260912T220000
DTEND;TZID=Europe/Madrid:20260912T220000
DTSTAMP:20260421T200624
CREATED:20260314T191955Z
LAST-MODIFIED:20260314T192211Z
UID:689410100431-1789250400-1789250400@www.cordoba.info
SUMMARY:Ara Malikian: El violín indomable de "Intruso" llega al Coso de los Califas
DESCRIPTION:Ara Malikian llega a Córdoba con su nueva y esperada gira mundial titulada ‘Intruso’. El virtuoso violinista de origen libanés y ascendencia armenia propone un viaje autobiográfico y sonoro que parte de una premisa universal: la sensación de no encajar en ningún lugar. A través de su inconfundible estilo que rompe las barreras entre la música clásica\, el rock y el folk\, Malikian celebra su identidad multicultural y demuestra cómo ha encontrado su verdadero hogar en el escenario. \nEste concierto es una de las propuestas culturales más potentes y visuales del año. Una experiencia que combina el virtuosismo técnico con una puesta en escena llena de energía\, humor y sensibilidad. \nLa propuesta de Ara Malikian destaca por su capacidad para conectar con audiencias de todas las edades. En «Intruso»\, Malikian no solo toca el violín; narra historias\, baila y despliega una energía arrolladora junto a una banda de músicos excepcionales. Si buscas eventos en Córdoba que ofrezcan una calidad artística de nivel mundial en un formato de gran espectáculo\, esta cita en la Plaza de Toros de los Califas es imprescindible. \nVer a Malikian es asistir a un torbellino de emociones donde el violín parece cobrar vida propia. Es una oportunidad única para ver a un genio que ha democratizado la música clásica\, llevándola a recintos de gran formato con un éxito arrollador.
URL:https://www.cordoba.info/evento/ara-malikian-cordoba-concierto-intruso-2026/
LOCATION:Plaza de Toros Los Califas\, Av. Gran Vía Parque\, s/n\, Córdoba\, Córdoba\, 14002\, Spain
CATEGORIES:Espectáculos y conciertos
ATTACH;FMTTYPE=image/jpeg:https://www.cordoba.info/wp-content/uploads/sites/5/2026/03/galeria_3619_BQw2r2I5.jpg
END:VEVENT
BEGIN:VEVENT
DTSTART;TZID=Europe/Madrid:20261003T220000
DTEND;TZID=Europe/Madrid:20261003T233000
DTSTAMP:20260421T200624
CREATED:20260314T194144Z
LAST-MODIFIED:20260314T194248Z
UID:689410100432-1791064800-1791070200@www.cordoba.info
SUMMARY:Marta Santos en Córdoba: fecha\, lugar y entradas
DESCRIPTION:Marta Santos en Córdoba es una de las citas más esperadas de la programación de otoño. La artista sevillana\, que ha protagonizado un ascenso meteórico desde sus inicios virales hasta llenar grandes recintos\, vuelve a la Plaza de Toros Los Califas el próximo 3 de octubre. Con una voz dulce y una capacidad innata para transmitir emociones\, Marta Santos ha dejado de ser una promesa para convertirse en una de las realidades más sólidas del pop con tintes flamencos de nuestro país. \nEste concierto es el plan ideal para disfrutar de una noche llena de sentimiento y frescura musical. Tras el éxito de su anterior visita\, la sevillana promete un show renovado donde su conexión con el público volverá a ser la gran protagonista. \nLa propuesta de Marta Santos en Córdoba destaca por su autenticidad. Sin necesidad de grandes artificios\, la sevillana se basta de su talento vocal y de un repertorio que mezcla temas propios con versiones que ya son himnos para sus seguidores. Si buscas eventos en Córdoba hoy (o para tu próxima escapada de otoño) que te garanticen una noche de música honesta y vibrante\, este concierto es una apuesta segura.
URL:https://www.cordoba.info/evento/marta-santos-cordoba-concierto-octubre-2026/
LOCATION:Plaza de Toros Los Califas\, Av. Gran Vía Parque\, s/n\, Córdoba\, Córdoba\, 14002\, Spain
CATEGORIES:Espectáculos y conciertos
ATTACH;FMTTYPE=image/jpeg:https://www.cordoba.info/wp-content/uploads/sites/5/2026/03/espectaculo_3534.jpg
END:VEVENT
BEGIN:VEVENT
DTSTART;TZID=Europe/Madrid:20261009T220000
DTEND;TZID=Europe/Madrid:20261009T220000
DTSTAMP:20260421T200624
CREATED:20260314T201428Z
LAST-MODIFIED:20260314T211017Z
UID:689410100433-1791583200-1791583200@www.cordoba.info
SUMMARY:Camela en Córdoba: La tecno-rumba incombustible de Dioni y Ángeles conquista Los Califas
DESCRIPTION:Camela aterriza en Córdoba con su nueva y esperada gira «+ de 30». Tras el arrollador éxito de su tour de aniversario\, la banda más icónica y única de la música popular española vuelve a los escenarios para demostrar por qué siguen siendo un fenómeno irrepetible. Con más de siete millones de discos vendidos y un estilo que solo les pertenece a ellos\, Camela invita al público cordobés a un viaje por su historia musical\, donde la reinvención y la nostalgia se unen en una fiesta de ritmo y sentimiento. \nLa propuesta de Camela destaca por su energía inagotable. «Gira + de 30» es la continuación natural de un legado que ha sabido adaptarse a los tiempos sin perder la esencia que los catapultó al éxito en las gasolineras de los 90. Si buscas eventos en Córdoba que garanticen diversión\, baile y una conexión emocional única con el escenario\, ver a Dioni y Ángeles en directo es una experiencia que hay que vivir al menos una vez en la vida. \nHaz que tu jornada sea redonda uniendo el concierto con la esencia de la ciudad: \nHistoria Viva: Dedica la tarde a pasear por la Mezquita-Catedral y disfruta de la luz del otoño cordobés antes del show. \nSabor Popular: Prueba los platos típicos en los Restaurantes de Córdoba del barrio de Ciudad Jardín para entrar en ambiente. \nAtardecer en Los Califas: Disfruta del ambiente previo en las inmediaciones de la Plaza de Toros\, el lugar donde la tecno-rumba volverá a hacer historia.
URL:https://www.cordoba.info/evento/camela-en-cordoba-la-tecno-rumba-incombustible-de-dioni-y-angeles-conquista-los-califas/
LOCATION:Plaza de Toros Los Califas\, Av. Gran Vía Parque\, s/n\, Córdoba\, Córdoba\, 14002\, Spain
CATEGORIES:Espectáculos y conciertos
ATTACH;FMTTYPE=image/jpeg:https://www.cordoba.info/wp-content/uploads/sites/5/2026/03/espectaculo_3597.jpg
END:VEVENT
BEGIN:VEVENT
DTSTART;TZID=Europe/Madrid:20261010T220000
DTEND;TZID=Europe/Madrid:20261010T233000
DTSTAMP:20260421T200624
CREATED:20260314T212712Z
LAST-MODIFIED:20260314T214441Z
UID:689410100434-1791669600-1791675000@www.cordoba.info
SUMMARY:La Plazuela en Córdoba: Los Califas Music Fest
DESCRIPTION:La Plazuela llega a Córdoba como uno de los conciertos más esperados y vanguardistas del año dentro del marco del Los Califas Music Fest. El dúo granadino\, formado por Manuel Hidalgo Sierra y Luis Abril Martín\, ha revolucionado la escena musical española fusionando con maestría el flamenco\, la electrónica\, el nu funk y los ritmos de baile. Su propuesta es un discurso sonoro profundamente identitario que utiliza la cultura popular andaluza como motor creativo para hablar el lenguaje del siglo XXI. \nNo te puedes perder el directo de la banda que está definiendo el nuevo sonido de Andalucía en la Plaza de Toros de Los Califas. Una noche para bailar\, sentir la raíz y descubrir por qué La Plazuela es el fenómeno musical del momento. \nHaz que tu jornada sea redonda uniendo el concierto con la esencia de la ciudad: \nHistoria Viva: Dedica la tarde a descubrir los rincones de la Judería de Córdoba antes de que caiga el sol. \nSabor Contemporáneo: Disfruta de una cena en los Restaurantes de Córdoba del centro que apuestan por la cocina fusión antes de ir al show. \nAtardecer en Los Califas: Vive el ambiente del festival desde temprano en los alrededores de la Plaza de Toros\, el lugar donde el flamenco y el funk harán historia.
URL:https://www.cordoba.info/evento/la-plazuela-en-cordoba-los-califas-music-fest/
LOCATION:Plaza de Toros Los Califas\, Av. Gran Vía Parque\, s/n\, Córdoba\, Córdoba\, 14002\, Spain
CATEGORIES:Espectáculos y conciertos
ATTACH;FMTTYPE=image/jpeg:https://www.cordoba.info/wp-content/uploads/sites/5/2026/03/espectaculo_3564.jpg
END:VEVENT
BEGIN:VEVENT
DTSTART;TZID=Europe/Madrid:20261114T210000
DTEND;TZID=Europe/Madrid:20261114T233000
DTSTAMP:20260421T200624
CREATED:20260317T212141Z
LAST-MODIFIED:20260317T212320Z
UID:689410100727-1794690000-1794699000@www.cordoba.info
SUMMARY:José Mercé en Córdoba: fecha\, lugar y entradas
DESCRIPTION:José Mercé presenta en Córdoba su proyecto más íntimo y personal: un homenaje al legendario compositor Manuel Alejandro. En este espectáculo\, Mercé lleva las canciones más emblemáticas del maestro al terreno de los palos flamencos\, rompiendo fronteras entre el pop y lo jondo. Acompañado por un cuadro excepcional que incluye guitarras flamencas\, piano acústico\, contrabajo\, percusión y palmeros\, el cantaor de Jerez —bisnieto de Paco Luz y referente absoluto del género— promete una noche donde la elegancia y la esencia pura se dan la mano bajo las estrellas de Los Califas. \nSi estás buscando qué hacer en Córdoba el 14 de noviembre\, esta es la cita cultural por excelencia del otoño. Una oportunidad única de ver en directo al primer artista flamenco en lograr un Disco de Diamante\, reinterpretando himnos que forman parte del patrimonio musical español. \nLa propuesta de José Mercé destaca por una sonoridad renovada. Al añadir el piano y el contrabajo a su formación flamenca tradicional\, Mercé logra elevar las composiciones de Manuel Alejandro a una nueva dimensión estética. Si buscas eventos en Córdoba (o para planificar tu noviembre) que garanticen calidad artística y emoción\, este concierto es el broche de oro para la temporada en el Coso de los Califas\, un recinto que Mercé conoce bien tras ganar allí el Concurso Nacional de Arte Flamenco en 1986.
URL:https://www.cordoba.info/evento/jose-merce-en-cordoba-fecha-lugar-y-entradas/
LOCATION:Plaza de Toros Los Califas\, Av. Gran Vía Parque\, s/n\, Córdoba\, Córdoba\, 14002\, Spain
CATEGORIES:Espectáculos flamencos
ATTACH;FMTTYPE=image/jpeg:https://www.cordoba.info/wp-content/uploads/sites/5/2026/03/espectaculo_3623.jpg
END:VEVENT
BEGIN:VEVENT
DTSTART;TZID=Europe/Madrid:20261211T210000
DTEND;TZID=Europe/Madrid:20261211T230000
DTSTAMP:20260421T200624
CREATED:20260314T220037Z
LAST-MODIFIED:20260415T090815Z
UID:689410100435-1797022800-1797030000@www.cordoba.info
SUMMARY:El Kanka en Córdoba: fecha\, lugar y entradas
DESCRIPTION:El Kanka regresa a Córdoba para ofrecer uno de los conciertos más esperados de la temporada invernal. Juan Gómez Canca\, conocido por su inconfundible mezcla de humor\, optimismo y profundidad humana\, aterriza en la capital para presentar un show donde la cercanía con el público es el eje central. En esta cita\, el artista repasará los himnos que lo han convertido en un referente de la música independiente española\, fusionando ritmos de rumba\, pop y folclore con esa maestría lírica que invita a cantar y sonreír a partes iguales. \nEl concierto de El Kanka es la mejor medicina contra el frío. Una fiesta compartida de música honesta y vibrante que promete caldear el ambiente en una noche de viernes inolvidable. \nHaz que tu jornada sea redonda uniendo el concierto con la esencia de la ciudad: \nHistoria Viva: Disfruta del espectáculo de luces de Navidad en la calle Cruz Conde antes de dirigirte a la Plaza de Toros. \nSabor Local: Prueba la gastronomía tradicional en los Restaurantes de Córdoba de la zona centro y Ciudad Jardín para entrar en calor antes del show. \nAtardecer Cordobés: El entorno de la Plaza de Toros\, decorado con el espíritu de diciembre\, ofrece el marco perfecto para una noche de música compartida.
URL:https://www.cordoba.info/evento/el-kanka-en-cordoba-fecha-lugar-y-entradas/
LOCATION:Plaza de Toros Los Califas\, Av. Gran Vía Parque\, s/n\, Córdoba\, Córdoba\, 14002\, Spain
CATEGORIES:Espectáculos y conciertos
ATTACH;FMTTYPE=image/jpeg:https://www.cordoba.info/wp-content/uploads/sites/5/2026/03/espectaculo_3549.jpg
END:VEVENT
END:VCALENDAR