BEGIN:VCALENDAR
VERSION:2.0
PRODID:-//Cordoba.info - ECPv6.14.2//NONSGML v1.0//EN
CALSCALE:GREGORIAN
METHOD:PUBLISH
X-WR-CALNAME:Cordoba.info
X-ORIGINAL-URL:https://www.cordoba.info
X-WR-CALDESC:Eventos para Cordoba.info
REFRESH-INTERVAL;VALUE=DURATION:PT1H
X-Robots-Tag:noindex
X-PUBLISHED-TTL:PT1H
BEGIN:VTIMEZONE
TZID:Europe/Madrid
BEGIN:DAYLIGHT
TZOFFSETFROM:+0100
TZOFFSETTO:+0200
TZNAME:CEST
DTSTART:20250330T010000
END:DAYLIGHT
BEGIN:STANDARD
TZOFFSETFROM:+0200
TZOFFSETTO:+0100
TZNAME:CET
DTSTART:20251026T010000
END:STANDARD
BEGIN:DAYLIGHT
TZOFFSETFROM:+0100
TZOFFSETTO:+0200
TZNAME:CEST
DTSTART:20260329T010000
END:DAYLIGHT
BEGIN:STANDARD
TZOFFSETFROM:+0200
TZOFFSETTO:+0100
TZNAME:CET
DTSTART:20261025T010000
END:STANDARD
END:VTIMEZONE
BEGIN:VEVENT
DTSTART;TZID=Europe/Madrid:20260410T210000
DTEND;TZID=Europe/Madrid:20260411T000000
DTSTAMP:20260422T095132
CREATED:20260216T150406Z
LAST-MODIFIED:20260216T150406Z
UID:689410099972-1775854800-1775865600@www.cordoba.info
SUMMARY:Fito y Fitipaldis en Córdoba: "Aullidos Tour" en la Plaza de Toros
DESCRIPTION:La esperada gira de Fito y Fitipaldis en Córdoba marca el regreso de una de las bandas más queridas del panorama nacional. El «Aullidos Tour» es la excusa perfecta para que Fito Cabrales y los suyos vuelvan a conectar con el público cordobés bajo el cielo de Poniente Sur. En esta ocasión\, el show tendrá un componente emocional doble: la presentación oficial de su flamante nuevo álbum\, «El monte de los aullidos»\, y el reencuentro con una discografía que es patrimonio emocional de varias generaciones. \nLa Plaza de Toros de los Califas\, un recinto acostumbrado a las noches legendarias\, vibrará con la energía de una banda que ha sabido envejecer con la honestidad del rock and roll más puro. Desde los nuevos acordes de su último trabajo hasta los estribillos de Soldadito marinero\, Por la boca vive el pez o La casa por el tejado\, la noche del 10 de abril promete ser una catarsis de guitarras\, saxofones y esa voz inconfundible que nos ha acompañado durante décadas. \nEl directo de Fito y Fitipaldis destaca por su impecable factura técnica y la cercanía de la banda con su «familia» de seguidores. \nPresentación Oficial: Córdoba será una de las paradas clave para escuchar en vivo los temas de «El monte de los aullidos». \nGrandes Éxitos: El setlist está diseñado para complacer a los fans de siempre\, recorriendo más de 25 años de trayectoria. \nRecinto Emblemático: La Plaza de Toros ofrece la acústica y el aforo perfectos para un espectáculo de gran formato como este.
URL:https://www.cordoba.info/evento/fito-y-fitipaldis-cordoba-califas-2026/
LOCATION:Plaza de Toros Los Califas\, Av. Gran Vía Parque\, s/n\, Córdoba\, Córdoba\, 14002\, Spain
CATEGORIES:Espectáculos y conciertos
ATTACH;FMTTYPE=image/jpeg:https://www.cordoba.info/wp-content/uploads/sites/5/2026/02/655083a1-b8c6-45f5-ba9a-f7c3bca2c512_EVENT_DETAIL_PAGE_16_9.jpg
END:VEVENT
BEGIN:VEVENT
DTSTART;TZID=Europe/Madrid:20260401T172000
DTEND;TZID=Europe/Madrid:20260402T035000
DTSTAMP:20260422T095132
CREATED:20260124T074840Z
LAST-MODIFIED:20260226T195129Z
UID:689410096652-1775064000-1775101800@www.cordoba.info
SUMMARY:Procesión de la Piedad
DESCRIPTION:El Miércoles Santo\, la Semana Santa de Córdoba se abre a realidades menos visibles pero profundamente significativas con la salida de la Hermandad de la Piedad. Nacida en 1972 en el entorno claretiano del barrio de Las Palmeras\, esta cofradía representa una forma de entender la religiosidad popular estrechamente ligada al compromiso social\, a la formación y a la dignidad del trabajo. De hecho\, la hermandad utiliza su actividad para fomentar la formación y el apoyo en su comunidad. Por este motivo\, su estación de penitencia trasciende lo meramente religioso para convertirse en un símbolo de esperanza. \nEl único paso de la cofradía procesiona desde la Parroquia de San Antonio María Claret. La imagen del Santísimo Cristo de la Piedad invita a una contemplación serena del dolor humano. Junto a Él\, María Santísima de Vida\, Dulzura y Esperanza Nuestra completa un mensaje claro: acompañar y sostener a quien sufre. Asimismo\, la historia reciente de la Hermandad de la Piedad en Córdoba destaca por la superación de grandes dificultades. La creación de una Escuela Taller permitió a los hermanos elaborar sus propios enseres mientras generaban empleo en el barrio. \nLa cofradía alcanzó un hito histórico en 2011 al ingresar en la Carrera Oficial. Este logro convirtió a la Piedad en la hermandad con el recorrido más extenso de toda la ciudad. Igualmente\, su primera llegada a la Mezquita-Catedral en 2016 consolidó una presencia basada en la perseverancia. En consecuencia\, el Miércoles Santo cordobés presencia una estación exigente y coherente con sus orígenes. La hermandad camina desde la periferia al corazón de la ciudad sin perder nunca su identidad social. \nLa procesión del Miércoles Santo de La Piedad no es un tránsito cómodo ni breve. Es una estación extensa\, exigente y profundamente coherente con su origen. Una hermandad que camina desde la periferia al corazón de la ciudad sin perder identidad\, recordando que la Semana Santa de Córdoba también se construye desde los márgenes\, con constancia\, fe vivida y mirada social.
URL:https://www.cordoba.info/evento/hermandad-piedad-cordoba-itinerario-horarios/
LOCATION:Iglesia de Santa María Claret\, C/ Sierra Nevada 1\, Córdoba\, córdoba\, 14005\, Spain
CATEGORIES:Eventos religiosos y procesiones
ATTACH;FMTTYPE=image/jpeg:https://www.cordoba.info/wp-content/uploads/sites/5/2026/01/SEMANA_SANTA_PIEDAD_CORDOBA_01.jpg
END:VEVENT
BEGIN:VEVENT
DTSTART;TZID=Europe/Madrid:20260328T220000
DTEND;TZID=Europe/Madrid:20260328T220000
DTSTAMP:20260422T095132
CREATED:20260311T202834Z
LAST-MODIFIED:20260311T203026Z
UID:689410100186-1774735200-1774735200@www.cordoba.info
SUMMARY:Cantores de Híspalis en Córdoba: "Credo" en concierto
DESCRIPTION:Cantores de Híspalis presentan en Córdoba su obra más espiritual y ambiciosa: «CREDO». Este espectáculo se concibe como una experiencia total que trasciende lo musical para convertirse en una poderosa declaración de fe escénica. A través de una cuidada puesta en escena\, el legendario grupo sevillano revisita las tradiciones más profundas de la Semana Santa y la cultura popular\, logrando emocionar tanto al creyente como al amante del arte. Con «Credo»\, la formación busca no solo conmover\, sino reivindicar la vigencia y la dignidad de nuestra herencia cultural en el siglo XXI. \nEl 28 de marzo la ciudad ya respira vísperas por todos sus costados. La programación de Cantores de Híspalis en Córdoba se erige como el complemento perfecto para aquellos que buscan vivir la Semana Santa desde una óptica artística y renovada. \nHaz que tu jornada sea redonda uniendo el arte con la esencia de la ciudad: \nHistoria Viva: Dedica la tarde a visitar la Mezquita-Catedral y sentir la paz de sus naves antes de la fuerza vocal de los Cantores. \nSabor Cofrade: Merienda unas torrijas tradicionales en las cafeterías del centro antes del show. \nGastronomía de la Tierra: Reserva en uno de los Restaurantes de Córdoba del centro histórico para una cena previa a la función de las 22:00.
URL:https://www.cordoba.info/evento/cantores-de-hispalis-en-cordoba-credo-en-concierto/
LOCATION:Plaza de Toros Los Califas\, Av. Gran Vía Parque\, s/n\, Córdoba\, Córdoba\, 14002\, Spain
CATEGORIES:Espectáculos y conciertos
ATTACH;FMTTYPE=image/jpeg:https://www.cordoba.info/wp-content/uploads/sites/5/2026/03/galeria_3495_Fh2oxZ5A.jpg
END:VEVENT
BEGIN:VEVENT
DTSTART;TZID=Europe/Madrid:20250925T210000
DTEND;TZID=Europe/Madrid:20250925T210000
DTSTAMP:20260422T095132
CREATED:20250807T162651Z
LAST-MODIFIED:20250813T051331Z
UID:689410037764-1758834000-1758834000@www.cordoba.info
SUMMARY:Concierto de Sebastián Yatra en Córdoba
DESCRIPTION:En el marco de su Tour 2025\, Sebastián Yatra interpretará sus éxitos y nuevos temas acompañado de banda en la histórica Plaza de Toros Los Califas. El espectáculo contará con una puesta en escena diseñada para el pop latino\, con entradas desde 38\,50 €.
URL:https://www.cordoba.info/evento/concierto-de-sebastian-yatra-en-cordoba/
LOCATION:Plaza de Toros Los Califas\, Av. Gran Vía Parque\, s/n\, Córdoba\, Córdoba\, 14002\, Spain
CATEGORIES:Espectáculos y conciertos
END:VEVENT
END:VCALENDAR