BEGIN:VCALENDAR
VERSION:2.0
PRODID:-//Cordoba.info - ECPv6.14.2//NONSGML v1.0//EN
CALSCALE:GREGORIAN
METHOD:PUBLISH
X-ORIGINAL-URL:https://www.cordoba.info
X-WR-CALDESC:Eventos para Cordoba.info
REFRESH-INTERVAL;VALUE=DURATION:PT1H
X-Robots-Tag:noindex
X-PUBLISHED-TTL:PT1H
BEGIN:VTIMEZONE
TZID:Europe/Madrid
BEGIN:DAYLIGHT
TZOFFSETFROM:+0100
TZOFFSETTO:+0200
TZNAME:CEST
DTSTART:20250330T010000
END:DAYLIGHT
BEGIN:STANDARD
TZOFFSETFROM:+0200
TZOFFSETTO:+0100
TZNAME:CET
DTSTART:20251026T010000
END:STANDARD
BEGIN:DAYLIGHT
TZOFFSETFROM:+0100
TZOFFSETTO:+0200
TZNAME:CEST
DTSTART:20260329T010000
END:DAYLIGHT
BEGIN:STANDARD
TZOFFSETFROM:+0200
TZOFFSETTO:+0100
TZNAME:CET
DTSTART:20261025T010000
END:STANDARD
END:VTIMEZONE
BEGIN:VEVENT
DTSTART;TZID=Europe/Madrid:20260330T161500
DTEND;TZID=Europe/Madrid:20260331T011000
DTSTAMP:20260423T022616
CREATED:20260119T100047Z
LAST-MODIFIED:20260330T065326Z
UID:689410096453-1774887300-1774919400@www.cordoba.info
SUMMARY:Procesión de La Estrella
DESCRIPTION:Sigue su itinerario en tiempo real aquí \n  \nLa procesión de la Hermandad de la Estrella de Córdoba es una de las incorporaciones más significativas de la Córdoba contemporánea a su Semana Santa. De origen reciente\, la corporación realiza su Estación de Penitencia en la noche del Lunes Santo\, partiendo desde la Iglesia de San Fernando\, en el barrio de la Huerta de la Reina\, al que se encuentra profundamente vinculada. \nEl cortejo procesional presenta un marcado carácter narrativo y catequético. Abre la estación el misterio de Nuestro Padre Jesús de la Redención ante Caifás\, acompañado por el Dulce Nombre de Jesús y las Negaciones y Lágrimas de San Pedro\, una composición de gran fuerza expresiva que representa el juicio injusto previo a la Pasión. El conjunto destaca por su dinamismo escultórico y por una cuidada puesta en escena que subraya el dramatismo del momento evangélico. \nTras el paso del Señor\, procesiona Nuestra Señora de la Estrella\, dolorosa bajo palio que aporta equilibrio\, esperanza y luminosidad al conjunto. Su advocación\, elegida desde los primeros años de la hermandad\, se ha convertido en símbolo identitario tanto de la corporación como del barrio que la acoge. \nLos nazarenos visten túnica color crema\, cubrerrostro azul marino y cíngulo azul y crema\, configurando una estética fácilmente reconocible dentro de la Semana Santa cordobesa. El acompañamiento musical\, en gran parte a cargo de formaciones vinculadas a la propia hermandad\, refuerza el carácter joven\, dinámico y comprometido de la cofradía. \nLa Hermandad de la Estrella ofrece así una estación marcada por la vitalidad\, la identidad barrial y una clara apuesta por el crecimiento patrimonial y devocional\, consolidándose como una de las hermandades de referencia del Lunes Santo en Córdoba.
URL:https://www.cordoba.info/evento/procesion-estrella-cordoba/
LOCATION:Iglesia de San Fernando\, Calle Goya\, 24\, Córdoba\, Córdoba\, 14006\, Spain
CATEGORIES:Eventos religiosos y procesiones
ATTACH;FMTTYPE=image/jpeg:https://www.cordoba.info/wp-content/uploads/sites/5/2026/01/SEMANA_SANTA_ESTRELLA_CORDOBA_06-1.jpg
END:VEVENT
BEGIN:VEVENT
DTSTART;TZID=Europe/Madrid:20260329T163000
DTEND;TZID=Europe/Madrid:20260329T231000
DTSTAMP:20260423T022616
CREATED:20260118T222128Z
LAST-MODIFIED:20260328T200735Z
UID:689410096339-1774801800-1774825800@www.cordoba.info
SUMMARY:Procesión de la Esperanza
DESCRIPTION:Sigue su itinerario en tiempo real aquí \nFundada en 1939 y con sede en la histórica Iglesia de San Andrés\, esta corporación es el alma vibrante del Domingo de Ramos. Con un cortejo de más de 450 nazarenos vestidos de blanco y verde\, la Hermandad de la Esperanza de Córdoba despliega una narrativa de fe que une el sentimiento popular con la excelencia artística. La estación de penitencia se compone de dos pasos magistrales: Nuestro Padre Jesús de las Penas (el popular «Gitano»)\, que representa con fuerza dramática el momento previo a cargar la Cruz\, y María Santísima de la Esperanza\, una de las dolorosas más queridas de la ciudad\, que procesiona bajo un palio que es pura artesanía regionalista. Es una procesión de contrastes\, donde la garra del misterio se funde con la dulzura de la Virgen en un itinerario de 7 horas que culmina en la Mezquita-Catedral. \nMomentos Clave para Vivir la Estación de Penitencia\n\n\n\nSalida (Iglesia de San Andrés): La emoción estalla cuando el «Gitano» asoma por la puerta\, iniciando su caminar entre vítores y sones de agrupación musical.\nPaso por la Carrera Oficial: Un despliegue de elegancia donde el nuevo palio de la Esperanza brilla con luz propia frente a la Catedral.\nEl Realejo y San Andrés: El regreso por su barrio\, donde la cercanía de los vecinos y el ambiente popular crean una atmósfera de «Esperanza» compartida.\nEntrada en el Templo: Un cierre apoteósico ya de noche\, donde la música y la devoción sellan una jornada transformadora.
URL:https://www.cordoba.info/evento/hermandad-esperanza-cordoba-itinerario-horarios/
LOCATION:Iglesia de San Andrés Apóstol\, Plaza de San Andrés\, Córdoba\, Córdoba\, 14002\, Spain
CATEGORIES:Eventos religiosos y procesiones
ATTACH;FMTTYPE=image/jpeg:https://www.cordoba.info/wp-content/uploads/sites/5/2026/01/SEMANA_SANTA_ESPERANZA_CORDOBA_15.jpg
END:VEVENT
BEGIN:VEVENT
DTSTART;TZID=Europe/Madrid:20250913T080000
DTEND;TZID=Europe/Madrid:20250913T170000
DTSTAMP:20260423T022616
CREATED:20250902T194400Z
LAST-MODIFIED:20250902T194737Z
UID:689410081121-1757750400-1757782800@www.cordoba.info
SUMMARY:X Concurso Internacional de Atalaje de Tradición “Ciudad de Córdoba”
DESCRIPTION:El Concurso Internacional de Atalaje de Tradición “Ciudad de Córdoba” es una de las joyas de Cabalcor: un desfile–competición de coches de caballos históricos (en su mayoría anteriores a 1945) impecablemente restaurados y ataviados según la etiqueta tradicional. La prueba combina presentación en jurado\, recorrido urbano cronometrado con pasos obligados y maniobrabilidad final en pista\, valorando la fidelidad histórica del conjunto (carruaje\, guarniciones\, cocheros y caballos). En 2025 está prevista la participación de ~25 carruajes llegados de distintos puntos de España y Portugal.  \nForma parte de la programación oficial de Cabalcor 2025\, el encuentro ecuestre de septiembre–octubre en Caballerizas Reales. La edición 2025 sitúa el certamen el sábado\, 13 de septiembre\, con la ruta por avenidas y paseos emblemáticos y el tramo final en Caballerizas. La estructura de fases y el itinerario tipo (11 km) siguen la pauta de ediciones anteriores: presentación en Jardines del Alcázar\, recorrido por Ribera–Vallellano–Paseo de la Victoria–Jardines de la Agricultura y cierre en Caballerizas Reales.
URL:https://www.cordoba.info/evento/x-concurso-internacional-de-atalaje-de-tradicion-ciudad-de-cordoba/
LOCATION:Alcázar de los Reyes Cristianos\, Plaza Campo Santo de los Mártires\, s/n
CATEGORIES:Actividades al aire libre,Eventos familiares e infantiles,Ferias y festivales
GEO:37.8730° N;–4.7758° W Wikipedia+1Dialnet+1Turismo de Córdoba+4Wikipedia+4Wikipedia+4Wikimapia+2Tripomatic+2Turismo de Córdoba+2WikipediaWikipédia+3Wikipedia+3Wikipedia+3
X-APPLE-STRUCTURED-LOCATION;VALUE=URI;X-ADDRESS=Alcázar de los Reyes Cristianos Plaza Campo Santo de los Mártires s/n;X-APPLE-RADIUS=500;X-TITLE=Plaza Campo Santo de los Mártires\, s/n:geo:–4.7758° W Wikipedia+1Dialnet+1Turismo de Córdoba+4Wikipedia+4Wikipedia+4Wikimapia+2Tripomatic+2Turismo de Córdoba+2WikipediaWikipédia+3Wikipedia+3Wikipedia+3,37.8730° N
END:VEVENT
END:VCALENDAR