BEGIN:VCALENDAR
VERSION:2.0
PRODID:-//Cordoba.info - ECPv6.14.2//NONSGML v1.0//EN
CALSCALE:GREGORIAN
METHOD:PUBLISH
X-WR-CALNAME:Cordoba.info
X-ORIGINAL-URL:https://www.cordoba.info
X-WR-CALDESC:Eventos para Cordoba.info
REFRESH-INTERVAL;VALUE=DURATION:PT1H
X-Robots-Tag:noindex
X-PUBLISHED-TTL:PT1H
BEGIN:VTIMEZONE
TZID:Europe/Madrid
BEGIN:DAYLIGHT
TZOFFSETFROM:+0100
TZOFFSETTO:+0200
TZNAME:CEST
DTSTART:20260329T010000
END:DAYLIGHT
BEGIN:STANDARD
TZOFFSETFROM:+0200
TZOFFSETTO:+0100
TZNAME:CET
DTSTART:20261025T010000
END:STANDARD
END:VTIMEZONE
BEGIN:VEVENT
DTSTART;TZID=Europe/Madrid:20260415T190000
DTEND;TZID=Europe/Madrid:20260415T200000
DTSTAMP:20260422T205342
CREATED:20260305T185819Z
LAST-MODIFIED:20260305T185908Z
UID:689410100179-1776279600-1776283200@www.cordoba.info
SUMMARY:Gozar con la mirada: Cuando los cuadros de la Trinidad deciden hablar
DESCRIPTION:Gozar con la mirada es una propuesta escénica única que transforma el Museo de la Trinidad en un escenario vivo. A través de la producción de Loyola Teatro\, los cuadros y esculturas más emblemáticos del museo cobran voz y movimiento. Personajes como Santa Teresa de Jesús\, San Pedro Apóstol o el Arcángel San Rafael —en su histórica aparición al Padre Roelas— guiarán al espectador por un recorrido emocional y artístico\, permitiendo «habitar» las obras de arte desde una perspectiva teatral. \nEsta visita teatralizada gratuita es una de las propuestas culturales más bellas del calendario local para descubrir el tesoro artístico de la Trinidad de una forma mágica y cercana. \nLa programación de Gozar con la mirada ofrece el refugio perfecto para los amantes del misticismo y la belleza. Si buscas planes culturales en Córdoba\, esta visita teatralizada destaca por su capacidad de humanizar el patrimonio religioso y artístico\, convirtiendo un museo en un espacio de asombro colectivo donde el Arcángel San Rafael vuelve a proteger a la ciudad desde las tablas de la realidad.
URL:https://www.cordoba.info/evento/gozar-con-la-mirada-cordoba-museo-trinidad-2026/
LOCATION:Museo de la Trinidad\, Calle Tejón y Marín\, 9\, Córdoba\, Córdoba\, 14003\, Spain
CATEGORIES:Teatro y artes escénicas
ATTACH;FMTTYPE=image/png:https://www.cordoba.info/wp-content/uploads/sites/5/2026/03/dia-del-arte-2026.jpg.png
END:VEVENT
END:VCALENDAR