BEGIN:VCALENDAR
VERSION:2.0
PRODID:-//Cordoba.info - ECPv6.14.2//NONSGML v1.0//EN
CALSCALE:GREGORIAN
METHOD:PUBLISH
X-ORIGINAL-URL:https://www.cordoba.info
X-WR-CALDESC:Eventos para Cordoba.info
REFRESH-INTERVAL;VALUE=DURATION:PT1H
X-Robots-Tag:noindex
X-PUBLISHED-TTL:PT1H
BEGIN:VTIMEZONE
TZID:Europe/Madrid
BEGIN:DAYLIGHT
TZOFFSETFROM:+0100
TZOFFSETTO:+0200
TZNAME:CEST
DTSTART:20260329T010000
END:DAYLIGHT
BEGIN:STANDARD
TZOFFSETFROM:+0200
TZOFFSETTO:+0100
TZNAME:CET
DTSTART:20261025T010000
END:STANDARD
END:VTIMEZONE
BEGIN:VEVENT
DTSTART;VALUE=DATE:20260105
DTEND;VALUE=DATE:20260107
DTSTAMP:20260425T013236
CREATED:20251221T191700Z
LAST-MODIFIED:20251221T192226Z
UID:689410088066-1767582000-1767668399@www.cordoba.info
SUMMARY:Creación en directo del pianista Andrés Carlos Manchado
DESCRIPTION:Sin partitura\, creación nacida del instante y la inspiración del artista.
URL:https://www.cordoba.info/evento/creacion-en-directo-del-pianista-andres-carlos-manchado/
LOCATION:Iglesia del Santo Ángel
CATEGORIES:Espectáculos y conciertos
END:VEVENT
END:VCALENDAR