BEGIN:VCALENDAR
VERSION:2.0
PRODID:-//Cordoba.info - ECPv6.14.2//NONSGML v1.0//EN
CALSCALE:GREGORIAN
METHOD:PUBLISH
X-ORIGINAL-URL:https://www.cordoba.info
X-WR-CALDESC:Eventos para Cordoba.info
REFRESH-INTERVAL;VALUE=DURATION:PT1H
X-Robots-Tag:noindex
X-PUBLISHED-TTL:PT1H
BEGIN:VTIMEZONE
TZID:Europe/Madrid
BEGIN:DAYLIGHT
TZOFFSETFROM:+0100
TZOFFSETTO:+0200
TZNAME:CEST
DTSTART:20260329T010000
END:DAYLIGHT
BEGIN:STANDARD
TZOFFSETFROM:+0200
TZOFFSETTO:+0100
TZNAME:CET
DTSTART:20261025T010000
END:STANDARD
END:VTIMEZONE
BEGIN:VEVENT
DTSTART;TZID=Europe/Madrid:20260402T190500
DTEND;TZID=Europe/Madrid:20260403T030000
DTSTAMP:20260420T063853
CREATED:20260126T190748Z
LAST-MODIFIED:20260226T185128Z
UID:689410096774-1775156700-1775185200@www.cordoba.info
SUMMARY:Procesión del Cristo de Gracia "El Esparraguero"
DESCRIPTION:La Hermandad del Cristo de Gracia\, conocida popularmente como El Esparraguero\, protagoniza cada Jueves Santo una de las procesiones con mayor carga popular de la Semana Santa de Córdoba. Su salida desde el entorno de San Lorenzo marca el inicio de un recorrido profundamente ligado a los barrios históricos del norte de la ciudad. \nEl recorrido continúa hacia el centro histórico\, atravesando vías tradicionales del Jueves Santo cordobés como Ronda de Andújar\, Plaza de San Pedro o calle San Fernando\, antes de encarar la Carrera Oficial. La llegada a la Mezquita-Catedral de Córdoba sitúa a la hermandad en uno de los puntos de mayor proyección simbólica de la jornada\, combinando solemnidad institucional y devoción arraigada. \nEl regreso se realiza ya de noche cerrada\, retomando barrios y plazas donde la cofradía recupera su tono más íntimo. La vuelta por San Andrés y San Lorenzo devuelve al Cristo de Gracia a su feligresía natural\, cerrando una estación de penitencia larga\, exigente y muy reconocible. \nEl Esparraguero no necesita artificios ni grandes alardes. Su fuerza está en la devoción popular\, en un recorrido que atraviesa barrios vivos y en una forma de estar en la calle que sigue siendo una de las más auténticas del Jueves Santo cordobés. \n  \n 
URL:https://www.cordoba.info/evento/cristo-de-gracia-esparraguero-cordoba-itinerario/
LOCATION:Iglesia de Nuestra Señora de Gracia y San Eulogio\, Plaza del Cristo de Gracia\, s/n\, Córdoba\, Córdoba\, 14002\, Spain
CATEGORIES:Eventos religiosos y procesiones
ATTACH;FMTTYPE=image/jpeg:https://www.cordoba.info/wp-content/uploads/sites/5/2026/01/ESPARRAGUERO_CORDOBA_CRISTO_GRACIA_01.jpg
END:VEVENT
BEGIN:VEVENT
DTSTART;TZID=Europe/Madrid:20260330T160000
DTEND;TZID=Europe/Madrid:20260331T013000
DTSTAMP:20260420T063853
CREATED:20260118T162653Z
LAST-MODIFIED:20260330T065404Z
UID:689410096275-1774886400-1774920600@www.cordoba.info
SUMMARY:Procesión de la Presentación al Pueblo
DESCRIPTION:Sigue su itinerario en tiempo real aquí \n  \nLa Hermandad de la Presentación al Pueblo volverá a encontrarse con Córdoba en la tarde del Lunes Santo\, realizando su estación de penitencia desde la Parroquia de San Vicente Ferrer\, en el barrio de Cañero. Una salida que combina identidad de barrio y proyección hacia el centro histórico\, siguiendo un itinerario amplio y exigente que define ya el carácter propio de esta cofradía. \nEl recorrido parte del entorno parroquial para adentrarse progresivamente en distintas zonas de la ciudad\, alcanzando espacios emblemáticos del casco histórico antes de regresar a su templo\, en una jornada marcada por la constancia\, el recogimiento y la presencia continuada en la calle. \nLa Presentación al Pueblo propone en este Lunes Santo una experiencia completa de Semana Santa: salida desde la parroquia\, paso sereno por calles de barrio y una presencia significativa en el corazón histórico de Córdoba. Una estación de penitencia que no busca espectacularidad\, sino coherencia con su origen parroquial y fidelidad a su mensaje.
URL:https://www.cordoba.info/evento/presentacion-al-pueblo-cordoba/
LOCATION:Iglesia de San Vicente Ferrer\, C/ Concilio de Nicea\, 47\, Córdoba\, Córdoba\, 14014\, Spain
CATEGORIES:Eventos religiosos y procesiones
ATTACH;FMTTYPE=image/png:https://www.cordoba.info/wp-content/uploads/sites/5/2026/01/Jesus-Afligidos-en-su-sagrada-presentacion-al-pueblo-Por-Cofraderuan-Trabajo-propio-CC-BY-4.0.png
END:VEVENT
BEGIN:VEVENT
DTSTART;TZID=Europe/Madrid:20260330T154500
DTEND;TZID=Europe/Madrid:20260331T003000
DTSTAMP:20260420T063853
CREATED:20260119T095145Z
LAST-MODIFIED:20260330T065218Z
UID:689410096448-1774885500-1774917000@www.cordoba.info
SUMMARY:Procesión de La Merced
DESCRIPTION:Sigue su itinerario en tiempo real aquí \nEl Lunes Santo\, Córdoba vuelve la mirada hacia el Zumbacón con la salida de la Hermandad de la Merced\, una corporación marcada desde su origen por la sobriedad penitencial y una profunda vocación social. No es una cofradía de paso fugaz: su presencia en la calle se entiende como prolongación de una historia ligada al barrio\, a la parroquia y a una devoción con sentido muy concreto. \nDesde la Iglesia de San Antonio de Padua\, la hermandad inicia su Estación de Penitencia con Nuestro Padre Jesús Humilde en la Coronación de Espinas\, imagen que propone un silencio elocuente: el del Cristo que acepta la humillación sin estridencias\, con una fuerza contenida que define el carácter del cortejo. Tras Él\, bajo palio\, Nuestra Madre y Señora Santa María de la Merced acompaña con una advocación que no es solo nombre\, sino mensaje: misericordia\, consuelo y amparo\, especialmente hacia quienes viven situaciones de privación y exclusión. \nEl recorrido conduce a la cofradía hasta el corazón de la ciudad\, atravesando barrios históricos y entrando en la Carrera Oficial para realizar su Estación en la Santa Iglesia Catedral de Córdoba. Pero La Merced no se define únicamente por ese momento central: su identidad se construye también en las calles de Santa Marina\, San Lorenzo o el Marrubial\, donde el paso de la hermandad se vive con cercanía y reconocimiento vecinal. \nLa procesión del Lunes Santo de La Merced no busca impacto fácil ni alarde estético. Propone\, año tras año\, una lectura serena de la Semana Santa cordobesa: fe expresada con medida\, memoria de sus orígenes obreros y una clara conciencia de servicio. Una cofradía que camina despacio\, pero con sentido. \n 
URL:https://www.cordoba.info/evento/hermandad-merced-cordoba/
LOCATION:Iglesia de San Antonio de Padua\, Avenida Agrupación de Córdoba\, 11\, Córdoba\, Córdoba\, 14007\, Spain
CATEGORIES:Eventos religiosos y procesiones
ATTACH;FMTTYPE=image/jpeg:https://www.cordoba.info/wp-content/uploads/sites/5/2026/01/MERCED_CORDOBA_CORONACION_ESPINAS_02.jpg
END:VEVENT
BEGIN:VEVENT
DTSTART;TZID=Europe/Madrid:20260329T160500
DTEND;TZID=Europe/Madrid:20260329T231500
DTSTAMP:20260420T063853
CREATED:20260118T185310Z
LAST-MODIFIED:20260328T200209Z
UID:689410096278-1774800300-1774826100@www.cordoba.info
SUMMARY:Procesión del Rescatado
DESCRIPTION:Sigue su itinerario en tiempo real aquí \n¡Embárcate en la devoción más profunda de Córdoba con la Procesión del Rescatado\, el icono indiscutible de la Semana Santa! Conocida como «El Señor de Córdoba»\, la hermandad del Rescatado fundada en 1941 rinde homenaje a Nuestro Padre Jesús Nazareno Rescatado (obra de Fernando Díaz de Pacheco\, 1713) y María Santísima de la Amargura (1942)\, atrayendo a miles de fieles cada Domingo de Ramos. \nDesde su sede en la Iglesia de Nuestra Señora de Gracia (Padres Trinitarios)\, el cortejo de 457 nazarenos con túnicas blancas y moradas desfila durante 9 horas\, evocando la cautividad y redención con pasos barrocos iluminados por faroles dorados y un palio de terciopelo azul noche. Es una experiencia de fe intensa\, con saetas espontáneas y el aroma a incienso que inunda las calles históricas\, culminando en la Mezquita-Catedral.\nSiente el pulso de esta tradición tricentenaria\, declarada de Interés Turístico\, con momentos clave que te dejarán sin aliento: \n16:05 – Salida (Alpargate): Máxima devoción en el barrio\, con el Señor emergiendo entre aplausos y promesas cumplidas.\n18:46 – Puerta del Puente: Entorno monumental para ver la entrada en Carrera Oficial\, con vistas al Guadalquivir.\n19:30 – Interior Mezquita-Catedral: Silencio solemne bajo las naves\, un clímax espiritual único en el mundo.\n21:10 – Entorno de San Pablo: Bajada de San Pablo hacia el Realejo que permiten admirar los bordados en oro y detalles artísticos de cerca.\n23:15 – Recogida (Trinitarios): Emotivo cierre con el Señor volviendo a casa\, entre lágrimas y vivas.
URL:https://www.cordoba.info/evento/hermandad-rescatado-cordoba-itinerario-horarios/
LOCATION:Iglesia de Nuestra Señora de Gracia y San Eulogio\, Plaza del Cristo de Gracia\, s/n\, Córdoba\, Córdoba\, 14002\, Spain
CATEGORIES:Eventos religiosos y procesiones
ATTACH;FMTTYPE=image/jpeg:https://www.cordoba.info/wp-content/uploads/sites/5/2026/01/Procesion_del_Rescatado_2013-pedrohuerta-Wikipedia.jpeg
END:VEVENT
END:VCALENDAR