BEGIN:VCALENDAR
VERSION:2.0
PRODID:-//Cordoba.info - ECPv6.14.2//NONSGML v1.0//EN
CALSCALE:GREGORIAN
METHOD:PUBLISH
X-ORIGINAL-URL:https://www.cordoba.info
X-WR-CALDESC:Eventos para Cordoba.info
REFRESH-INTERVAL;VALUE=DURATION:PT1H
X-Robots-Tag:noindex
X-PUBLISHED-TTL:PT1H
BEGIN:VTIMEZONE
TZID:Europe/Madrid
BEGIN:DAYLIGHT
TZOFFSETFROM:+0100
TZOFFSETTO:+0200
TZNAME:CEST
DTSTART:20260329T010000
END:DAYLIGHT
BEGIN:STANDARD
TZOFFSETFROM:+0200
TZOFFSETTO:+0100
TZNAME:CET
DTSTART:20261025T010000
END:STANDARD
END:VTIMEZONE
BEGIN:VEVENT
DTSTART;TZID=Europe/Madrid:20260105T090000
DTEND;TZID=Europe/Madrid:20260505T170000
DTSTAMP:20260420T080441
CREATED:20260103T171938Z
LAST-MODIFIED:20260103T171940Z
UID:689410090635-1767603600-1778000400@www.cordoba.info
SUMMARY:Hospital de San Sebastián: historia viva entre muros centenarios
DESCRIPTION:El Palacio de Congresos de Córdoba es mucho más que un espacio para eventos: es un viaje a través del tiempo. Levantado sobre el antiguo Hospital de San Sebastián\, sus muros han acogido desde enfermos y estudiantes hasta congresistas\, artistas y visitantes de todo el mundo . \nUbicado en el corazón de la Judería\, frente a la Mezquita-Catedral\, combina la sobriedad gótica y plateresca de su portada con la calidez mudéjar de su claustro y la innovación de su auditorio contemporáneo . \nSu singularidad radica en ser el único palacio de congresos de España enclavado en un recinto histórico declarado Patrimonio Mundial. Aquí confluyen los patrimonios tangibles —Mezquita-Catedral\, Medina Azahara\, patios cordobeses— con los intangibles\, como el flamenco o la dieta mediterránea . \nEl edificio ha sido escenario de grandes hitos culturales y políticos\, desde congresos internacionales hasta conciertos memorables. Hoy\, el Palacio de Congresos abre sus puertas no sólo a profesionales\, sino a todos aquellos que deseen descubrir cómo Córdoba ha sabido reinterpretar su pasado para proyectarse al futuro .
URL:https://www.cordoba.info/evento/hospital-de-san-sebastian-historia-viva-entre-muros-centenarios-15/
LOCATION:Hospital de San Sebastian\, Calle Torrijos\, 10\, Córdoba\, Córdoba\, 14004\, Spain
CATEGORIES:Monumentos y museos
ATTACH;FMTTYPE=image/jpeg:https://www.cordoba.info/wp-content/uploads/sites/5/2025/08/palacio-de-congresos-de-cordobaantiguo-hospital-de-san-sebastian_2fc5a273_984x656-r74de8hbskt07mal57re36e5xywd6hqr75jz035dtc.jpg
END:VEVENT
END:VCALENDAR