BEGIN:VCALENDAR
VERSION:2.0
PRODID:-//Cordoba.info - ECPv6.14.2//NONSGML v1.0//EN
CALSCALE:GREGORIAN
METHOD:PUBLISH
X-ORIGINAL-URL:https://www.cordoba.info
X-WR-CALDESC:Eventos para Cordoba.info
REFRESH-INTERVAL;VALUE=DURATION:PT1H
X-Robots-Tag:noindex
X-PUBLISHED-TTL:PT1H
BEGIN:VTIMEZONE
TZID:Europe/Madrid
BEGIN:DAYLIGHT
TZOFFSETFROM:+0100
TZOFFSETTO:+0200
TZNAME:CEST
DTSTART:20260329T010000
END:DAYLIGHT
BEGIN:STANDARD
TZOFFSETFROM:+0200
TZOFFSETTO:+0100
TZNAME:CET
DTSTART:20261025T010000
END:STANDARD
END:VTIMEZONE
BEGIN:VEVENT
DTSTART;TZID=Europe/Madrid:20260329T123000
DTEND;TZID=Europe/Madrid:20260329T133000
DTSTAMP:20260425T042136
CREATED:20260127T111820Z
LAST-MODIFIED:20260127T112019Z
UID:689410097278-1774787400-1774791000@www.cordoba.info
SUMMARY:Misa tradicional dominical en Santa Ana
DESCRIPTION:Cada domingo a las 12:30 h\, en la iglesia del Convento de Santa Ana — también llamada Iglesia Conventual de Santa Ana\, sede de las Carmelitas Descalzas desde el siglo XVI — se celebra una Santa Misa en la Forma Extraordinaria del Rito Romano\, más conocida como Misa Tridentina o Misa en latín tradicional. \nEste rito ancestral se desarrolla enteramente en latín\, siguiendo el Misal Romano anterior a las reformas litúrgicas de 1970\, con gestos\, oraciones y ordo ritual que evocan la tradición de la Iglesia católica occidental anterior al Concilio Vaticano II. \n  \nQué hace especial a esta Misa\n\nLengua y liturgia: Todo se realiza en latín — las oraciones del sacerdote\, las respuestas de los fieles y\, cuando se canta\, los motetes y propers gregorianos tradicionales — con un ritmo de celebratio que parece suspender el tiempo.\nRitmo ritual: La estructura y los gestos conservan una cadencia meditativa que realza la solemnidad del misterio eucarístico\, desde el confiteor inicial hasta la oración después de la comunión.\nSonido y espacio: La acústica barroca de la iglesia\, con su planta de cruz latina y su cúpula sobre el crucero\, se presta a la reverberación de las voces y a la resonancia del canto\, creando una atmósfera física y espiritual única.\n\nUna experiencia para visitantes\nAsistir a esta Misa es algo más que participar de un rito religioso. Para quienes exploran Córdoba desde el arte\, la historia y la espiritualidad\, es una ventana sonora y visual a siglos de tradición litúrgica. La celebración se integra en el entorno cotidiano de la ciudad\, cerca del casco histórico\, y ofrece una pausa contemplativa en el corazón de la capital andaluza.
URL:https://www.cordoba.info/evento/misa-tradicional-dominical/2026-03-29/
LOCATION:Convento de Santa Ana\, C. Ángel de Saavedra\, Centro\, Córdoba\, Córdoba\, 14003\, Spain
CATEGORIES:Eventos religiosos y procesiones
ATTACH;FMTTYPE=image/jpeg:https://www.cordoba.info/wp-content/uploads/sites/5/2025/08/728px-Convento_de_Santa_Ana_y_San_Jose._Calle_Angel_de_Saavedra.jpeg
END:VEVENT
BEGIN:VEVENT
DTSTART;TZID=Europe/Madrid:20260322T123000
DTEND;TZID=Europe/Madrid:20260322T133000
DTSTAMP:20260425T042136
CREATED:20260127T111820Z
LAST-MODIFIED:20260127T112019Z
UID:689410097277-1774182600-1774186200@www.cordoba.info
SUMMARY:Misa tradicional dominical en Santa Ana
DESCRIPTION:Cada domingo a las 12:30 h\, en la iglesia del Convento de Santa Ana — también llamada Iglesia Conventual de Santa Ana\, sede de las Carmelitas Descalzas desde el siglo XVI — se celebra una Santa Misa en la Forma Extraordinaria del Rito Romano\, más conocida como Misa Tridentina o Misa en latín tradicional. \nEste rito ancestral se desarrolla enteramente en latín\, siguiendo el Misal Romano anterior a las reformas litúrgicas de 1970\, con gestos\, oraciones y ordo ritual que evocan la tradición de la Iglesia católica occidental anterior al Concilio Vaticano II. \n  \nQué hace especial a esta Misa\n\nLengua y liturgia: Todo se realiza en latín — las oraciones del sacerdote\, las respuestas de los fieles y\, cuando se canta\, los motetes y propers gregorianos tradicionales — con un ritmo de celebratio que parece suspender el tiempo.\nRitmo ritual: La estructura y los gestos conservan una cadencia meditativa que realza la solemnidad del misterio eucarístico\, desde el confiteor inicial hasta la oración después de la comunión.\nSonido y espacio: La acústica barroca de la iglesia\, con su planta de cruz latina y su cúpula sobre el crucero\, se presta a la reverberación de las voces y a la resonancia del canto\, creando una atmósfera física y espiritual única.\n\nUna experiencia para visitantes\nAsistir a esta Misa es algo más que participar de un rito religioso. Para quienes exploran Córdoba desde el arte\, la historia y la espiritualidad\, es una ventana sonora y visual a siglos de tradición litúrgica. La celebración se integra en el entorno cotidiano de la ciudad\, cerca del casco histórico\, y ofrece una pausa contemplativa en el corazón de la capital andaluza.
URL:https://www.cordoba.info/evento/misa-tradicional-dominical/2026-03-22/
LOCATION:Convento de Santa Ana\, C. Ángel de Saavedra\, Centro\, Córdoba\, Córdoba\, 14003\, Spain
CATEGORIES:Eventos religiosos y procesiones
ATTACH;FMTTYPE=image/jpeg:https://www.cordoba.info/wp-content/uploads/sites/5/2025/08/728px-Convento_de_Santa_Ana_y_San_Jose._Calle_Angel_de_Saavedra.jpeg
END:VEVENT
BEGIN:VEVENT
DTSTART;TZID=Europe/Madrid:20260315T123000
DTEND;TZID=Europe/Madrid:20260315T133000
DTSTAMP:20260425T042136
CREATED:20260127T111820Z
LAST-MODIFIED:20260127T112019Z
UID:689410097276-1773577800-1773581400@www.cordoba.info
SUMMARY:Misa tradicional dominical en Santa Ana
DESCRIPTION:Cada domingo a las 12:30 h\, en la iglesia del Convento de Santa Ana — también llamada Iglesia Conventual de Santa Ana\, sede de las Carmelitas Descalzas desde el siglo XVI — se celebra una Santa Misa en la Forma Extraordinaria del Rito Romano\, más conocida como Misa Tridentina o Misa en latín tradicional. \nEste rito ancestral se desarrolla enteramente en latín\, siguiendo el Misal Romano anterior a las reformas litúrgicas de 1970\, con gestos\, oraciones y ordo ritual que evocan la tradición de la Iglesia católica occidental anterior al Concilio Vaticano II. \n  \nQué hace especial a esta Misa\n\nLengua y liturgia: Todo se realiza en latín — las oraciones del sacerdote\, las respuestas de los fieles y\, cuando se canta\, los motetes y propers gregorianos tradicionales — con un ritmo de celebratio que parece suspender el tiempo.\nRitmo ritual: La estructura y los gestos conservan una cadencia meditativa que realza la solemnidad del misterio eucarístico\, desde el confiteor inicial hasta la oración después de la comunión.\nSonido y espacio: La acústica barroca de la iglesia\, con su planta de cruz latina y su cúpula sobre el crucero\, se presta a la reverberación de las voces y a la resonancia del canto\, creando una atmósfera física y espiritual única.\n\nUna experiencia para visitantes\nAsistir a esta Misa es algo más que participar de un rito religioso. Para quienes exploran Córdoba desde el arte\, la historia y la espiritualidad\, es una ventana sonora y visual a siglos de tradición litúrgica. La celebración se integra en el entorno cotidiano de la ciudad\, cerca del casco histórico\, y ofrece una pausa contemplativa en el corazón de la capital andaluza.
URL:https://www.cordoba.info/evento/misa-tradicional-dominical/2026-03-15/
LOCATION:Convento de Santa Ana\, C. Ángel de Saavedra\, Centro\, Córdoba\, Córdoba\, 14003\, Spain
CATEGORIES:Eventos religiosos y procesiones
ATTACH;FMTTYPE=image/jpeg:https://www.cordoba.info/wp-content/uploads/sites/5/2025/08/728px-Convento_de_Santa_Ana_y_San_Jose._Calle_Angel_de_Saavedra.jpeg
END:VEVENT
BEGIN:VEVENT
DTSTART;TZID=Europe/Madrid:20260308T123000
DTEND;TZID=Europe/Madrid:20260308T133000
DTSTAMP:20260425T042136
CREATED:20260127T111820Z
LAST-MODIFIED:20260127T112019Z
UID:689410097275-1772973000-1772976600@www.cordoba.info
SUMMARY:Misa tradicional dominical en Santa Ana
DESCRIPTION:Cada domingo a las 12:30 h\, en la iglesia del Convento de Santa Ana — también llamada Iglesia Conventual de Santa Ana\, sede de las Carmelitas Descalzas desde el siglo XVI — se celebra una Santa Misa en la Forma Extraordinaria del Rito Romano\, más conocida como Misa Tridentina o Misa en latín tradicional. \nEste rito ancestral se desarrolla enteramente en latín\, siguiendo el Misal Romano anterior a las reformas litúrgicas de 1970\, con gestos\, oraciones y ordo ritual que evocan la tradición de la Iglesia católica occidental anterior al Concilio Vaticano II. \n  \nQué hace especial a esta Misa\n\nLengua y liturgia: Todo se realiza en latín — las oraciones del sacerdote\, las respuestas de los fieles y\, cuando se canta\, los motetes y propers gregorianos tradicionales — con un ritmo de celebratio que parece suspender el tiempo.\nRitmo ritual: La estructura y los gestos conservan una cadencia meditativa que realza la solemnidad del misterio eucarístico\, desde el confiteor inicial hasta la oración después de la comunión.\nSonido y espacio: La acústica barroca de la iglesia\, con su planta de cruz latina y su cúpula sobre el crucero\, se presta a la reverberación de las voces y a la resonancia del canto\, creando una atmósfera física y espiritual única.\n\nUna experiencia para visitantes\nAsistir a esta Misa es algo más que participar de un rito religioso. Para quienes exploran Córdoba desde el arte\, la historia y la espiritualidad\, es una ventana sonora y visual a siglos de tradición litúrgica. La celebración se integra en el entorno cotidiano de la ciudad\, cerca del casco histórico\, y ofrece una pausa contemplativa en el corazón de la capital andaluza.
URL:https://www.cordoba.info/evento/misa-tradicional-dominical/2026-03-08/
LOCATION:Convento de Santa Ana\, C. Ángel de Saavedra\, Centro\, Córdoba\, Córdoba\, 14003\, Spain
CATEGORIES:Eventos religiosos y procesiones
ATTACH;FMTTYPE=image/jpeg:https://www.cordoba.info/wp-content/uploads/sites/5/2025/08/728px-Convento_de_Santa_Ana_y_San_Jose._Calle_Angel_de_Saavedra.jpeg
END:VEVENT
BEGIN:VEVENT
DTSTART;TZID=Europe/Madrid:20260301T123000
DTEND;TZID=Europe/Madrid:20260301T133000
DTSTAMP:20260425T042136
CREATED:20260127T111820Z
LAST-MODIFIED:20260127T112019Z
UID:689410097274-1772368200-1772371800@www.cordoba.info
SUMMARY:Misa tradicional dominical en Santa Ana
DESCRIPTION:Cada domingo a las 12:30 h\, en la iglesia del Convento de Santa Ana — también llamada Iglesia Conventual de Santa Ana\, sede de las Carmelitas Descalzas desde el siglo XVI — se celebra una Santa Misa en la Forma Extraordinaria del Rito Romano\, más conocida como Misa Tridentina o Misa en latín tradicional. \nEste rito ancestral se desarrolla enteramente en latín\, siguiendo el Misal Romano anterior a las reformas litúrgicas de 1970\, con gestos\, oraciones y ordo ritual que evocan la tradición de la Iglesia católica occidental anterior al Concilio Vaticano II. \n  \nQué hace especial a esta Misa\n\nLengua y liturgia: Todo se realiza en latín — las oraciones del sacerdote\, las respuestas de los fieles y\, cuando se canta\, los motetes y propers gregorianos tradicionales — con un ritmo de celebratio que parece suspender el tiempo.\nRitmo ritual: La estructura y los gestos conservan una cadencia meditativa que realza la solemnidad del misterio eucarístico\, desde el confiteor inicial hasta la oración después de la comunión.\nSonido y espacio: La acústica barroca de la iglesia\, con su planta de cruz latina y su cúpula sobre el crucero\, se presta a la reverberación de las voces y a la resonancia del canto\, creando una atmósfera física y espiritual única.\n\nUna experiencia para visitantes\nAsistir a esta Misa es algo más que participar de un rito religioso. Para quienes exploran Córdoba desde el arte\, la historia y la espiritualidad\, es una ventana sonora y visual a siglos de tradición litúrgica. La celebración se integra en el entorno cotidiano de la ciudad\, cerca del casco histórico\, y ofrece una pausa contemplativa en el corazón de la capital andaluza.
URL:https://www.cordoba.info/evento/misa-tradicional-dominical/2026-03-01/
LOCATION:Convento de Santa Ana\, C. Ángel de Saavedra\, Centro\, Córdoba\, Córdoba\, 14003\, Spain
CATEGORIES:Eventos religiosos y procesiones
ATTACH;FMTTYPE=image/jpeg:https://www.cordoba.info/wp-content/uploads/sites/5/2025/08/728px-Convento_de_Santa_Ana_y_San_Jose._Calle_Angel_de_Saavedra.jpeg
END:VEVENT
BEGIN:VEVENT
DTSTART;TZID=Europe/Madrid:20260222T123000
DTEND;TZID=Europe/Madrid:20260222T133000
DTSTAMP:20260425T042136
CREATED:20260127T111820Z
LAST-MODIFIED:20260127T112019Z
UID:689410097273-1771763400-1771767000@www.cordoba.info
SUMMARY:Misa tradicional dominical en Santa Ana
DESCRIPTION:Cada domingo a las 12:30 h\, en la iglesia del Convento de Santa Ana — también llamada Iglesia Conventual de Santa Ana\, sede de las Carmelitas Descalzas desde el siglo XVI — se celebra una Santa Misa en la Forma Extraordinaria del Rito Romano\, más conocida como Misa Tridentina o Misa en latín tradicional. \nEste rito ancestral se desarrolla enteramente en latín\, siguiendo el Misal Romano anterior a las reformas litúrgicas de 1970\, con gestos\, oraciones y ordo ritual que evocan la tradición de la Iglesia católica occidental anterior al Concilio Vaticano II. \n  \nQué hace especial a esta Misa\n\nLengua y liturgia: Todo se realiza en latín — las oraciones del sacerdote\, las respuestas de los fieles y\, cuando se canta\, los motetes y propers gregorianos tradicionales — con un ritmo de celebratio que parece suspender el tiempo.\nRitmo ritual: La estructura y los gestos conservan una cadencia meditativa que realza la solemnidad del misterio eucarístico\, desde el confiteor inicial hasta la oración después de la comunión.\nSonido y espacio: La acústica barroca de la iglesia\, con su planta de cruz latina y su cúpula sobre el crucero\, se presta a la reverberación de las voces y a la resonancia del canto\, creando una atmósfera física y espiritual única.\n\nUna experiencia para visitantes\nAsistir a esta Misa es algo más que participar de un rito religioso. Para quienes exploran Córdoba desde el arte\, la historia y la espiritualidad\, es una ventana sonora y visual a siglos de tradición litúrgica. La celebración se integra en el entorno cotidiano de la ciudad\, cerca del casco histórico\, y ofrece una pausa contemplativa en el corazón de la capital andaluza.
URL:https://www.cordoba.info/evento/misa-tradicional-dominical/2026-02-22/
LOCATION:Convento de Santa Ana\, C. Ángel de Saavedra\, Centro\, Córdoba\, Córdoba\, 14003\, Spain
CATEGORIES:Eventos religiosos y procesiones
ATTACH;FMTTYPE=image/jpeg:https://www.cordoba.info/wp-content/uploads/sites/5/2025/08/728px-Convento_de_Santa_Ana_y_San_Jose._Calle_Angel_de_Saavedra.jpeg
END:VEVENT
BEGIN:VEVENT
DTSTART;TZID=Europe/Madrid:20260215T123000
DTEND;TZID=Europe/Madrid:20260215T133000
DTSTAMP:20260425T042136
CREATED:20260127T111820Z
LAST-MODIFIED:20260127T112019Z
UID:689410097272-1771158600-1771162200@www.cordoba.info
SUMMARY:Misa tradicional dominical en Santa Ana
DESCRIPTION:Cada domingo a las 12:30 h\, en la iglesia del Convento de Santa Ana — también llamada Iglesia Conventual de Santa Ana\, sede de las Carmelitas Descalzas desde el siglo XVI — se celebra una Santa Misa en la Forma Extraordinaria del Rito Romano\, más conocida como Misa Tridentina o Misa en latín tradicional. \nEste rito ancestral se desarrolla enteramente en latín\, siguiendo el Misal Romano anterior a las reformas litúrgicas de 1970\, con gestos\, oraciones y ordo ritual que evocan la tradición de la Iglesia católica occidental anterior al Concilio Vaticano II. \n  \nQué hace especial a esta Misa\n\nLengua y liturgia: Todo se realiza en latín — las oraciones del sacerdote\, las respuestas de los fieles y\, cuando se canta\, los motetes y propers gregorianos tradicionales — con un ritmo de celebratio que parece suspender el tiempo.\nRitmo ritual: La estructura y los gestos conservan una cadencia meditativa que realza la solemnidad del misterio eucarístico\, desde el confiteor inicial hasta la oración después de la comunión.\nSonido y espacio: La acústica barroca de la iglesia\, con su planta de cruz latina y su cúpula sobre el crucero\, se presta a la reverberación de las voces y a la resonancia del canto\, creando una atmósfera física y espiritual única.\n\nUna experiencia para visitantes\nAsistir a esta Misa es algo más que participar de un rito religioso. Para quienes exploran Córdoba desde el arte\, la historia y la espiritualidad\, es una ventana sonora y visual a siglos de tradición litúrgica. La celebración se integra en el entorno cotidiano de la ciudad\, cerca del casco histórico\, y ofrece una pausa contemplativa en el corazón de la capital andaluza.
URL:https://www.cordoba.info/evento/misa-tradicional-dominical/2026-02-15/
LOCATION:Convento de Santa Ana\, C. Ángel de Saavedra\, Centro\, Córdoba\, Córdoba\, 14003\, Spain
CATEGORIES:Eventos religiosos y procesiones
ATTACH;FMTTYPE=image/jpeg:https://www.cordoba.info/wp-content/uploads/sites/5/2025/08/728px-Convento_de_Santa_Ana_y_San_Jose._Calle_Angel_de_Saavedra.jpeg
END:VEVENT
BEGIN:VEVENT
DTSTART;TZID=Europe/Madrid:20260208T123000
DTEND;TZID=Europe/Madrid:20260208T133000
DTSTAMP:20260425T042136
CREATED:20260127T111820Z
LAST-MODIFIED:20260127T112019Z
UID:689410097271-1770553800-1770557400@www.cordoba.info
SUMMARY:Misa tradicional dominical en Santa Ana
DESCRIPTION:Cada domingo a las 12:30 h\, en la iglesia del Convento de Santa Ana — también llamada Iglesia Conventual de Santa Ana\, sede de las Carmelitas Descalzas desde el siglo XVI — se celebra una Santa Misa en la Forma Extraordinaria del Rito Romano\, más conocida como Misa Tridentina o Misa en latín tradicional. \nEste rito ancestral se desarrolla enteramente en latín\, siguiendo el Misal Romano anterior a las reformas litúrgicas de 1970\, con gestos\, oraciones y ordo ritual que evocan la tradición de la Iglesia católica occidental anterior al Concilio Vaticano II. \n  \nQué hace especial a esta Misa\n\nLengua y liturgia: Todo se realiza en latín — las oraciones del sacerdote\, las respuestas de los fieles y\, cuando se canta\, los motetes y propers gregorianos tradicionales — con un ritmo de celebratio que parece suspender el tiempo.\nRitmo ritual: La estructura y los gestos conservan una cadencia meditativa que realza la solemnidad del misterio eucarístico\, desde el confiteor inicial hasta la oración después de la comunión.\nSonido y espacio: La acústica barroca de la iglesia\, con su planta de cruz latina y su cúpula sobre el crucero\, se presta a la reverberación de las voces y a la resonancia del canto\, creando una atmósfera física y espiritual única.\n\nUna experiencia para visitantes\nAsistir a esta Misa es algo más que participar de un rito religioso. Para quienes exploran Córdoba desde el arte\, la historia y la espiritualidad\, es una ventana sonora y visual a siglos de tradición litúrgica. La celebración se integra en el entorno cotidiano de la ciudad\, cerca del casco histórico\, y ofrece una pausa contemplativa en el corazón de la capital andaluza.
URL:https://www.cordoba.info/evento/misa-tradicional-dominical/2026-02-08/
LOCATION:Convento de Santa Ana\, C. Ángel de Saavedra\, Centro\, Córdoba\, Córdoba\, 14003\, Spain
CATEGORIES:Eventos religiosos y procesiones
ATTACH;FMTTYPE=image/jpeg:https://www.cordoba.info/wp-content/uploads/sites/5/2025/08/728px-Convento_de_Santa_Ana_y_San_Jose._Calle_Angel_de_Saavedra.jpeg
END:VEVENT
BEGIN:VEVENT
DTSTART;TZID=Europe/Madrid:20260201T123000
DTEND;TZID=Europe/Madrid:20260201T133000
DTSTAMP:20260425T042136
CREATED:20260127T111820Z
LAST-MODIFIED:20260127T112019Z
UID:689410097269-1769949000-1769952600@www.cordoba.info
SUMMARY:Misa tradicional dominical en Santa Ana
DESCRIPTION:Cada domingo a las 12:30 h\, en la iglesia del Convento de Santa Ana — también llamada Iglesia Conventual de Santa Ana\, sede de las Carmelitas Descalzas desde el siglo XVI — se celebra una Santa Misa en la Forma Extraordinaria del Rito Romano\, más conocida como Misa Tridentina o Misa en latín tradicional. \nEste rito ancestral se desarrolla enteramente en latín\, siguiendo el Misal Romano anterior a las reformas litúrgicas de 1970\, con gestos\, oraciones y ordo ritual que evocan la tradición de la Iglesia católica occidental anterior al Concilio Vaticano II. \n  \nQué hace especial a esta Misa\n\nLengua y liturgia: Todo se realiza en latín — las oraciones del sacerdote\, las respuestas de los fieles y\, cuando se canta\, los motetes y propers gregorianos tradicionales — con un ritmo de celebratio que parece suspender el tiempo.\nRitmo ritual: La estructura y los gestos conservan una cadencia meditativa que realza la solemnidad del misterio eucarístico\, desde el confiteor inicial hasta la oración después de la comunión.\nSonido y espacio: La acústica barroca de la iglesia\, con su planta de cruz latina y su cúpula sobre el crucero\, se presta a la reverberación de las voces y a la resonancia del canto\, creando una atmósfera física y espiritual única.\n\nUna experiencia para visitantes\nAsistir a esta Misa es algo más que participar de un rito religioso. Para quienes exploran Córdoba desde el arte\, la historia y la espiritualidad\, es una ventana sonora y visual a siglos de tradición litúrgica. La celebración se integra en el entorno cotidiano de la ciudad\, cerca del casco histórico\, y ofrece una pausa contemplativa en el corazón de la capital andaluza.
URL:https://www.cordoba.info/evento/misa-tradicional-dominical/2026-02-01/
LOCATION:Convento de Santa Ana\, C. Ángel de Saavedra\, Centro\, Córdoba\, Córdoba\, 14003\, Spain
CATEGORIES:Eventos religiosos y procesiones
ATTACH;FMTTYPE=image/jpeg:https://www.cordoba.info/wp-content/uploads/sites/5/2025/08/728px-Convento_de_Santa_Ana_y_San_Jose._Calle_Angel_de_Saavedra.jpeg
END:VEVENT
END:VCALENDAR