BEGIN:VCALENDAR
VERSION:2.0
PRODID:-//Cordoba.info - ECPv6.14.2//NONSGML v1.0//EN
CALSCALE:GREGORIAN
METHOD:PUBLISH
X-ORIGINAL-URL:https://www.cordoba.info
X-WR-CALDESC:Eventos para Cordoba.info
REFRESH-INTERVAL;VALUE=DURATION:PT1H
X-Robots-Tag:noindex
X-PUBLISHED-TTL:PT1H
BEGIN:VTIMEZONE
TZID:Europe/Madrid
BEGIN:DAYLIGHT
TZOFFSETFROM:+0100
TZOFFSETTO:+0200
TZNAME:CEST
DTSTART:20260329T010000
END:DAYLIGHT
BEGIN:STANDARD
TZOFFSETFROM:+0200
TZOFFSETTO:+0100
TZNAME:CET
DTSTART:20261025T010000
END:STANDARD
END:VTIMEZONE
BEGIN:VEVENT
DTSTART;TZID=Europe/Madrid:20260420T200000
DTEND;TZID=Europe/Madrid:20260424T220000
DTSTAMP:20260422T183702
CREATED:20260420T151218Z
LAST-MODIFIED:20260420T151928Z
UID:689410102191-1776715200-1777068000@www.cordoba.info
SUMMARY:39ª Semana Musical de la Orquesta de Plectro de Córdoba
DESCRIPTION:La Semana Musical de la Orquesta de Plectro de Córdoba alcanza su 39ª edición consolidada como una cita imprescindible del abril cordobés. Este ciclo\, que une la tradición de los instrumentos de plectro (bandurrias\, laúdes y mandolinas) con la polifonía coral\, se celebra en el marco incomparable de la Capilla de la Asunción (IES Luis de Góngora). Durante cuatro jornadas\, diferentes agrupaciones de prestigio pasarán por su escenario para ofrecer un repertorio que abarca desde la música popular hasta la clásica\, culminando con la actuación de la propia Orquesta de Plectro de Córdoba. \nLa propuesta de la Orquesta de Plectro de Córdoba destaca por su labor de conservación y difusión de la música de pulso y púa. La participación de corales tan emblemáticas como la de la Cátedra Ramón Medina y el sonido mediterráneo del Ensemble Al-Zahra aseguran una variedad estilística que atrae tanto a melómanos como a curiosos. Si buscas eventos que reflejen el poso cultural y educativo de la ciudad\, este ciclo es una parada obligatoria. \nEsta semana musical te ofrece una experiencia acústica única en un edificio histórico. Una oportunidad perfecta para disfrutar del talento local en un ambiente de recogimiento y belleza arquitectónica.
URL:https://www.cordoba.info/evento/39a-semana-musical-de-la-orquesta-de-plectro-de-cordoba/
LOCATION:Capilla de la Asunción – IES Luis de Góngora\, C/ Diego de León 2\, Córdoba\, Córdoba\, 14002\, Spain
CATEGORIES:Espectáculos y conciertos
ATTACH;FMTTYPE=image/png:https://www.cordoba.info/wp-content/uploads/sites/5/2026/04/39-SEMANA-MUSICAL-ORQUESTA-DE-PLECTRO-DE-CORDOBA.-IES-Luis-de-Gongora.-Cordoba.-Abril-2026.png
END:VEVENT
END:VCALENDAR