BEGIN:VCALENDAR
VERSION:2.0
PRODID:-//Cordoba.info - ECPv6.14.2//NONSGML v1.0//EN
CALSCALE:GREGORIAN
METHOD:PUBLISH
X-ORIGINAL-URL:https://www.cordoba.info
X-WR-CALDESC:Eventos para Cordoba.info
REFRESH-INTERVAL;VALUE=DURATION:PT1H
X-Robots-Tag:noindex
X-PUBLISHED-TTL:PT1H
BEGIN:VTIMEZONE
TZID:Europe/Madrid
BEGIN:DAYLIGHT
TZOFFSETFROM:+0100
TZOFFSETTO:+0200
TZNAME:CEST
DTSTART:20260329T010000
END:DAYLIGHT
BEGIN:STANDARD
TZOFFSETFROM:+0200
TZOFFSETTO:+0100
TZNAME:CET
DTSTART:20261025T010000
END:STANDARD
END:VTIMEZONE
BEGIN:VEVENT
DTSTART;TZID=Europe/Madrid:20260403T185000
DTEND;TZID=Europe/Madrid:20260404T021000
DTSTAMP:20260421T143221
CREATED:20260127T180519Z
LAST-MODIFIED:20260226T180723Z
UID:689410099608-1775242200-1775268600@www.cordoba.info
SUMMARY:Los Dolores
DESCRIPTION:La Hermandad de los Dolores en Córdoba es una de las corporaciones más antiguas e influyentes de la ciudad. Su origen se remonta al siglo XVIII\, cuando nació como Tercera Orden Servita. De hecho\, la imagen de la Virgen fue bendecida en 1719\, obra del escultor Juan Prieto. Desde entonces\, la devoción se extendió rápidamente\, consolidando cultos tan populares como el Viernes de Dolores. \nSiglos de esplendor y realeza \nAdemás\, la cofradía vivió un gran impulso bajo el reinado de Isabel II. A finales del siglo XIX\, la Virgen consolidó su papel simbólico al cerrar el cortejo oficial del Santo Entierro. Asimismo\, la hermandad inició una etapa de esplendor en 1910 con el apoyo de la Casa Real y el Conde de Hornachuelos. Por este motivo\, recibió donaciones históricas tan valiosas como el famoso manto del obispo Alburquerque. \nLa primera Coronación Canónica \nPor otro lado\, el hito más importante de su historia moderna ocurrió el 9 de mayo de 1965. En esa fecha\, la Virgen fue coronada canónicamente en la Catedral\, siendo la primera dolorosa en recibir este honor en la capital. En consecuencia\, este acto marcó definitivamente su proyección pública y popular. Actualmente\, la Hermandad de los Dolores en Córdoba sigue siendo un referente cultural indiscutible con su emblemática salida desde San Jacinto. \nDesde finales del siglo XX\, la cofradía incorpora el uso de costaleros\, mantiene un cuidado patrimonio textil y procesional y continúa siendo una referencia devocional y cultural de la ciudad\, con salida desde el Hospital de San Jacinto y paso emblemático por la Plaza de Capuchinos.
URL:https://www.cordoba.info/evento/itinerario-recorrido-los-dolores-cordoba-viernes-santo/
LOCATION:Iglesia Hospital de San Jacinto\, Plaza de Capuchinos\, Córdoba\, Córdoba\, 14003\, Spain
CATEGORIES:Eventos religiosos y procesiones
ATTACH;FMTTYPE=image/jpeg:https://www.cordoba.info/wp-content/uploads/sites/5/2026/01/SEMANA_SANTA_DOLORES_CORDOBA_09.jpg
END:VEVENT
BEGIN:VEVENT
DTSTART;TZID=Europe/Madrid:20260402T181500
DTEND;TZID=Europe/Madrid:20260403T014000
DTSTAMP:20260421T143221
CREATED:20260126T182548Z
LAST-MODIFIED:20260226T185236Z
UID:689410096764-1775153700-1775180400@www.cordoba.info
SUMMARY:La Cena
DESCRIPTION:La Hermandad de la Sagrada Cena protagoniza cada Jueves Santo una de las procesiones más extensas y reconocibles de la jornada\, un recorrido que conecta el barrio de Ciudad Jardín con el centro histórico de Córdoba y que define buena parte de su identidad. \nLa salida desde la Parroquia del Beato Álvaro de Córdoba marca un inicio muy ligado al entorno vecinal\, con el paso avanzando por avenidas amplias como Guerrita y Gran Vía Parque\, donde la cofradía se muestra cercana y fácilmente reconocible. A medida que el cortejo avanza por Conde Vallellano\, el ambiente cambia y la procesión gana en solemnidad. \nEl tránsito por el Campo Santo de los Mártires actúa como antesala del momento central del recorrido: la llegada a la Mezquita-Catedral de Córdoba\, donde la Hermandad alcanza su mayor proyección simbólica dentro del Jueves Santo. En este entorno monumental\, el misterio de la Sagrada Cena y el palio de María Santísima de la Esperanza del Valle ofrecen una imagen plenamente nocturna y de fuerte carga sacramental. \nEl regreso se desarrolla ya en un tono más recogido\, atravesando Magistral González Francés\, Amador de los Ríos y los Jardines de Vallellano\, antes de encarar de nuevo las grandes avenidas que conducen a Ciudad Jardín. Una procesión larga\, sin estridencias\, que construye su relato desde el barrio hasta el corazón histórico de la ciudad y vuelve a él con paso firme y constante.
URL:https://www.cordoba.info/evento/hermandad-sagrada-cena-cordoba-itinerario-horarios/
LOCATION:Iglesia de Beato Álvaro de Córdoba\, Av. Guerrita 23\, 14005
CATEGORIES:Eventos religiosos y procesiones
ATTACH;FMTTYPE=image/jpeg:https://www.cordoba.info/wp-content/uploads/sites/5/2026/01/SAGRADA_CENA_2.-Por-Ca-Trabajo-propio-CC-BY-SA-4.0-https-commons.wikimedia.orgwindex.phpcurid132725358.jpg
GEO:37.8767° N;–4.7983° W cógnita
X-APPLE-STRUCTURED-LOCATION;VALUE=URI;X-ADDRESS=Iglesia de Beato Álvaro de Córdoba Av. Guerrita 23 14005;X-APPLE-RADIUS=500;X-TITLE=Av. Guerrita 23:geo:–4.7983° W cógnita,37.8767° N
END:VEVENT
BEGIN:VEVENT
DTSTART;TZID=Europe/Madrid:20260401T201000
DTEND;TZID=Europe/Madrid:20260402T010000
DTSTAMP:20260421T143221
CREATED:20260124T073717Z
LAST-MODIFIED:20260224T134526Z
UID:689410096651-1775074200-1775091600@www.cordoba.info
SUMMARY:Procesión de la Pasión
DESCRIPTION:Radicada en la emblemática Parroquia de San Basilio\, esta cofradía es el símbolo de un barrio famoso por sus patios y su historia. Fundada en 1939\, pero con raíces que se hunden en el siglo XVII\, la hermandad de Pasión despliega un cortejo lleno de clasicismo y fervor popular que transforma las calles del Alcázar Viejo en una catequesis de arte y devoción. \nLa estación de penitencia se compone de dos joyas barrocas de autoría anónima: Nuestro Padre Jesús de la Pasión\, un Nazareno de mirada dulce que camina con la cruz al hombro sobre un majestuoso paso de talla dorada\, y María Santísima del Amor\, que procesiona bajo palio acompañada de forma singular por la imagen de San Juan Evangelista\, recreando la «Sacra Conversación» en un conjunto de elegancia insuperable. \nMomentos Estelares del Itinerario\n\n20:35 – Salida (San Basilio): El inicio de la procesión es un rito vecinal. El paso por el Arco de las Caballerizas es uno de los momentos más fotografiados de la Semana Santa cordobesa por su estrechez y belleza.\nEl Triunfo y Entorno de la Catedral: La cofradía alcanza su máxima solemnidad en el entorno monumental\, donde el sonido de la agrupación musical del Señor resuena entre las piedras milenarias.\nPaso por la Judería: Ya de regreso\, el transcurrir por calles como Deanes o Judería ofrece estampas de una intimidad mágica bajo la luz de los cirios.\n01:00 – Entrada en el Templo: El cierre en la Plaza de San Basilio\, con el barrio volcado y el cansancio transformado en oración\, pone el broche de oro a una jornada inolvidable.
URL:https://www.cordoba.info/evento/procesion-pasion-cordoba-itinerario-horarios/
LOCATION:Iglesia de Nuestra Señora de la Paz\, Calle San Basilio\, Córdoba\, Córdoba\, 14004\, Spain
CATEGORIES:Eventos religiosos y procesiones
ATTACH;FMTTYPE=image/jpeg:https://www.cordoba.info/wp-content/uploads/sites/5/2026/01/SEMANA_SANTA_PASION_CORDOBA_08.jpg
END:VEVENT
BEGIN:VEVENT
DTSTART;TZID=Europe/Madrid:20260401T171500
DTEND;TZID=Europe/Madrid:20260402T000000
DTSTAMP:20260421T143221
CREATED:20260122T081108Z
LAST-MODIFIED:20260226T195405Z
UID:689410096589-1775063700-1775088000@www.cordoba.info
SUMMARY:Procesión del Perdón
DESCRIPTION:La Hermandad del Perdón realiza su estación de penitencia cada Miércoles Santo\, ofreciendo una de las procesiones más recogidas y narrativas de la Semana Santa de Córdoba. Desde su sede canónica\, la Iglesia de San Roque\, la cofradía pone en la calle un cortejo de marcado carácter penitencial\, sobrio en las formas y profundo en el mensaje. \nEl paso de misterio representa a Nuestro Padre Jesús del Perdón ante Anás\, una escena cargada de tensión y silencio\, donde el Señor afronta el interrogatorio previo a la condena. El conjunto escultórico\, completado progresivamente con figuras secundarias\, construye un relato visual potente y fácilmente comprensible para el espectador\, reforzado por un andar pausado y solemne. \nTras el misterio\, procesiona María Santísima del Rocío y Lágrimas\, bajo palio\, aportando equilibrio\, consuelo y una dimensión mariana muy presente en el origen de la hermandad. La combinación de ambos pasos convierte la tarde-noche del Miércoles Santo en una experiencia especialmente emotiva\, muy valorada por quienes buscan recogimiento y profundidad espiritual. \nEl recorrido discurre por el casco histórico\, con momentos de gran belleza en calles estrechas y plazas recogidas\, donde el silencio\, la iluminación y el ritmo del cortejo refuerzan el carácter íntimo de la procesión. Los nazarenos\, con túnica blanca y cubrerrostro negro\, completan una estampa elegante y coherente con el espíritu de la corporación. \nUna procesión joven en términos históricos\, pero ya plenamente integrada en el Miércoles Santo cordobés\, que destaca por su mensaje claro\, su sobriedad estética y su capacidad para emocionar sin estridencias.
URL:https://www.cordoba.info/evento/procesion-del-perdon-cordoba-itinerario-horarios/
LOCATION:Iglesia de San Roque\, Calle Buen Pastor\, 22\, Córdoba\, Córdoba\, 14002\, Spain
CATEGORIES:Eventos religiosos y procesiones
ATTACH;FMTTYPE=image/jpeg:https://www.cordoba.info/wp-content/uploads/sites/5/2026/01/SEMANA_SANTA_PERDON_CORDOBA_04.jpg
END:VEVENT
BEGIN:VEVENT
DTSTART;TZID=Europe/Madrid:20260331T190000
DTEND;TZID=Europe/Madrid:20260401T002000
DTSTAMP:20260421T143221
CREATED:20260121T204044Z
LAST-MODIFIED:20260331T092449Z
UID:689410096565-1774983600-1775002800@www.cordoba.info
SUMMARY:Procesión de La Santa Faz
DESCRIPTION:Siga la procesión en tiempo real\, aquí \nLa Hermandad de la Santa Faz protagoniza cada Martes Santo una de las procesiones con mayor fuerza narrativa. Esta cofradía\, con sede en la Iglesia de la Trinidad\, destaca por su carácter juvenil y dinámico. El paso de misterio representa el encuentro de Jesús Nazareno con la Santa Mujer Verónica. La escena desborda movimiento y simbolismo\, capturando un instante crucial del camino al Calvario que define la identidad de la Semana Santa cordobesa. \nLa imagen del Nazareno de la Santa Faz presenta una iconografía poco habitual. Obra del imaginero Dubé de Luque\, Jesús avanza con una amplia zancada mientras sostiene la cruz con un solo brazo. Asimismo\, su rostro de gran expresividad refuerza la sensación de diálogo humano y divino con la Verónica. Por otro lado\, María Santísima de la Trinidad aporta una serena belleza y un fuerte vínculo emocional con el barrio. En consecuencia\, el conjunto ofrece un equilibrio espiritual que cautiva a los fieles. \nLa Hermandad de la Santa Faz en Córdoba es reconocida por su taller de bordado propio y su cuidado patrimonio. Su joven nómina de hermanos le confiere un estilo dinámico sin perder el rigor tradicional de las cofradías de la ciudad. El recorrido atraviesa el corazón histórico y realiza estación de penitencia en la Mezquita-Catedral. Por este motivo\, la tarde del Martes Santo se convierte en una experiencia visual intensa\, cargada de mensaje y energía propia.
URL:https://www.cordoba.info/evento/hermandad-santa-faz-cordoba-martes-santo/
LOCATION:Iglesia de la Trinidad\, Plaza de la Trinidad\, s/n\, Córdoba\, Córdoba\, 14003\, Spain
CATEGORIES:Eventos religiosos y procesiones
ATTACH;FMTTYPE=image/jpeg:https://www.cordoba.info/wp-content/uploads/sites/5/2026/01/SEMANA_SANTA_SANTAFAZ_CORDOBA_02.jpg
END:VEVENT
BEGIN:VEVENT
DTSTART;TZID=Europe/Madrid:20260330T181500
DTEND;TZID=Europe/Madrid:20260331T001000
DTSTAMP:20260421T143221
CREATED:20260119T102208Z
LAST-MODIFIED:20260330T065506Z
UID:689410096455-1774894500-1774915800@www.cordoba.info
SUMMARY:Procesión de La Sentencia
DESCRIPTION:La Hermandad de la Sentencia en Córdoba recorre la ciudad cada Lunes Santo desde su casa de hermandad en la calle Saravia. Esta cofradía pone en la calle uno de los pasajes más sobrecogedores de la Pasión: el momento en que Jesucristo es sentenciado a muerte. De hecho\, durante décadas fue la única hermandad que realizaba su estación de penitencia en esta jornada. Por este motivo\, conserva un carácter solemne y una estética clásica que la definen como un pilar de la Semana Santa cordobesa. \nEl misterio de la Sentencia y la Virgen de Gracia y Amparo \nEl paso de Nuestro Padre Jesús de la Sentencia\, obra de Juan Martínez Cerrillo\, presenta una escena sobria y expresiva. En este misterio\, el silencio pesa tanto como la decisión injusta recién pronunciada. Asimismo\, acompaña al Señor María Santísima de Gracia y Amparo\, una Dolorosa de hondísima raigambre histórica. Su presencia aporta equilibrio y consuelo\, envolviendo a todo el cortejo en una atmósfera de serenidad. En consecuencia\, la hermandad ofrece un relato visual potente que invita a la reflexión profunda. \nUn itinerario por el corazón histórico \nEl recorrido de la Hermandad de la Sentencia en Córdoba atraviesa los enclaves más emblemáticos del casco antiguo. La cofradía mantiene un ritmo contenido y una identidad de barrio muy fuerte durante toda su estación de penitencia. Igualmente\, su entrada en la Mezquita-Catedral de Córdoba supone uno de los puntos culminantes de la tarde. Finalmente\, cada detalle de esta procesión habla de fe\, justicia e historia\, atrayendo a quienes buscan una experiencia auténtica y sin estridencias.
URL:https://www.cordoba.info/evento/procesion-sentencia-cordoba/
LOCATION:Casa de Hermandad de La Sentencia\, Calle Saravia\, 2\, Córdoba\, Córdoba\, 14003\, Spain
CATEGORIES:Eventos religiosos y procesiones
ATTACH;FMTTYPE=image/jpeg:https://www.cordoba.info/wp-content/uploads/sites/5/2026/01/SEMANA_SANTA_SENTENCIA_CORDOBA_05-1.jpg
END:VEVENT
BEGIN:VEVENT
DTSTART;TZID=Europe/Madrid:20260329T163000
DTEND;TZID=Europe/Madrid:20260329T231000
DTSTAMP:20260421T143221
CREATED:20260118T222128Z
LAST-MODIFIED:20260328T200735Z
UID:689410096339-1774801800-1774825800@www.cordoba.info
SUMMARY:Procesión de la Esperanza
DESCRIPTION:Sigue su itinerario en tiempo real aquí \nFundada en 1939 y con sede en la histórica Iglesia de San Andrés\, esta corporación es el alma vibrante del Domingo de Ramos. Con un cortejo de más de 450 nazarenos vestidos de blanco y verde\, la Hermandad de la Esperanza de Córdoba despliega una narrativa de fe que une el sentimiento popular con la excelencia artística. La estación de penitencia se compone de dos pasos magistrales: Nuestro Padre Jesús de las Penas (el popular «Gitano»)\, que representa con fuerza dramática el momento previo a cargar la Cruz\, y María Santísima de la Esperanza\, una de las dolorosas más queridas de la ciudad\, que procesiona bajo un palio que es pura artesanía regionalista. Es una procesión de contrastes\, donde la garra del misterio se funde con la dulzura de la Virgen en un itinerario de 7 horas que culmina en la Mezquita-Catedral. \nMomentos Clave para Vivir la Estación de Penitencia\n\n\n\nSalida (Iglesia de San Andrés): La emoción estalla cuando el «Gitano» asoma por la puerta\, iniciando su caminar entre vítores y sones de agrupación musical.\nPaso por la Carrera Oficial: Un despliegue de elegancia donde el nuevo palio de la Esperanza brilla con luz propia frente a la Catedral.\nEl Realejo y San Andrés: El regreso por su barrio\, donde la cercanía de los vecinos y el ambiente popular crean una atmósfera de «Esperanza» compartida.\nEntrada en el Templo: Un cierre apoteósico ya de noche\, donde la música y la devoción sellan una jornada transformadora.
URL:https://www.cordoba.info/evento/hermandad-esperanza-cordoba-itinerario-horarios/
LOCATION:Iglesia de San Andrés Apóstol\, Plaza de San Andrés\, Córdoba\, Córdoba\, 14002\, Spain
CATEGORIES:Eventos religiosos y procesiones
ATTACH;FMTTYPE=image/jpeg:https://www.cordoba.info/wp-content/uploads/sites/5/2026/01/SEMANA_SANTA_ESPERANZA_CORDOBA_15.jpg
END:VEVENT
END:VCALENDAR