BEGIN:VCALENDAR
VERSION:2.0
PRODID:-//Cordoba.info - ECPv6.14.2//NONSGML v1.0//EN
CALSCALE:GREGORIAN
METHOD:PUBLISH
X-ORIGINAL-URL:https://www.cordoba.info
X-WR-CALDESC:Eventos para Cordoba.info
REFRESH-INTERVAL;VALUE=DURATION:PT1H
X-Robots-Tag:noindex
X-PUBLISHED-TTL:PT1H
BEGIN:VTIMEZONE
TZID:Europe/Madrid
BEGIN:DAYLIGHT
TZOFFSETFROM:+0100
TZOFFSETTO:+0200
TZNAME:CEST
DTSTART:20260329T010000
END:DAYLIGHT
BEGIN:STANDARD
TZOFFSETFROM:+0200
TZOFFSETTO:+0100
TZNAME:CET
DTSTART:20261025T010000
END:STANDARD
END:VTIMEZONE
BEGIN:VEVENT
DTSTART;TZID=Europe/Madrid:20260423T190000
DTEND;TZID=Europe/Madrid:20260423T213000
DTSTAMP:20260425T035417
CREATED:20260421T112058Z
LAST-MODIFIED:20260421T112636Z
UID:689410102201-1776970800-1776979800@www.cordoba.info
SUMMARY:Conferencia: «El desarrollo urbano de la Córdoba islámica (ss. VIII-XIII)»
DESCRIPTION:La Biblioteca Viva de Al-Andalus acoge el próximo jueves 23 de abril una sesión magistral sobre la configuración histórica de nuestra ciudad. El arqueólogo e investigador Rafael Blanco Guzmán (Universidad de Córdoba) desgranará el crecimiento urbano de la Córdoba islámica desde la llegada del Islam en el siglo VIII hasta la conquista cristiana en el XIII. La sesión\, presentada por la asociación Córdoba solo hay una\, recorrerá los hitos constructivos\, la expansión de los arrabales y la organización del espacio que convirtieron a Córdoba en el espejo del mundo durante el Califato. \nLa propuesta de Rafael Blanco en Córdoba destaca por su rigor científico basado en las últimas excavaciones arqueológicas. Lejos de mitos\, la charla ofrecerá una visión técnica y apasionada sobre cómo se gestionaba el agua\, las murallas y los mercados en la Córdoba omeya. Si buscas eventos en Córdoba hoy (o para tu agenda de jueves) que aporten conocimiento real sobre nuestro pasado andalusí\, esta cita en el Palacio de los Páez de Castillejo es una parada obligatoria. \nEsta conferencia es una oportunidad de lujo para entender por qué nuestras calles tienen la forma que tienen. Una lección de historia urbana en el entorno inigualable del Palacio del Bailío\, más concretamente Biblioteca Viva de Al-Andalus.
URL:https://www.cordoba.info/evento/conferencia-rafael-blanco-urbanismo-islmico-cordoba-2026/
LOCATION:Biblioteca Viva de Al-Andalus\, Cuesta del Bailío 3\, Córdoba\, Córdoba\, 14001\, Spain
CATEGORIES:Conferencias
ATTACH;FMTTYPE=image/jpeg:https://www.cordoba.info/wp-content/uploads/sites/5/2026/04/094d1a48-19a1-465c-831e-e13c91dcb636.jpg
GEO:37.88766° N;–4.77714° W
X-APPLE-STRUCTURED-LOCATION;VALUE=URI;X-ADDRESS=Biblioteca Viva de Al-Andalus Cuesta del Bailío 3 Córdoba Córdoba 14001 Spain;X-APPLE-RADIUS=500;X-TITLE=Cuesta del Bailío 3:geo:–4.77714° W,37.88766° N
END:VEVENT
END:VCALENDAR