BEGIN:VCALENDAR
VERSION:2.0
PRODID:-//Cordoba.info - ECPv6.14.2//NONSGML v1.0//EN
CALSCALE:GREGORIAN
METHOD:PUBLISH
X-WR-CALNAME:Cordoba.info
X-ORIGINAL-URL:https://www.cordoba.info
X-WR-CALDESC:Eventos para Cordoba.info
REFRESH-INTERVAL;VALUE=DURATION:PT1H
X-Robots-Tag:noindex
X-PUBLISHED-TTL:PT1H
BEGIN:VTIMEZONE
TZID:Europe/Madrid
BEGIN:DAYLIGHT
TZOFFSETFROM:+0100
TZOFFSETTO:+0200
TZNAME:CEST
DTSTART:20260329T010000
END:DAYLIGHT
BEGIN:STANDARD
TZOFFSETFROM:+0200
TZOFFSETTO:+0100
TZNAME:CET
DTSTART:20261025T010000
END:STANDARD
END:VTIMEZONE
BEGIN:VEVENT
DTSTART;TZID=Europe/Madrid:20260423T170000
DTEND;TZID=Europe/Madrid:20260423T184500
DTSTAMP:20260424T042440
CREATED:20260404T083618Z
LAST-MODIFIED:20260404T095059Z
UID:689410101475-1776963600-1776969900@www.cordoba.info
SUMMARY:Visita guiada a los patios de Córdoba - Tarde
DESCRIPTION:Hay ciudades bonitas… y luego está Córdoba en mayo. \nEsta visita no va solo de ver patios. Va de entender por qué existen\, quién los cuida y qué historia se esconde detrás de cada maceta\, cada pozo y cada rincón que parece sacado de otro siglo. \nDurante 1\,5–2 horas recorrerás algunos de los patios más emblemáticos y premiados del Concurso Popular\, acompañado por un guía experto que te irá revelando lo que normalmente pasa desapercibido: cómo se organizan las casas\, cómo se vive el patio desde dentro y por qué este legado fue reconocido como Patrimonio Inmaterial de la Humanidad por la UNESCO. \nNo es una visita de fotos rápidas. Es una experiencia para mirar con otros ojos. \nIdeal si quieres ir más allá del “qué bonito” y entender de verdad Córdoba.
URL:https://www.cordoba.info/evento/visita-guiada-a-los-patios-de-cordoba-tarde-14/
LOCATION:Barrio de San Basilio\, Barrio de San Basilio\, Córdoba\, Córdoba\, Spain
CATEGORIES:Visitas guiadas y rutas
ATTACH;FMTTYPE=image/jpeg:https://www.cordoba.info/wp-content/uploads/sites/5/2026/01/5e9359fab9f105b2a6661fc7_VISITA_GUIADA_TOUR_PATIOS_CORDOBA_01-2.jpg
GEO:37.875884420494;-4.783973386773
X-APPLE-STRUCTURED-LOCATION;VALUE=URI;X-ADDRESS=Barrio de San Basilio Barrio de San Basilio Córdoba Córdoba Spain;X-APPLE-RADIUS=500;X-TITLE=Barrio de San Basilio:geo:-4.783973386773,37.875884420494
END:VEVENT
BEGIN:VEVENT
DTSTART;TZID=Europe/Madrid:20260422T170000
DTEND;TZID=Europe/Madrid:20260422T184500
DTSTAMP:20260424T042440
CREATED:20260404T083455Z
LAST-MODIFIED:20260404T095136Z
UID:689410101474-1776877200-1776883500@www.cordoba.info
SUMMARY:Visita guiada a los patios de Córdoba - Tarde
DESCRIPTION:Hay ciudades bonitas… y luego está Córdoba en mayo. \nEsta visita no va solo de ver patios. Va de entender por qué existen\, quién los cuida y qué historia se esconde detrás de cada maceta\, cada pozo y cada rincón que parece sacado de otro siglo. \nDurante 1\,5–2 horas recorrerás algunos de los patios más emblemáticos y premiados del Concurso Popular\, acompañado por un guía experto que te irá revelando lo que normalmente pasa desapercibido: cómo se organizan las casas\, cómo se vive el patio desde dentro y por qué este legado fue reconocido como Patrimonio Inmaterial de la Humanidad por la UNESCO. \nNo es una visita de fotos rápidas. Es una experiencia para mirar con otros ojos. \nIdeal si quieres ir más allá del “qué bonito” y entender de verdad Córdoba.
URL:https://www.cordoba.info/evento/visita-guiada-a-los-patios-de-cordoba-tarde-15/
LOCATION:Barrio de San Basilio\, Barrio de San Basilio\, Córdoba\, Córdoba\, Spain
CATEGORIES:Visitas guiadas y rutas
ATTACH;FMTTYPE=image/jpeg:https://www.cordoba.info/wp-content/uploads/sites/5/2026/01/5e9359fab9f105b2a6661fc7_VISITA_GUIADA_TOUR_PATIOS_CORDOBA_01-2.jpg
GEO:37.875884420494;-4.783973386773
X-APPLE-STRUCTURED-LOCATION;VALUE=URI;X-ADDRESS=Barrio de San Basilio Barrio de San Basilio Córdoba Córdoba Spain;X-APPLE-RADIUS=500;X-TITLE=Barrio de San Basilio:geo:-4.783973386773,37.875884420494
END:VEVENT
BEGIN:VEVENT
DTSTART;TZID=Europe/Madrid:20260420T170000
DTEND;TZID=Europe/Madrid:20260420T184500
DTSTAMP:20260424T042440
CREATED:20260404T083339Z
LAST-MODIFIED:20260404T095207Z
UID:689410101473-1776704400-1776710700@www.cordoba.info
SUMMARY:Visita guiada a los patios de Córdoba - Tarde
DESCRIPTION:Hay ciudades bonitas… y luego está Córdoba en mayo. \nEsta visita no va solo de ver patios. Va de entender por qué existen\, quién los cuida y qué historia se esconde detrás de cada maceta\, cada pozo y cada rincón que parece sacado de otro siglo. \nDurante 1\,5–2 horas recorrerás algunos de los patios más emblemáticos y premiados del Concurso Popular\, acompañado por un guía experto que te irá revelando lo que normalmente pasa desapercibido: cómo se organizan las casas\, cómo se vive el patio desde dentro y por qué este legado fue reconocido como Patrimonio Inmaterial de la Humanidad por la UNESCO. \nNo es una visita de fotos rápidas. Es una experiencia para mirar con otros ojos. \nIdeal si quieres ir más allá del “qué bonito” y entender de verdad Córdoba.
URL:https://www.cordoba.info/evento/visita-guiada-a-los-patios-de-cordoba-tarde-16/
LOCATION:Barrio de San Basilio\, Barrio de San Basilio\, Córdoba\, Córdoba\, Spain
CATEGORIES:Visitas guiadas y rutas
ATTACH;FMTTYPE=image/jpeg:https://www.cordoba.info/wp-content/uploads/sites/5/2026/01/5e9359fab9f105b2a6661fc7_VISITA_GUIADA_TOUR_PATIOS_CORDOBA_01-2.jpg
GEO:37.875884420494;-4.783973386773
X-APPLE-STRUCTURED-LOCATION;VALUE=URI;X-ADDRESS=Barrio de San Basilio Barrio de San Basilio Córdoba Córdoba Spain;X-APPLE-RADIUS=500;X-TITLE=Barrio de San Basilio:geo:-4.783973386773,37.875884420494
END:VEVENT
BEGIN:VEVENT
DTSTART;TZID=Europe/Madrid:20260418T170000
DTEND;TZID=Europe/Madrid:20260418T184500
DTSTAMP:20260424T042440
CREATED:20260404T083220Z
LAST-MODIFIED:20260404T095239Z
UID:689410101472-1776531600-1776537900@www.cordoba.info
SUMMARY:Visita guiada a los patios de Córdoba - Tarde
DESCRIPTION:Hay ciudades bonitas… y luego está Córdoba en mayo. \nEsta visita no va solo de ver patios. Va de entender por qué existen\, quién los cuida y qué historia se esconde detrás de cada maceta\, cada pozo y cada rincón que parece sacado de otro siglo. \nDurante 1\,5–2 horas recorrerás algunos de los patios más emblemáticos y premiados del Concurso Popular\, acompañado por un guía experto que te irá revelando lo que normalmente pasa desapercibido: cómo se organizan las casas\, cómo se vive el patio desde dentro y por qué este legado fue reconocido como Patrimonio Inmaterial de la Humanidad por la UNESCO. \nNo es una visita de fotos rápidas. Es una experiencia para mirar con otros ojos. \nIdeal si quieres ir más allá del “qué bonito” y entender de verdad Córdoba.
URL:https://www.cordoba.info/evento/visita-guiada-a-los-patios-de-cordoba-tarde-17/
LOCATION:Barrio de San Basilio\, Barrio de San Basilio\, Córdoba\, Córdoba\, Spain
CATEGORIES:Visitas guiadas y rutas
ATTACH;FMTTYPE=image/jpeg:https://www.cordoba.info/wp-content/uploads/sites/5/2026/01/5e9359fab9f105b2a6661fc7_VISITA_GUIADA_TOUR_PATIOS_CORDOBA_01-2.jpg
GEO:37.875884420494;-4.783973386773
X-APPLE-STRUCTURED-LOCATION;VALUE=URI;X-ADDRESS=Barrio de San Basilio Barrio de San Basilio Córdoba Córdoba Spain;X-APPLE-RADIUS=500;X-TITLE=Barrio de San Basilio:geo:-4.783973386773,37.875884420494
END:VEVENT
BEGIN:VEVENT
DTSTART;TZID=Europe/Madrid:20260417T170000
DTEND;TZID=Europe/Madrid:20260417T184500
DTSTAMP:20260424T042440
CREATED:20260404T083109Z
LAST-MODIFIED:20260404T095320Z
UID:689410101471-1776445200-1776451500@www.cordoba.info
SUMMARY:Visita guiada a los patios de Córdoba - Tarde
DESCRIPTION:Hay ciudades bonitas… y luego está Córdoba en mayo. \nEsta visita no va solo de ver patios. Va de entender por qué existen\, quién los cuida y qué historia se esconde detrás de cada maceta\, cada pozo y cada rincón que parece sacado de otro siglo. \nDurante 1\,5–2 horas recorrerás algunos de los patios más emblemáticos y premiados del Concurso Popular\, acompañado por un guía experto que te irá revelando lo que normalmente pasa desapercibido: cómo se organizan las casas\, cómo se vive el patio desde dentro y por qué este legado fue reconocido como Patrimonio Inmaterial de la Humanidad por la UNESCO. \nNo es una visita de fotos rápidas. Es una experiencia para mirar con otros ojos. \nIdeal si quieres ir más allá del “qué bonito” y entender de verdad Córdoba.
URL:https://www.cordoba.info/evento/visita-guiada-a-los-patios-de-cordoba-tarde-18/
LOCATION:Barrio de San Basilio\, Barrio de San Basilio\, Córdoba\, Córdoba\, Spain
CATEGORIES:Visitas guiadas y rutas
ATTACH;FMTTYPE=image/jpeg:https://www.cordoba.info/wp-content/uploads/sites/5/2026/01/5e9359fab9f105b2a6661fc7_VISITA_GUIADA_TOUR_PATIOS_CORDOBA_01-2.jpg
GEO:37.875884420494;-4.783973386773
X-APPLE-STRUCTURED-LOCATION;VALUE=URI;X-ADDRESS=Barrio de San Basilio Barrio de San Basilio Córdoba Córdoba Spain;X-APPLE-RADIUS=500;X-TITLE=Barrio de San Basilio:geo:-4.783973386773,37.875884420494
END:VEVENT
BEGIN:VEVENT
DTSTART;TZID=Europe/Madrid:20260416T170000
DTEND;TZID=Europe/Madrid:20260416T184500
DTSTAMP:20260424T042440
CREATED:20260404T082944Z
LAST-MODIFIED:20260404T095402Z
UID:689410101470-1776358800-1776365100@www.cordoba.info
SUMMARY:Visita guiada a los patios de Córdoba - Tarde
DESCRIPTION:Hay ciudades bonitas… y luego está Córdoba en mayo. \nEsta visita no va solo de ver patios. Va de entender por qué existen\, quién los cuida y qué historia se esconde detrás de cada maceta\, cada pozo y cada rincón que parece sacado de otro siglo. \nDurante 1\,5–2 horas recorrerás algunos de los patios más emblemáticos y premiados del Concurso Popular\, acompañado por un guía experto que te irá revelando lo que normalmente pasa desapercibido: cómo se organizan las casas\, cómo se vive el patio desde dentro y por qué este legado fue reconocido como Patrimonio Inmaterial de la Humanidad por la UNESCO. \nNo es una visita de fotos rápidas. Es una experiencia para mirar con otros ojos. \nIdeal si quieres ir más allá del “qué bonito” y entender de verdad Córdoba.
URL:https://www.cordoba.info/evento/visita-guiada-a-los-patios-de-cordoba-tarde-19/
LOCATION:Barrio de San Basilio\, Barrio de San Basilio\, Córdoba\, Córdoba\, Spain
CATEGORIES:Visitas guiadas y rutas
ATTACH;FMTTYPE=image/jpeg:https://www.cordoba.info/wp-content/uploads/sites/5/2026/01/5e9359fab9f105b2a6661fc7_VISITA_GUIADA_TOUR_PATIOS_CORDOBA_01-2.jpg
GEO:37.875884420494;-4.783973386773
X-APPLE-STRUCTURED-LOCATION;VALUE=URI;X-ADDRESS=Barrio de San Basilio Barrio de San Basilio Córdoba Córdoba Spain;X-APPLE-RADIUS=500;X-TITLE=Barrio de San Basilio:geo:-4.783973386773,37.875884420494
END:VEVENT
BEGIN:VEVENT
DTSTART;TZID=Europe/Madrid:20260415T170000
DTEND;TZID=Europe/Madrid:20260415T184500
DTSTAMP:20260424T042440
CREATED:20260404T082805Z
LAST-MODIFIED:20260404T095433Z
UID:689410101469-1776272400-1776278700@www.cordoba.info
SUMMARY:Visita guiada a los patios de Córdoba - Tarde
DESCRIPTION:Hay ciudades bonitas… y luego está Córdoba en mayo. \nEsta visita no va solo de ver patios. Va de entender por qué existen\, quién los cuida y qué historia se esconde detrás de cada maceta\, cada pozo y cada rincón que parece sacado de otro siglo. \nDurante 1\,5–2 horas recorrerás algunos de los patios más emblemáticos y premiados del Concurso Popular\, acompañado por un guía experto que te irá revelando lo que normalmente pasa desapercibido: cómo se organizan las casas\, cómo se vive el patio desde dentro y por qué este legado fue reconocido como Patrimonio Inmaterial de la Humanidad por la UNESCO. \nNo es una visita de fotos rápidas. Es una experiencia para mirar con otros ojos. \nIdeal si quieres ir más allá del “qué bonito” y entender de verdad Córdoba.
URL:https://www.cordoba.info/evento/visita-guiada-a-los-patios-de-cordoba-tarde-20/
LOCATION:Barrio de San Basilio\, Barrio de San Basilio\, Córdoba\, Córdoba\, Spain
CATEGORIES:Visitas guiadas y rutas
ATTACH;FMTTYPE=image/jpeg:https://www.cordoba.info/wp-content/uploads/sites/5/2026/01/5e9359fab9f105b2a6661fc7_VISITA_GUIADA_TOUR_PATIOS_CORDOBA_01-2.jpg
GEO:37.875884420494;-4.783973386773
X-APPLE-STRUCTURED-LOCATION;VALUE=URI;X-ADDRESS=Barrio de San Basilio Barrio de San Basilio Córdoba Córdoba Spain;X-APPLE-RADIUS=500;X-TITLE=Barrio de San Basilio:geo:-4.783973386773,37.875884420494
END:VEVENT
BEGIN:VEVENT
DTSTART;TZID=Europe/Madrid:20260413T170000
DTEND;TZID=Europe/Madrid:20260413T184500
DTSTAMP:20260424T042440
CREATED:20260404T082628Z
LAST-MODIFIED:20260404T095510Z
UID:689410101468-1776099600-1776105900@www.cordoba.info
SUMMARY:Visita guiada a los patios de Córdoba - Tarde
DESCRIPTION:Hay ciudades bonitas… y luego está Córdoba en mayo. \nEsta visita no va solo de ver patios. Va de entender por qué existen\, quién los cuida y qué historia se esconde detrás de cada maceta\, cada pozo y cada rincón que parece sacado de otro siglo. \nDurante 1\,5–2 horas recorrerás algunos de los patios más emblemáticos y premiados del Concurso Popular\, acompañado por un guía experto que te irá revelando lo que normalmente pasa desapercibido: cómo se organizan las casas\, cómo se vive el patio desde dentro y por qué este legado fue reconocido como Patrimonio Inmaterial de la Humanidad por la UNESCO. \nNo es una visita de fotos rápidas. Es una experiencia para mirar con otros ojos. \nIdeal si quieres ir más allá del “qué bonito” y entender de verdad Córdoba.
URL:https://www.cordoba.info/evento/visita-guiada-a-los-patios-de-cordoba-tarde-21/
LOCATION:Barrio de San Basilio\, Barrio de San Basilio\, Córdoba\, Córdoba\, Spain
CATEGORIES:Visitas guiadas y rutas
ATTACH;FMTTYPE=image/jpeg:https://www.cordoba.info/wp-content/uploads/sites/5/2026/01/5e9359fab9f105b2a6661fc7_VISITA_GUIADA_TOUR_PATIOS_CORDOBA_01-2.jpg
GEO:37.875884420494;-4.783973386773
X-APPLE-STRUCTURED-LOCATION;VALUE=URI;X-ADDRESS=Barrio de San Basilio Barrio de San Basilio Córdoba Córdoba Spain;X-APPLE-RADIUS=500;X-TITLE=Barrio de San Basilio:geo:-4.783973386773,37.875884420494
END:VEVENT
BEGIN:VEVENT
DTSTART;TZID=Europe/Madrid:20260411T170000
DTEND;TZID=Europe/Madrid:20260411T184500
DTSTAMP:20260424T042440
CREATED:20260404T082506Z
LAST-MODIFIED:20260404T095606Z
UID:689410101467-1775926800-1775933100@www.cordoba.info
SUMMARY:Visita guiada a los patios de Córdoba - Tarde
DESCRIPTION:Hay ciudades bonitas… y luego está Córdoba en mayo. \nEsta visita no va solo de ver patios. Va de entender por qué existen\, quién los cuida y qué historia se esconde detrás de cada maceta\, cada pozo y cada rincón que parece sacado de otro siglo. \nDurante 1\,5–2 horas recorrerás algunos de los patios más emblemáticos y premiados del Concurso Popular\, acompañado por un guía experto que te irá revelando lo que normalmente pasa desapercibido: cómo se organizan las casas\, cómo se vive el patio desde dentro y por qué este legado fue reconocido como Patrimonio Inmaterial de la Humanidad por la UNESCO. \nNo es una visita de fotos rápidas. Es una experiencia para mirar con otros ojos. \nIdeal si quieres ir más allá del “qué bonito” y entender de verdad Córdoba.
URL:https://www.cordoba.info/evento/visita-guiada-a-los-patios-de-cordoba-tarde-22/
LOCATION:Barrio de San Basilio\, Barrio de San Basilio\, Córdoba\, Córdoba\, Spain
CATEGORIES:Visitas guiadas y rutas
ATTACH;FMTTYPE=image/jpeg:https://www.cordoba.info/wp-content/uploads/sites/5/2026/01/5e9359fab9f105b2a6661fc7_VISITA_GUIADA_TOUR_PATIOS_CORDOBA_01-2.jpg
GEO:37.875884420494;-4.783973386773
X-APPLE-STRUCTURED-LOCATION;VALUE=URI;X-ADDRESS=Barrio de San Basilio Barrio de San Basilio Córdoba Córdoba Spain;X-APPLE-RADIUS=500;X-TITLE=Barrio de San Basilio:geo:-4.783973386773,37.875884420494
END:VEVENT
BEGIN:VEVENT
DTSTART;TZID=Europe/Madrid:20260410T170000
DTEND;TZID=Europe/Madrid:20260410T184500
DTSTAMP:20260424T042440
CREATED:20260404T081411Z
LAST-MODIFIED:20260404T094424Z
UID:689410101466-1775840400-1775846700@www.cordoba.info
SUMMARY:Visita guiada a los patios de Córdoba - Tarde
DESCRIPTION:Hay ciudades bonitas… y luego está Córdoba en mayo. \nEsta visita no va solo de ver patios. Va de entender por qué existen\, quién los cuida y qué historia se esconde detrás de cada maceta\, cada pozo y cada rincón que parece sacado de otro siglo. \nDurante 1\,5–2 horas recorrerás algunos de los patios más emblemáticos y premiados del Concurso Popular\, acompañado por un guía experto que te irá revelando lo que normalmente pasa desapercibido: cómo se organizan las casas\, cómo se vive el patio desde dentro y por qué este legado fue reconocido como Patrimonio Inmaterial de la Humanidad por la UNESCO. \nNo es una visita de fotos rápidas. Es una experiencia para mirar con otros ojos. \nIdeal si quieres ir más allá del “qué bonito” y entender de verdad Córdoba.
URL:https://www.cordoba.info/evento/visita-guiada-a-los-patios-de-cordoba-4/
LOCATION:Barrio de San Basilio\, Barrio de San Basilio\, Córdoba\, Córdoba\, Spain
CATEGORIES:Visitas guiadas y rutas
ATTACH;FMTTYPE=image/jpeg:https://www.cordoba.info/wp-content/uploads/sites/5/2026/01/5e9359fab9f105b2a6661fc7_VISITA_GUIADA_TOUR_PATIOS_CORDOBA_01-2.jpg
GEO:37.875884420494;-4.783973386773
X-APPLE-STRUCTURED-LOCATION;VALUE=URI;X-ADDRESS=Barrio de San Basilio Barrio de San Basilio Córdoba Córdoba Spain;X-APPLE-RADIUS=500;X-TITLE=Barrio de San Basilio:geo:-4.783973386773,37.875884420494
END:VEVENT
BEGIN:VEVENT
DTSTART;TZID=Europe/Madrid:20260409T170000
DTEND;TZID=Europe/Madrid:20260409T184500
DTSTAMP:20260424T042440
CREATED:20260404T081259Z
LAST-MODIFIED:20260404T094337Z
UID:689410101465-1775754000-1775760300@www.cordoba.info
SUMMARY:Visita guiada a los patios de Córdoba - Tarde
DESCRIPTION:Hay ciudades bonitas… y luego está Córdoba en mayo. \nEsta visita no va solo de ver patios. Va de entender por qué existen\, quién los cuida y qué historia se esconde detrás de cada maceta\, cada pozo y cada rincón que parece sacado de otro siglo. \nDurante 1\,5–2 horas recorrerás algunos de los patios más emblemáticos y premiados del Concurso Popular\, acompañado por un guía experto que te irá revelando lo que normalmente pasa desapercibido: cómo se organizan las casas\, cómo se vive el patio desde dentro y por qué este legado fue reconocido como Patrimonio Inmaterial de la Humanidad por la UNESCO. \nNo es una visita de fotos rápidas. Es una experiencia para mirar con otros ojos. \nIdeal si quieres ir más allá del “qué bonito” y entender de verdad Córdoba.
URL:https://www.cordoba.info/evento/visita-guiada-a-los-patios-de-cordoba-tarde-5/
LOCATION:Barrio de San Basilio\, Barrio de San Basilio\, Córdoba\, Córdoba\, Spain
CATEGORIES:Visitas guiadas y rutas
ATTACH;FMTTYPE=image/jpeg:https://www.cordoba.info/wp-content/uploads/sites/5/2026/01/5e9359fab9f105b2a6661fc7_VISITA_GUIADA_TOUR_PATIOS_CORDOBA_01-2.jpg
GEO:37.875884420494;-4.783973386773
X-APPLE-STRUCTURED-LOCATION;VALUE=URI;X-ADDRESS=Barrio de San Basilio Barrio de San Basilio Córdoba Córdoba Spain;X-APPLE-RADIUS=500;X-TITLE=Barrio de San Basilio:geo:-4.783973386773,37.875884420494
END:VEVENT
BEGIN:VEVENT
DTSTART;TZID=Europe/Madrid:20260408T170000
DTEND;TZID=Europe/Madrid:20260408T184500
DTSTAMP:20260424T042440
CREATED:20260404T073509Z
LAST-MODIFIED:20260404T094307Z
UID:689410101464-1775667600-1775673900@www.cordoba.info
SUMMARY:Visita guiada a los patios de Córdoba - Tarde
DESCRIPTION:Hay ciudades bonitas… y luego está Córdoba en mayo. \nEsta visita no va solo de ver patios. Va de entender por qué existen\, quién los cuida y qué historia se esconde detrás de cada maceta\, cada pozo y cada rincón que parece sacado de otro siglo. \nDurante 1\,5–2 horas recorrerás algunos de los patios más emblemáticos y premiados del Concurso Popular\, acompañado por un guía experto que te irá revelando lo que normalmente pasa desapercibido: cómo se organizan las casas\, cómo se vive el patio desde dentro y por qué este legado fue reconocido como Patrimonio Inmaterial de la Humanidad por la UNESCO. \nNo es una visita de fotos rápidas. Es una experiencia para mirar con otros ojos. \nIdeal si quieres ir más allá del “qué bonito” y entender de verdad Córdoba.
URL:https://www.cordoba.info/evento/visita-guiada-a-los-patios-de-cordoba-tarde-4/
LOCATION:Barrio de San Basilio\, Barrio de San Basilio\, Córdoba\, Córdoba\, Spain
CATEGORIES:Visitas guiadas y rutas
ATTACH;FMTTYPE=image/jpeg:https://www.cordoba.info/wp-content/uploads/sites/5/2026/01/5e9359fab9f105b2a6661fc7_VISITA_GUIADA_TOUR_PATIOS_CORDOBA_01-2.jpg
GEO:37.875884420494;-4.783973386773
X-APPLE-STRUCTURED-LOCATION;VALUE=URI;X-ADDRESS=Barrio de San Basilio Barrio de San Basilio Córdoba Córdoba Spain;X-APPLE-RADIUS=500;X-TITLE=Barrio de San Basilio:geo:-4.783973386773,37.875884420494
END:VEVENT
BEGIN:VEVENT
DTSTART;TZID=Europe/Madrid:20260406T170000
DTEND;TZID=Europe/Madrid:20260406T184500
DTSTAMP:20260424T042440
CREATED:20260404T071955Z
LAST-MODIFIED:20260404T094236Z
UID:689410101463-1775494800-1775501100@www.cordoba.info
SUMMARY:Visita guiada a los patios de Córdoba - Tarde
DESCRIPTION:Hay ciudades bonitas… y luego está Córdoba en mayo. \nEsta visita no va solo de ver patios. Va de entender por qué existen\, quién los cuida y qué historia se esconde detrás de cada maceta\, cada pozo y cada rincón que parece sacado de otro siglo. \nDurante 1\,5–2 horas recorrerás algunos de los patios más emblemáticos y premiados del Concurso Popular\, acompañado por un guía experto que te irá revelando lo que normalmente pasa desapercibido: cómo se organizan las casas\, cómo se vive el patio desde dentro y por qué este legado fue reconocido como Patrimonio Inmaterial de la Humanidad por la UNESCO. \nNo es una visita de fotos rápidas. Es una experiencia para mirar con otros ojos. \nIdeal si quieres ir más allá del “qué bonito” y entender de verdad Córdoba.
URL:https://www.cordoba.info/evento/visita-guiada-a-los-patios-de-cordoba-tarde-3/
LOCATION:Barrio de San Basilio\, Barrio de San Basilio\, Córdoba\, Córdoba\, Spain
CATEGORIES:Visitas guiadas y rutas
ATTACH;FMTTYPE=image/jpeg:https://www.cordoba.info/wp-content/uploads/sites/5/2026/01/5e9359fab9f105b2a6661fc7_VISITA_GUIADA_TOUR_PATIOS_CORDOBA_01-2.jpg
GEO:37.875884420494;-4.783973386773
X-APPLE-STRUCTURED-LOCATION;VALUE=URI;X-ADDRESS=Barrio de San Basilio Barrio de San Basilio Córdoba Córdoba Spain;X-APPLE-RADIUS=500;X-TITLE=Barrio de San Basilio:geo:-4.783973386773,37.875884420494
END:VEVENT
BEGIN:VEVENT
DTSTART;TZID=Europe/Madrid:20260401T201000
DTEND;TZID=Europe/Madrid:20260402T010000
DTSTAMP:20260424T042440
CREATED:20260124T073717Z
LAST-MODIFIED:20260224T134526Z
UID:689410096651-1775074200-1775091600@www.cordoba.info
SUMMARY:Procesión de la Pasión
DESCRIPTION:Radicada en la emblemática Parroquia de San Basilio\, esta cofradía es el símbolo de un barrio famoso por sus patios y su historia. Fundada en 1939\, pero con raíces que se hunden en el siglo XVII\, la hermandad de Pasión despliega un cortejo lleno de clasicismo y fervor popular que transforma las calles del Alcázar Viejo en una catequesis de arte y devoción. \nLa estación de penitencia se compone de dos joyas barrocas de autoría anónima: Nuestro Padre Jesús de la Pasión\, un Nazareno de mirada dulce que camina con la cruz al hombro sobre un majestuoso paso de talla dorada\, y María Santísima del Amor\, que procesiona bajo palio acompañada de forma singular por la imagen de San Juan Evangelista\, recreando la «Sacra Conversación» en un conjunto de elegancia insuperable. \nMomentos Estelares del Itinerario\n\n20:35 – Salida (San Basilio): El inicio de la procesión es un rito vecinal. El paso por el Arco de las Caballerizas es uno de los momentos más fotografiados de la Semana Santa cordobesa por su estrechez y belleza.\nEl Triunfo y Entorno de la Catedral: La cofradía alcanza su máxima solemnidad en el entorno monumental\, donde el sonido de la agrupación musical del Señor resuena entre las piedras milenarias.\nPaso por la Judería: Ya de regreso\, el transcurrir por calles como Deanes o Judería ofrece estampas de una intimidad mágica bajo la luz de los cirios.\n01:00 – Entrada en el Templo: El cierre en la Plaza de San Basilio\, con el barrio volcado y el cansancio transformado en oración\, pone el broche de oro a una jornada inolvidable.
URL:https://www.cordoba.info/evento/procesion-pasion-cordoba-itinerario-horarios/
LOCATION:Iglesia de Nuestra Señora de la Paz\, Calle San Basilio\, Córdoba\, Córdoba\, 14004\, Spain
CATEGORIES:Eventos religiosos y procesiones
ATTACH;FMTTYPE=image/jpeg:https://www.cordoba.info/wp-content/uploads/sites/5/2026/01/SEMANA_SANTA_PASION_CORDOBA_08.jpg
END:VEVENT
END:VCALENDAR