BEGIN:VCALENDAR
VERSION:2.0
PRODID:-//Cordoba.info - ECPv6.14.2//NONSGML v1.0//EN
CALSCALE:GREGORIAN
METHOD:PUBLISH
X-ORIGINAL-URL:https://www.cordoba.info
X-WR-CALDESC:Eventos para Cordoba.info
REFRESH-INTERVAL;VALUE=DURATION:PT1H
X-Robots-Tag:noindex
X-PUBLISHED-TTL:PT1H
BEGIN:VTIMEZONE
TZID:Europe/Madrid
BEGIN:DAYLIGHT
TZOFFSETFROM:+0100
TZOFFSETTO:+0200
TZNAME:CEST
DTSTART:20260329T010000
END:DAYLIGHT
BEGIN:STANDARD
TZOFFSETFROM:+0200
TZOFFSETTO:+0100
TZNAME:CET
DTSTART:20261025T010000
END:STANDARD
END:VTIMEZONE
BEGIN:VEVENT
DTSTART;TZID=Europe/Madrid:20260126T100000
DTEND;TZID=Europe/Madrid:20260126T114500
DTSTAMP:20260423T002722
CREATED:20260115T172136Z
LAST-MODIFIED:20260115T172136Z
UID:689410093480-1769421600-1769427900@www.cordoba.info
SUMMARY:Visita Guiada Mezquita de Córdoba Matutina
DESCRIPTION:Adéntrate en uno de los monumentos más impresionantes del mundo con esta visita guiada a la Mezquita-Catedral de Córdoba\, declarada Patrimonio de la Humanidad por la UNESCO. Durante 1\,5 horas\, un historiador experto te conducirá por un viaje a través de más de mil años de historia\, explorando la herencia visigoda\, las construcciones y ampliaciones omeyas y califales así. como las transformaciones cristianas que han dado forma a este espacio único. \nConocerás los restos de la antigua Basílica Visigoda de San Vicente\, admirarás el espectacular Mihrab y la cúpula de la maqsura\, y descubrirás rincones tan singulares como la Capilla Real o la Sillería de Coro. Cada explicación te permitirá comprender no solo la arquitectura\, sino también el valor cultural y simbólico que este templo representa para la ciudad. \nLa entrada al recinto está incluida en el precio (opcional)\, y el recorrido está disponible en varios idiomas. El punto de encuentro se sitúa en la Puerta del Perdón de la Mezquita-Catedral\, garantizando un acceso cómodo y directo. Una experiencia imprescindible para comprender el alma de Córdoba.
URL:https://www.cordoba.info/evento/visita-guiada-mezquita-de-cordoba-matutina-8/
LOCATION:Mezquita‑Catedral de Córdoba\, Calle Cardenal Hererro\, 1\, Córdoba\, Córdoba\, 14003\, Spain
CATEGORIES:Visitas guiadas y rutas
ATTACH;FMTTYPE=image/jpeg:https://www.cordoba.info/wp-content/uploads/sites/5/2025/09/MEZQUITA_CATEDRAL_CORDOBA_AMPLIACION_ALMANZOR_02.jpg
GEO:378.790;4.7800 Grupo Rosales+13123 Coordenadas+13Wikipedia+13
X-APPLE-STRUCTURED-LOCATION;VALUE=URI;X-ADDRESS=Mezquita‑Catedral de Córdoba Calle Cardenal Hererro 1 Córdoba Córdoba 14003 Spain;X-APPLE-RADIUS=500;X-TITLE=Calle Cardenal Hererro\, 1:geo:4.7800 Grupo Rosales+13123 Coordenadas+13Wikipedia+13,378.790
END:VEVENT
BEGIN:VEVENT
DTSTART;TZID=Europe/Madrid:20260126T101500
DTEND;TZID=Europe/Madrid:20260126T114500
DTSTAMP:20260423T002722
CREATED:20260118T201307Z
LAST-MODIFIED:20260118T201307Z
UID:689410096308-1769422500-1769427900@www.cordoba.info
SUMMARY:Free Tour Centro Histórico de Córdoba - Matutino
DESCRIPTION:El Free Tour Centro Histórico de Córdoba es la mejor forma de comenzar tu visita a la ciudad y conocer su esencia. Acompañado por un guía experto\, recorrerás algunos de los rincones más emblemáticos del Casco Histórico\, declarado Patrimonio de la Humanidad por la UNESCO. \nEl punto de encuentro es la Plaza del Triunfo\, entre la Mezquita-Catedral y el Puente Romano\, un lugar emblemático presidido por el Triunfo de San Rafael\, custodio de la ciudad. Desde allí iniciaremos un recorrido que te llevará por la Mezquita-Catedral\, el Puente Romano y la Puerta del Puente\, auténticos iconos de Córdoba. \nDespués\, nos adentraremos en las callejuelas encaladas del barrio antiguo\, con paradas especiales en lugares tan pintorescos como la Calleja de las Flores. Continuaremos hacia el barrio medieval para descubrir plazas cargadas de historia como la Plaza del Potro o la Corredera\, epicentro de la vida popular cordobesa. \nEste tour es gratuito (aportación libre al guía al final de la visita) y se ofrece en dos horarios matinales (10:15 y 12:30)\, además de una versión nocturna complementaria. Una experiencia cercana\, cultural y enriquecedora para conocer lo mejor de Córdoba en pocas horas.
URL:https://www.cordoba.info/evento/free-tour-centro-historico-de-cordoba-matutino-8/
LOCATION:Patio de los Naranjos\, Calle Cardenal Herrero\, 1\, Córdoba\, Córdoba\, 14001\, Spain
CATEGORIES:Visitas guiadas y rutas
ATTACH;FMTTYPE=image/jpeg:https://www.cordoba.info/wp-content/uploads/sites/5/2025/08/Free-Tour-1726569977302-1-scaled.jpg
END:VEVENT
BEGIN:VEVENT
DTSTART;TZID=Europe/Madrid:20260126T123000
DTEND;TZID=Europe/Madrid:20260126T134500
DTSTAMP:20260423T002722
CREATED:20260119T054804Z
LAST-MODIFIED:20260119T054804Z
UID:689410096378-1769430600-1769435100@www.cordoba.info
SUMMARY:Free Tour Centro Histórico de Córdoba - Mediodía
DESCRIPTION:El Free Tour Centro Histórico de Córdoba es la mejor forma de comenzar tu visita a la ciudad y conocer su esencia. Acompañado por un guía experto\, recorrerás algunos de los rincones más emblemáticos del Casco Histórico\, declarado Patrimonio de la Humanidad por la UNESCO. \nEl punto de encuentro es la Plaza del Triunfo\, entre la Mezquita-Catedral y el Puente Romano\, un lugar emblemático presidido por el Triunfo de San Rafael\, custodio de la ciudad. Desde allí iniciaremos un recorrido que te llevará por la Mezquita-Catedral\, el Puente Romano y la Puerta del Puente\, auténticos iconos de Córdoba. \nDespués\, nos adentraremos en las callejuelas encaladas del barrio antiguo\, con paradas especiales en lugares tan pintorescos como la Calleja de las Flores. Continuaremos hacia el barrio medieval para descubrir plazas cargadas de historia como la Plaza del Potro o la Corredera\, epicentro de la vida popular cordobesa. \nEste tour es gratuito (aportación libre al guía al final de la visita) y se ofrece en dos horarios matinales (10:15 y 12:30)\, además de una versión nocturna complementaria. Una experiencia cercana\, cultural y enriquecedora para conocer lo mejor de Córdoba en pocas horas.
URL:https://www.cordoba.info/evento/free-tour-centro-historico-de-cordoba-mediodia-7/
LOCATION:Patio de los Naranjos\, Calle Cardenal Herrero\, 1\, Córdoba\, Córdoba\, 14001\, Spain
CATEGORIES:Visitas guiadas y rutas
ATTACH;FMTTYPE=image/jpeg:https://www.cordoba.info/wp-content/uploads/sites/5/2025/08/Free-Tour-1726569977302-1-scaled.jpg
END:VEVENT
BEGIN:VEVENT
DTSTART;TZID=Europe/Madrid:20260126T123000
DTEND;TZID=Europe/Madrid:20260126T140000
DTSTAMP:20260423T002722
CREATED:20260118T082910Z
LAST-MODIFIED:20260118T082910Z
UID:689410095447-1769430600-1769436000@www.cordoba.info
SUMMARY:Visita Guiada Mezquita de Córdoba Mediodía
DESCRIPTION:Adéntrate en uno de los monumentos más impresionantes del mundo con esta visita guiada a la Mezquita-Catedral de Córdoba\, declarada Patrimonio de la Humanidad por la UNESCO. Durante 1\,5 horas\, un historiador experto te conducirá por un viaje a través de más de mil años de historia\, explorando la herencia visigoda\, las construcciones y ampliaciones omeyas y califales así. como las transformaciones cristianas que han dado forma a este espacio único. \nConocerás los restos de la antigua Basílica Visigoda de San Vicente\, admirarás el espectacular Mihrab y la cúpula de la maqsura\, y descubrirás rincones tan singulares como la Capilla Real o la Sillería de Coro. Cada explicación te permitirá comprender no solo la arquitectura\, sino también el valor cultural y simbólico que este templo representa para la ciudad. \nLa entrada al recinto está incluida en el precio (opcional)\, y el recorrido está disponible en varios idiomas. El punto de encuentro se sitúa en la Puerta del Perdón de la Mezquita-Catedral\, garantizando un acceso cómodo y directo. Una experiencia imprescindible para comprender el alma de Córdoba.
URL:https://www.cordoba.info/evento/visita-guiada-mezquita-de-cordoba-mediodia-6/
LOCATION:Mezquita‑Catedral de Córdoba\, Calle Cardenal Hererro\, 1\, Córdoba\, Córdoba\, 14003\, Spain
CATEGORIES:Visitas guiadas y rutas
ATTACH;FMTTYPE=image/jpeg:https://www.cordoba.info/wp-content/uploads/sites/5/2025/08/Mezquita-de-Cordoba.jpg
GEO:378.790;4.7800 Grupo Rosales+13123 Coordenadas+13Wikipedia+13
X-APPLE-STRUCTURED-LOCATION;VALUE=URI;X-ADDRESS=Mezquita‑Catedral de Córdoba Calle Cardenal Hererro 1 Córdoba Córdoba 14003 Spain;X-APPLE-RADIUS=500;X-TITLE=Calle Cardenal Hererro\, 1:geo:4.7800 Grupo Rosales+13123 Coordenadas+13Wikipedia+13,378.790
END:VEVENT
BEGIN:VEVENT
DTSTART;TZID=Europe/Madrid:20260126T160000
DTEND;TZID=Europe/Madrid:20260126T173000
DTSTAMP:20260423T002722
CREATED:20260119T092134Z
LAST-MODIFIED:20260119T092134Z
UID:689410096444-1769443200-1769448600@www.cordoba.info
SUMMARY:Visita Guiada Mezquita de Córdoba Tarde
DESCRIPTION:Adéntrate en uno de los monumentos más impresionantes del mundo con esta visita guiada a la Mezquita-Catedral de Córdoba\, declarada Patrimonio de la Humanidad por la UNESCO. Durante 1\,5 horas\, un historiador experto te conducirá por un viaje a través de más de mil años de historia\, explorando la herencia visigoda\, las construcciones y ampliaciones omeyas y califales así. como las transformaciones cristianas que han dado forma a este espacio único. \nConocerás los restos de la antigua Basílica Visigoda de San Vicente\, admirarás el espectacular Mihrab y la cúpula de la maqsura\, y descubrirás rincones tan singulares como la Capilla Real o la Sillería de Coro. Cada explicación te permitirá comprender no solo la arquitectura\, sino también el valor cultural y simbólico que este templo representa para la ciudad. \nLa entrada al recinto está incluida en el precio (opcional)\, y el recorrido está disponible en varios idiomas. El punto de encuentro se sitúa en la Puerta del Perdón de la Mezquita-Catedral\, garantizando un acceso cómodo y directo. Una experiencia imprescindible para comprender el alma de Córdoba.
URL:https://www.cordoba.info/evento/visita-guiada-mezquita-de-cordoba-tarde-7/
LOCATION:Mezquita‑Catedral de Córdoba\, Calle Cardenal Hererro\, 1\, Córdoba\, Córdoba\, 14003\, Spain
CATEGORIES:Visitas guiadas y rutas
ATTACH;FMTTYPE=image/jpeg:https://www.cordoba.info/wp-content/uploads/sites/5/2025/08/Mezquita-con-arcos-polibulados.jpg
GEO:378.790;4.7800 Grupo Rosales+13123 Coordenadas+13Wikipedia+13
X-APPLE-STRUCTURED-LOCATION;VALUE=URI;X-ADDRESS=Mezquita‑Catedral de Córdoba Calle Cardenal Hererro 1 Córdoba Córdoba 14003 Spain;X-APPLE-RADIUS=500;X-TITLE=Calle Cardenal Hererro\, 1:geo:4.7800 Grupo Rosales+13123 Coordenadas+13Wikipedia+13,378.790
END:VEVENT
BEGIN:VEVENT
DTSTART;TZID=Europe/Madrid:20260126T180000
DTEND;TZID=Europe/Madrid:20260126T193000
DTSTAMP:20260423T002722
CREATED:20260118T150255Z
LAST-MODIFIED:20260118T150255Z
UID:689410096239-1769450400-1769455800@www.cordoba.info
SUMMARY:Free Tour Córdoba Nocturna
DESCRIPTION:Cuando el sol se pone\, Córdoba se transforma. Las sombras de la Mezquita se alargan y el laberinto de la Judería cobra una atmósfera especial. Nuestro Free Tour Córdoba de Noche te invita a un paseo inolvidable donde la historia se mezcla con la leyenda. \nComenzaremos junto al rugir pausado del Guadalquivir\, admirando la Puerta del Puente y el Triunfo de San Rafael iluminados. Acompañado por un guía experto en historia\, recorrerás las murallas que protegían el Alcázar de los Reyes Cristianos y te adentrarás en el pintoresco barrio de San Basilio\, cuna de los famosos Patios Cordobeses. \nA diferencia de los recorridos convencionales\, esta ruta nocturna profundiza en la evolución medieval de la ciudad\, visitando espacios emblemáticos como la Plaza del Potro (mencionada por Cervantes) y la imponente Plaza de la Corredera. Es el plan perfecto para completar tu visión de Córdoba\, descubriendo esos detalles y anécdotas que solo se revelan bajo la luz de las farolas.
URL:https://www.cordoba.info/evento/free-tour-cordoba-nocturna-8/
CATEGORIES:Visitas guiadas y rutas
ATTACH;FMTTYPE=image/jpeg:https://www.cordoba.info/wp-content/uploads/sites/5/2025/08/Plaz-de-las-tendillas-free-tour-de-noche-9bd111e0-077d-4d5d-9e76-808bbdada38e.jpeg
END:VEVENT
END:VCALENDAR