BEGIN:VCALENDAR
VERSION:2.0
PRODID:-//Cordoba.info - ECPv6.14.2//NONSGML v1.0//EN
CALSCALE:GREGORIAN
METHOD:PUBLISH
X-ORIGINAL-URL:https://www.cordoba.info
X-WR-CALDESC:Eventos para Cordoba.info
REFRESH-INTERVAL;VALUE=DURATION:PT1H
X-Robots-Tag:noindex
X-PUBLISHED-TTL:PT1H
BEGIN:VTIMEZONE
TZID:Europe/Madrid
BEGIN:DAYLIGHT
TZOFFSETFROM:+0100
TZOFFSETTO:+0200
TZNAME:CEST
DTSTART:20260329T010000
END:DAYLIGHT
BEGIN:STANDARD
TZOFFSETFROM:+0200
TZOFFSETTO:+0100
TZNAME:CET
DTSTART:20261025T010000
END:STANDARD
END:VTIMEZONE
BEGIN:VEVENT
DTSTART;TZID=Europe/Madrid:20260125T100000
DTEND;TZID=Europe/Madrid:20260125T114500
DTSTAMP:20260423T002749
CREATED:20260115T170818Z
LAST-MODIFIED:20260115T170818Z
UID:689410093477-1769335200-1769341500@www.cordoba.info
SUMMARY:Visita Guiada Mezquita de Córdoba Matutina
DESCRIPTION:Adéntrate en uno de los monumentos más impresionantes del mundo con esta visita guiada a la Mezquita-Catedral de Córdoba\, declarada Patrimonio de la Humanidad por la UNESCO. Durante 1\,5 horas\, un historiador experto te conducirá por un viaje a través de más de mil años de historia\, explorando la herencia visigoda\, las construcciones y ampliaciones omeyas y califales así. como las transformaciones cristianas que han dado forma a este espacio único. \nConocerás los restos de la antigua Basílica Visigoda de San Vicente\, admirarás el espectacular Mihrab y la cúpula de la maqsura\, y descubrirás rincones tan singulares como la Capilla Real o la Sillería de Coro. Cada explicación te permitirá comprender no solo la arquitectura\, sino también el valor cultural y simbólico que este templo representa para la ciudad. \nLa entrada al recinto está incluida en el precio (opcional)\, y el recorrido está disponible en varios idiomas. El punto de encuentro se sitúa en la Puerta del Perdón de la Mezquita-Catedral\, garantizando un acceso cómodo y directo. Una experiencia imprescindible para comprender el alma de Córdoba.
URL:https://www.cordoba.info/evento/visita-guiada-mezquita-de-cordoba-matutina-7/
LOCATION:Mezquita‑Catedral de Córdoba\, Calle Cardenal Hererro\, 1\, Córdoba\, Córdoba\, 14003\, Spain
CATEGORIES:Visitas guiadas y rutas
ATTACH;FMTTYPE=image/jpeg:https://www.cordoba.info/wp-content/uploads/sites/5/2025/09/MEZQUITA_CATEDRAL_CORDOBA_AMPLIACION_ALMANZOR_02.jpg
GEO:378.790;4.7800 Grupo Rosales+13123 Coordenadas+13Wikipedia+13
X-APPLE-STRUCTURED-LOCATION;VALUE=URI;X-ADDRESS=Mezquita‑Catedral de Córdoba Calle Cardenal Hererro 1 Córdoba Córdoba 14003 Spain;X-APPLE-RADIUS=500;X-TITLE=Calle Cardenal Hererro\, 1:geo:4.7800 Grupo Rosales+13123 Coordenadas+13Wikipedia+13,378.790
END:VEVENT
BEGIN:VEVENT
DTSTART;TZID=Europe/Madrid:20260125T101500
DTEND;TZID=Europe/Madrid:20260125T114500
DTSTAMP:20260423T002749
CREATED:20260118T201209Z
LAST-MODIFIED:20260118T201209Z
UID:689410096307-1769336100-1769341500@www.cordoba.info
SUMMARY:Free Tour Centro Histórico de Córdoba - Matutino
DESCRIPTION:El Free Tour Centro Histórico de Córdoba es la mejor forma de comenzar tu visita a la ciudad y conocer su esencia. Acompañado por un guía experto\, recorrerás algunos de los rincones más emblemáticos del Casco Histórico\, declarado Patrimonio de la Humanidad por la UNESCO. \nEl punto de encuentro es la Plaza del Triunfo\, entre la Mezquita-Catedral y el Puente Romano\, un lugar emblemático presidido por el Triunfo de San Rafael\, custodio de la ciudad. Desde allí iniciaremos un recorrido que te llevará por la Mezquita-Catedral\, el Puente Romano y la Puerta del Puente\, auténticos iconos de Córdoba. \nDespués\, nos adentraremos en las callejuelas encaladas del barrio antiguo\, con paradas especiales en lugares tan pintorescos como la Calleja de las Flores. Continuaremos hacia el barrio medieval para descubrir plazas cargadas de historia como la Plaza del Potro o la Corredera\, epicentro de la vida popular cordobesa. \nEste tour es gratuito (aportación libre al guía al final de la visita) y se ofrece en dos horarios matinales (10:15 y 12:30)\, además de una versión nocturna complementaria. Una experiencia cercana\, cultural y enriquecedora para conocer lo mejor de Córdoba en pocas horas.
URL:https://www.cordoba.info/evento/free-tour-centro-historico-de-cordoba-matutino-7/
LOCATION:Patio de los Naranjos\, Calle Cardenal Herrero\, 1\, Córdoba\, Córdoba\, 14001\, Spain
CATEGORIES:Visitas guiadas y rutas
ATTACH;FMTTYPE=image/jpeg:https://www.cordoba.info/wp-content/uploads/sites/5/2025/08/Free-Tour-1726569977302-1-scaled.jpg
END:VEVENT
BEGIN:VEVENT
DTSTART;TZID=Europe/Madrid:20260125T101500
DTEND;TZID=Europe/Madrid:20260125T134500
DTSTAMP:20260423T002749
CREATED:20260122T103135Z
LAST-MODIFIED:20260223T214135Z
UID:689410096588-1769336100-1769348700@www.cordoba.info
SUMMARY:Visita Guiada Córdoba a Fondo - Matutina
DESCRIPTION:Vive Córdoba en toda su esencia con esta visita guiada Córdoba a fondo de 3\,5 horas. Diseñamos esta experiencia para quienes buscan un conocimiento completo y profundo de la ciudad. Un historiador experto te acompaña durante todo el trayecto. Visitarás los tres monumentos más emblemáticos de Córdoba\, todos declarados Patrimonio de la Humanidad por la UNESCO. \nSi quieres asegurar tu plaza en esta actividad\, consulta nuestras visitas guiadas por Córdoba. Es la opción ideal para descubrir la ciudad de forma rigurosa y amena. \nEl itinerario comienza en la majestuosa Mezquita-Catedral de Córdoba. Este icono arquitectónico único refleja la convivencia de diferentes culturas y religiones durante siglos. Sus arcos y columnas cuentan la historia de una ciudad que fue luz del mundo. \nTras la Mezquita\, el grupo se adentra en la Judería. Pasearás por estrechas callejuelas con encanto hasta descubrir joyas como la Sinagoga\, el Zoco de los Artesanos y el Monumento a Maimónides. La siguiente parada será la Capilla Mudéjar de San Bartolomé\, un tesoro del arte andalusí. \nLa última parada del tour es el Alcázar de los Reyes Cristianos. Esta imponente fortaleza sirvió de residencia a los Reyes Católicos durante más de ocho años. Sus jardines y torres ofrecen una perspectiva única de la historia medieval cordobesa. \nEl tour incluye las entradas a todos los monumentos. Además\, ofrecemos puntos de encuentro estratégicos según tu horario. Unimos historia\, arte y tradición en una sola jornada inolvidable.
URL:https://www.cordoba.info/evento/visita-guiada-cordoba-a-fondo-matutina-2/
LOCATION:Mezquita‑Catedral de Córdoba\, Calle Cardenal Hererro\, 1\, Córdoba\, Córdoba\, 14003\, Spain
CATEGORIES:Visitas guiadas y rutas
ATTACH;FMTTYPE=image/jpeg:https://www.cordoba.info/wp-content/uploads/sites/5/2025/08/5e933a980acf556d08317337_ZOCO_MUNICIPAL_ARTESANOS-CORDOBA_01.jpg
GEO:378.790;4.7800 Grupo Rosales+13123 Coordenadas+13Wikipedia+13
X-APPLE-STRUCTURED-LOCATION;VALUE=URI;X-ADDRESS=Mezquita‑Catedral de Córdoba Calle Cardenal Hererro 1 Córdoba Córdoba 14003 Spain;X-APPLE-RADIUS=500;X-TITLE=Calle Cardenal Hererro\, 1:geo:4.7800 Grupo Rosales+13123 Coordenadas+13Wikipedia+13,378.790
END:VEVENT
BEGIN:VEVENT
DTSTART;TZID=Europe/Madrid:20260125T104500
DTEND;TZID=Europe/Madrid:20260125T134500
DTSTAMP:20260423T002749
CREATED:20260115T095517Z
LAST-MODIFIED:20260115T095517Z
UID:689410093367-1769337900-1769348700@www.cordoba.info
SUMMARY:Visita Guiada Mezquita y Medina Azahara
DESCRIPTION:Esta visita guiada es el viaje definitivo por la historia de Al-Ándalus. De la mano de especialistas en arqueología e historia\, conocerás los dos pilares que convirtieron a Córdoba en la capital del mundo occidental. \nLa jornada comienza en Medina Azahara\, la «Ciudad Brillante». Mandada construir por el primer califa omeya\, Abd al-Rahman III\, este yacimiento arqueológico revela la riqueza y el poder político de la época. Recorreremos sus terrazas\, salones oficiales y jardines mientras revivimos el esplendor de la corte califal. \nTras un descanso\, nos reuniremos en el casco antiguo para entrar en la Mezquita-Catedral. Desde la antigua basílica visigoda hasta el majestuoso crucero catedralicio renacentista\, caminaremos por un bosque de columnas que narra siglos de evolución religiosa y artística. Es una oportunidad única para entender cómo Córdoba fusionó culturas para crear una belleza arquitectónica inigualable.
URL:https://www.cordoba.info/evento/visita-guiada-mezquita-y-medina-azahara-6/
LOCATION:Mezquita‑Catedral de Córdoba\, Calle Cardenal Hererro\, 1\, Córdoba\, Córdoba\, 14003\, Spain
CATEGORIES:Visitas guiadas y rutas
ATTACH;FMTTYPE=image/jpeg:https://www.cordoba.info/wp-content/uploads/sites/5/2025/08/Mezquita-Cordoba.jpg
GEO:378.790;4.7800 Grupo Rosales+13123 Coordenadas+13Wikipedia+13
X-APPLE-STRUCTURED-LOCATION;VALUE=URI;X-ADDRESS=Mezquita‑Catedral de Córdoba Calle Cardenal Hererro 1 Córdoba Córdoba 14003 Spain;X-APPLE-RADIUS=500;X-TITLE=Calle Cardenal Hererro\, 1:geo:4.7800 Grupo Rosales+13123 Coordenadas+13Wikipedia+13,378.790
END:VEVENT
BEGIN:VEVENT
DTSTART;TZID=Europe/Madrid:20260125T104500
DTEND;TZID=Europe/Madrid:20260125T140000
DTSTAMP:20260423T002749
CREATED:20260121T101312Z
LAST-MODIFIED:20260121T101312Z
UID:689410096522-1769337900-1769349600@www.cordoba.info
SUMMARY:Visita Guiada a Medina Azahara
DESCRIPTION:Descubre la grandeza de Medina Azahara\, la ciudad palatina que el califa Abderramán III mandó construir en el siglo X como símbolo de poder y esplendor de Al-Ándalus. Situada a solo 8 km de Córdoba\, esta antigua medina es hoy un conjunto arqueológico Patrimonio de la Humanidad por la UNESCO\, considerado uno de los yacimientos más importantes de Europa. \nCon nuestra visita guiada\, un historiador especializado te acompañará en un recorrido que revive el esplendor de la Córdoba califal. Pasearás entre murallas\, terrazas y restos de palacios\, recorriendo espacios como el Salón Rico de Abderramán III\, la Casa de Ya’far\, el Pórtico Oriental o la mezquita de la ciudad. A lo largo del recorrido conocerás el papel político\, militar y simbólico de esta ciudad que fue capital del Califato y que desapareció apenas un siglo después de su fundación. \nUna visita imprescindible para quienes deseen comprender el legado andalusí y descubrir por qué Medina Azahara fue conocida como la “ciudad brillante”.
URL:https://www.cordoba.info/evento/visita-guiada-a-medina-azahara-7/
LOCATION:Conjunto Arqueológico de Medina Azahara\, Carretera de Palma del Río\, km 5\,5
CATEGORIES:Visitas guiadas y rutas
ATTACH;FMTTYPE=image/jpeg:https://www.cordoba.info/wp-content/uploads/sites/5/2025/08/5e87626c82c041cfa01eff77_MEDINA_AZAHARA_CORDOBA_SALON_RICO_10.jpg
GEO:3.788.078;–4.85417 Wikipedia
X-APPLE-STRUCTURED-LOCATION;VALUE=URI;X-ADDRESS=Conjunto Arqueológico de Medina Azahara Carretera de Palma del Río km 55;X-APPLE-RADIUS=500;X-TITLE=Carretera de Palma del Río\, km 5\,5:geo:–4.85417 Wikipedia,3.788.078
END:VEVENT
BEGIN:VEVENT
DTSTART;TZID=Europe/Madrid:20260125T113000
DTEND;TZID=Europe/Madrid:20260125T140000
DTSTAMP:20260423T002749
CREATED:20260123T055300Z
LAST-MODIFIED:20260123T055300Z
UID:689410096646-1769340600-1769349600@www.cordoba.info
SUMMARY:Visita Guiada Mezquita de Córdoba y Judería - Matutino
DESCRIPTION:Sumérgete en el corazón histórico de una de las ciudades más fascinantes del mundo. Esta visita guiada está diseñada para quienes desean comprender la evolución de Córdoba\, desde su esplendor califal hasta su etapa cristiana. \nComenzaremos el recorrido en la Mezquita-Catedral\, un edificio único en el planeta donde el arte islámico y el cristiano se funden en una armonía arquitectónica sin igual. Nuestros guías historiadores te explicarán cada detalle de sus ampliaciones\, desde Abderramán I hasta el majestuoso crucero catedralicio. \nTras maravillarnos con el monumento\, nos adentraremos en la Judería\, un entramado de calles blancas y estrechas que conservan el aroma del pasado. Visitaremos la Sinagoga (uno de los pocos templos judíos medievales que se conservan en España)\, el Zoco de los Artesanos y la estatua del ilustre filósofo Maimónides. No es solo un paseo\, es una lección de historia viva sobre la convivencia de culturas.
URL:https://www.cordoba.info/evento/visita-guiada-mezquita-de-cordoba-y-juderia-matutino/
LOCATION:Mezquita‑Catedral de Córdoba\, Calle Cardenal Hererro\, 1\, Córdoba\, Córdoba\, 14003\, Spain
CATEGORIES:Visitas guiadas y rutas
ATTACH;FMTTYPE=image/jpeg:https://www.cordoba.info/wp-content/uploads/sites/5/2025/08/Sinagoga-de-Cordoba-Imagen-Artencordoba-3.jpg
GEO:378.790;4.7800 Grupo Rosales+13123 Coordenadas+13Wikipedia+13
X-APPLE-STRUCTURED-LOCATION;VALUE=URI;X-ADDRESS=Mezquita‑Catedral de Córdoba Calle Cardenal Hererro 1 Córdoba Córdoba 14003 Spain;X-APPLE-RADIUS=500;X-TITLE=Calle Cardenal Hererro\, 1:geo:4.7800 Grupo Rosales+13123 Coordenadas+13Wikipedia+13,378.790
END:VEVENT
BEGIN:VEVENT
DTSTART;TZID=Europe/Madrid:20260125T123000
DTEND;TZID=Europe/Madrid:20260125T134500
DTSTAMP:20260423T002749
CREATED:20260119T054715Z
LAST-MODIFIED:20260119T054715Z
UID:689410096377-1769344200-1769348700@www.cordoba.info
SUMMARY:Free Tour Centro Histórico de Córdoba - Mediodía
DESCRIPTION:El Free Tour Centro Histórico de Córdoba es la mejor forma de comenzar tu visita a la ciudad y conocer su esencia. Acompañado por un guía experto\, recorrerás algunos de los rincones más emblemáticos del Casco Histórico\, declarado Patrimonio de la Humanidad por la UNESCO. \nEl punto de encuentro es la Plaza del Triunfo\, entre la Mezquita-Catedral y el Puente Romano\, un lugar emblemático presidido por el Triunfo de San Rafael\, custodio de la ciudad. Desde allí iniciaremos un recorrido que te llevará por la Mezquita-Catedral\, el Puente Romano y la Puerta del Puente\, auténticos iconos de Córdoba. \nDespués\, nos adentraremos en las callejuelas encaladas del barrio antiguo\, con paradas especiales en lugares tan pintorescos como la Calleja de las Flores. Continuaremos hacia el barrio medieval para descubrir plazas cargadas de historia como la Plaza del Potro o la Corredera\, epicentro de la vida popular cordobesa. \nEste tour es gratuito (aportación libre al guía al final de la visita) y se ofrece en dos horarios matinales (10:15 y 12:30)\, además de una versión nocturna complementaria. Una experiencia cercana\, cultural y enriquecedora para conocer lo mejor de Córdoba en pocas horas.
URL:https://www.cordoba.info/evento/free-tour-centro-historico-de-cordoba-mediodia-6/
LOCATION:Patio de los Naranjos\, Calle Cardenal Herrero\, 1\, Córdoba\, Córdoba\, 14001\, Spain
CATEGORIES:Visitas guiadas y rutas
ATTACH;FMTTYPE=image/jpeg:https://www.cordoba.info/wp-content/uploads/sites/5/2025/08/Free-Tour-1726569977302-1-scaled.jpg
END:VEVENT
BEGIN:VEVENT
DTSTART;TZID=Europe/Madrid:20260125T160000
DTEND;TZID=Europe/Madrid:20260125T173000
DTSTAMP:20260423T002749
CREATED:20260119T091628Z
LAST-MODIFIED:20260119T091628Z
UID:689410096443-1769356800-1769362200@www.cordoba.info
SUMMARY:Visita Guiada Mezquita de Córdoba Tarde
DESCRIPTION:Adéntrate en uno de los monumentos más impresionantes del mundo con esta visita guiada a la Mezquita-Catedral de Córdoba\, declarada Patrimonio de la Humanidad por la UNESCO. Durante 1\,5 horas\, un historiador experto te conducirá por un viaje a través de más de mil años de historia\, explorando la herencia visigoda\, las construcciones y ampliaciones omeyas y califales así. como las transformaciones cristianas que han dado forma a este espacio único. \nConocerás los restos de la antigua Basílica Visigoda de San Vicente\, admirarás el espectacular Mihrab y la cúpula de la maqsura\, y descubrirás rincones tan singulares como la Capilla Real o la Sillería de Coro. Cada explicación te permitirá comprender no solo la arquitectura\, sino también el valor cultural y simbólico que este templo representa para la ciudad. \nLa entrada al recinto está incluida en el precio (opcional)\, y el recorrido está disponible en varios idiomas. El punto de encuentro se sitúa en la Puerta del Perdón de la Mezquita-Catedral\, garantizando un acceso cómodo y directo. Una experiencia imprescindible para comprender el alma de Córdoba.
URL:https://www.cordoba.info/evento/visita-guiada-mezquita-de-cordoba-tarde-6/
LOCATION:Mezquita‑Catedral de Córdoba\, Calle Cardenal Hererro\, 1\, Córdoba\, Córdoba\, 14003\, Spain
CATEGORIES:Visitas guiadas y rutas
ATTACH;FMTTYPE=image/jpeg:https://www.cordoba.info/wp-content/uploads/sites/5/2025/08/Mezquita-con-arcos-polibulados.jpg
GEO:378.790;4.7800 Grupo Rosales+13123 Coordenadas+13Wikipedia+13
X-APPLE-STRUCTURED-LOCATION;VALUE=URI;X-ADDRESS=Mezquita‑Catedral de Córdoba Calle Cardenal Hererro 1 Córdoba Córdoba 14003 Spain;X-APPLE-RADIUS=500;X-TITLE=Calle Cardenal Hererro\, 1:geo:4.7800 Grupo Rosales+13123 Coordenadas+13Wikipedia+13,378.790
END:VEVENT
BEGIN:VEVENT
DTSTART;TZID=Europe/Madrid:20260125T160000
DTEND;TZID=Europe/Madrid:20260125T194500
DTSTAMP:20260423T002749
CREATED:20260121T113025Z
LAST-MODIFIED:20260121T113025Z
UID:689410096528-1769356800-1769370300@www.cordoba.info
SUMMARY:Visita Guiada Córdoba a Fondo - Tarde
DESCRIPTION:Vive Córdoba en toda su esencia con este tour guiado de 3\,5 horas\, diseñado para quienes desean una experiencia completa y profunda. Acompañado siempre por un historiador\, recorrerás tres de los monumentos más emblemáticos de la ciudad\, declarados Patrimonio de la Humanidad por la UNESCO. \nComenzaremos en la majestuosa Mezquita-Catedral\, un icono arquitectónico único que refleja el paso de diferentes culturas y religiones a lo largo de más de mil años. \nContinuaremos adentrándonos en la Judería\, donde pasearás por sus estrechas callejuelas hasta descubrir la Sinagoga\, el Zoco de los Artesanos y el Monumento a Maimónides. La siguiente parada será la Capilla Mudéjar de San Bartolomé\, un tesoro del arte andalusí. Finalizaremos en el Alcázar de los Reyes Cristianos\, la imponente fortaleza que fue residencia de los Reyes Católicos durante más de ocho años. \nIncluye entradas a todos los monumentos\, explicación rigurosa y amena\, y la comodidad de puntos de encuentro estratégicos según el horario. Ideal para quienes buscan unir historia\, arte y tradición en una sola jornada.
URL:https://www.cordoba.info/evento/visita-guiada-cordoba-a-fondo-tarde-4/
LOCATION:Mezquita‑Catedral de Córdoba\, Calle Cardenal Hererro\, 1\, Córdoba\, Córdoba\, 14003\, Spain
CATEGORIES:Visitas guiadas y rutas
ATTACH;FMTTYPE=image/jpeg:https://www.cordoba.info/wp-content/uploads/sites/5/2025/08/5e933a980acf556d08317337_ZOCO_MUNICIPAL_ARTESANOS-CORDOBA_01.jpg
GEO:378.790;4.7800 Grupo Rosales+13123 Coordenadas+13Wikipedia+13
X-APPLE-STRUCTURED-LOCATION;VALUE=URI;X-ADDRESS=Mezquita‑Catedral de Córdoba Calle Cardenal Hererro 1 Córdoba Córdoba 14003 Spain;X-APPLE-RADIUS=500;X-TITLE=Calle Cardenal Hererro\, 1:geo:4.7800 Grupo Rosales+13123 Coordenadas+13Wikipedia+13,378.790
END:VEVENT
BEGIN:VEVENT
DTSTART;TZID=Europe/Madrid:20260125T180000
DTEND;TZID=Europe/Madrid:20260125T193000
DTSTAMP:20260423T002749
CREATED:20260118T150145Z
LAST-MODIFIED:20260118T150145Z
UID:689410096238-1769364000-1769369400@www.cordoba.info
SUMMARY:Free Tour Córdoba Nocturna
DESCRIPTION:Cuando el sol se pone\, Córdoba se transforma. Las sombras de la Mezquita se alargan y el laberinto de la Judería cobra una atmósfera especial. Nuestro Free Tour Córdoba de Noche te invita a un paseo inolvidable donde la historia se mezcla con la leyenda. \nComenzaremos junto al rugir pausado del Guadalquivir\, admirando la Puerta del Puente y el Triunfo de San Rafael iluminados. Acompañado por un guía experto en historia\, recorrerás las murallas que protegían el Alcázar de los Reyes Cristianos y te adentrarás en el pintoresco barrio de San Basilio\, cuna de los famosos Patios Cordobeses. \nA diferencia de los recorridos convencionales\, esta ruta nocturna profundiza en la evolución medieval de la ciudad\, visitando espacios emblemáticos como la Plaza del Potro (mencionada por Cervantes) y la imponente Plaza de la Corredera. Es el plan perfecto para completar tu visión de Córdoba\, descubriendo esos detalles y anécdotas que solo se revelan bajo la luz de las farolas.
URL:https://www.cordoba.info/evento/free-tour-cordoba-nocturna-7/
CATEGORIES:Visitas guiadas y rutas
ATTACH;FMTTYPE=image/jpeg:https://www.cordoba.info/wp-content/uploads/sites/5/2025/08/Plaz-de-las-tendillas-free-tour-de-noche-9bd111e0-077d-4d5d-9e76-808bbdada38e.jpeg
END:VEVENT
END:VCALENDAR