BEGIN:VCALENDAR
VERSION:2.0
PRODID:-//Cordoba.info - ECPv6.14.2//NONSGML v1.0//EN
CALSCALE:GREGORIAN
METHOD:PUBLISH
X-WR-CALNAME:Cordoba.info
X-ORIGINAL-URL:https://www.cordoba.info
X-WR-CALDESC:Eventos para Cordoba.info
REFRESH-INTERVAL;VALUE=DURATION:PT1H
X-Robots-Tag:noindex
X-PUBLISHED-TTL:PT1H
BEGIN:VTIMEZONE
TZID:Europe/Madrid
BEGIN:DAYLIGHT
TZOFFSETFROM:+0100
TZOFFSETTO:+0200
TZNAME:CEST
DTSTART:20260329T010000
END:DAYLIGHT
BEGIN:STANDARD
TZOFFSETFROM:+0200
TZOFFSETTO:+0100
TZNAME:CET
DTSTART:20261025T010000
END:STANDARD
END:VTIMEZONE
BEGIN:VEVENT
DTSTART;TZID=Europe/Madrid:20260213T170000
DTEND;TZID=Europe/Madrid:20260213T210000
DTSTAMP:20260420T192942
CREATED:20260201T210233Z
LAST-MODIFIED:20260216T120923Z
UID:689410099678-1771002000-1771016400@www.cordoba.info
SUMMARY:Flamencor inaugura la primera pasarela flamenca de Córdoba
DESCRIPTION:Flamencor en Córdoba nace bajo el impulso de la diseñadora Nazaret Rubiales\, con el firme propósito de reivindicar el sello «Made in Córdoba» en el mundo del traje de flamenca. Esta primera edición no es solo una sucesión de desfiles; es un punto de encuentro para la artesanía\, donde diseñadores noveles y firmas ya consagradas comparten un espacio de prestigio en el Hotel Eurostars Palace. \nLa imagen de esta edición\, protagonizada por la cantante Amara Rodes\, refleja la esencia de una mujer cordobesa fuerte y con raíces. Durante dos intensas jornadas\, los asistentes podrán disfrutar de las últimas tendencias en volantes\, mantoncillos y complementos\, justo antes del inicio de la temporada de ferias y romerías en Andalucía. La calidad técnica de las propuestas y la puesta en escena prometen situar a Córdoba en el mapa nacional de las grandes pasarelas de moda flamenca. \nEl evento se divide en dos bloques principales que cubren todo el espectro del diseño. El viernes 13 de febrero se centra en propuestas frescas y marcas emergentes que están revolucionando los talleres de la provincia. Firmas como Evitta o La Annica mostrarán que la moda cordobesa tiene un lenguaje propio\, elegante y sofisticado. \nEl sábado 14 de febrero\, coincidiendo con San Valentín\, la pasarela se llena de veteranía y maestría con nombres de la talla de Pepa Serrano\, Basi del Río o Inma Benicio. Cada desfile es una oportunidad única para apreciar de cerca la costura de precisión y los materiales nobles que caracterizan a nuestros artesanos. \n\n\n\n\n\n\n\n 
URL:https://www.cordoba.info/evento/flamencor-en-cordoba-pasarela-moda-flamenca/2026-02-13/
LOCATION:Hotel Eurostars Palace\, P.º de la Victoria\, s/n\, Córdoba\, Córdoba\, 14004\, Spain
CATEGORIES:Pasarelas
ATTACH;FMTTYPE=image/jpeg:https://www.cordoba.info/wp-content/uploads/sites/5/2026/02/Flamencor.jpg
END:VEVENT
BEGIN:VEVENT
DTSTART;TZID=Europe/Madrid:20260214T170000
DTEND;TZID=Europe/Madrid:20260214T210000
DTSTAMP:20260420T192943
CREATED:20260201T210233Z
LAST-MODIFIED:20260216T120923Z
UID:689410099679-1771088400-1771102800@www.cordoba.info
SUMMARY:Flamencor inaugura la primera pasarela flamenca de Córdoba
DESCRIPTION:Flamencor en Córdoba nace bajo el impulso de la diseñadora Nazaret Rubiales\, con el firme propósito de reivindicar el sello «Made in Córdoba» en el mundo del traje de flamenca. Esta primera edición no es solo una sucesión de desfiles; es un punto de encuentro para la artesanía\, donde diseñadores noveles y firmas ya consagradas comparten un espacio de prestigio en el Hotel Eurostars Palace. \nLa imagen de esta edición\, protagonizada por la cantante Amara Rodes\, refleja la esencia de una mujer cordobesa fuerte y con raíces. Durante dos intensas jornadas\, los asistentes podrán disfrutar de las últimas tendencias en volantes\, mantoncillos y complementos\, justo antes del inicio de la temporada de ferias y romerías en Andalucía. La calidad técnica de las propuestas y la puesta en escena prometen situar a Córdoba en el mapa nacional de las grandes pasarelas de moda flamenca. \nEl evento se divide en dos bloques principales que cubren todo el espectro del diseño. El viernes 13 de febrero se centra en propuestas frescas y marcas emergentes que están revolucionando los talleres de la provincia. Firmas como Evitta o La Annica mostrarán que la moda cordobesa tiene un lenguaje propio\, elegante y sofisticado. \nEl sábado 14 de febrero\, coincidiendo con San Valentín\, la pasarela se llena de veteranía y maestría con nombres de la talla de Pepa Serrano\, Basi del Río o Inma Benicio. Cada desfile es una oportunidad única para apreciar de cerca la costura de precisión y los materiales nobles que caracterizan a nuestros artesanos. \n\n\n\n\n\n\n\n 
URL:https://www.cordoba.info/evento/flamencor-en-cordoba-pasarela-moda-flamenca/2026-02-14/
LOCATION:Hotel Eurostars Palace\, P.º de la Victoria\, s/n\, Córdoba\, Córdoba\, 14004\, Spain
CATEGORIES:Pasarelas
ATTACH;FMTTYPE=image/jpeg:https://www.cordoba.info/wp-content/uploads/sites/5/2026/02/Flamencor.jpg
END:VEVENT
BEGIN:VEVENT
DTSTART;TZID=Europe/Madrid:20260424T183000
DTEND;TZID=Europe/Madrid:20260424T210000
DTSTAMP:20260420T192943
CREATED:20260420T163801Z
LAST-MODIFIED:20260420T164220Z
UID:689410102194-1777055400-1777064400@www.cordoba.info
SUMMARY:V Desfile de Moda Inclusivo: Alzheimer Córdoba
DESCRIPTION:El Desfile de Moda Inclusivo de Alzheimer Córdoba celebra su quinta edición el próximo viernes 24 de abril en el espectacular Patio Barroco de la Diputación de Córdoba. Este evento\, que cuenta con el artista Galván Real como padrino de excepción\, busca dar visibilidad a la enfermedad y recaudar fondos para la Asociación San Rafael de Alzheimer y otras demencias. Con la conducción de Inmaculada Pérez y Josehouse\, la velada combinará las últimas tendencias de firmas locales con un mensaje de apoyo y esperanza para las familias afectadas. \nLa programación de la Asociación Alzheimer Córdoba destaca por su capacidad de unir a empresas\, diseñadores y ciudadanos en torno a una realidad que requiere el apoyo de todos. Si buscas planes solidarios en Córdoba\, asistir a este desfile de Moda Inclusivo de Alzheimer Córdoba es la oportunidad perfecta para disfrutar de las últimas tendencias en moda flamenca y fiesta\, mientras contribuyes a que la labor de ayuda a las personas con demencia siga adelante en nuestra ciudad. \nEsta es la propuesta con más corazón de la semana. Una tarde de moda inclusiva que incluye copa de bienvenida\, snacks y sorteos\, todo por una causa que nos toca a todos.
URL:https://www.cordoba.info/evento/v-desfile-de-moda-inclusivo-alzheimer-cordoba/
LOCATION:Diputacion de Cordoba\, Plaza de Colón s/n\, Córdoba\, Córdoba\, 14071\, Spain
CATEGORIES:Pasarelas
ATTACH;FMTTYPE=image/png:https://www.cordoba.info/wp-content/uploads/sites/5/2026/04/V-DESFILE-DE-MODA-INCLUSIVO.-Alzheimer-Cordoba.-Viernes-24-Abril-2026.png
END:VEVENT
END:VCALENDAR