BEGIN:VCALENDAR
VERSION:2.0
PRODID:-//Cordoba.info - ECPv6.14.2//NONSGML v1.0//EN
CALSCALE:GREGORIAN
METHOD:PUBLISH
X-ORIGINAL-URL:https://www.cordoba.info
X-WR-CALDESC:Eventos para Cordoba.info
REFRESH-INTERVAL;VALUE=DURATION:PT1H
X-Robots-Tag:noindex
X-PUBLISHED-TTL:PT1H
BEGIN:VTIMEZONE
TZID:Europe/Madrid
BEGIN:DAYLIGHT
TZOFFSETFROM:+0100
TZOFFSETTO:+0200
TZNAME:CEST
DTSTART:20260329T010000
END:DAYLIGHT
BEGIN:STANDARD
TZOFFSETFROM:+0200
TZOFFSETTO:+0100
TZNAME:CET
DTSTART:20261025T010000
END:STANDARD
END:VTIMEZONE
BEGIN:VEVENT
DTSTART;TZID=Europe/Madrid:20260421T110000
DTEND;TZID=Europe/Madrid:20260426T150000
DTSTAMP:20260421T035247
CREATED:20260420T135359Z
LAST-MODIFIED:20260420T140339Z
UID:689410102189-1776769200-1777215600@www.cordoba.info
SUMMARY:VII Baratillo de Primavera de ADEVIDA Córdoba
DESCRIPTION:La llegada del Baratillo de Primavera de ADEVIDA a Córdoba el próximo 21 de abril supone una de las citas con más alma de la primavera cordobesa. El Oratorio de San Felipe Neri se transforma durante seis días en un escaparate de generosidad donde cada compra se convierte en un gesto de apoyo a la vida. Entre mantones\, artesanía y productos para el hogar\, las voluntarias de la asociación demuestran que la moda y la solidaridad pueden caminar de la mano en el corazón de nuestra ciudad. \nDel 21 al 26 de abril\, el centro de Córdoba tiene una parada obligatoria. La programación del Baratillo de ADEVIDA en Córdoba destaca por su ambiente acogedor y la calidad de sus expositores. Si buscas planes sociales en Córdoba\, visitar este evento es la oportunidad perfecta para conocer la labor de una asociación histórica y llevarte un detalle único\, sabiendo que tu aportación ayudará a que muchos bebés y sus madres tengan un futuro mejor. \nEl Baratillo de ADEVIDA es la oportunidad perfecta para realizar tus compras de temporada mientras colaboras con una causa noble. Una experiencia donde la calidad de la artesanía local se une a la fuerza del voluntariado cordobés.
URL:https://www.cordoba.info/evento/vii-baratillo-de-primavera-de-adevida-cordoba/
LOCATION:Oratorio San Felipe Neri\, C/ San Felipe 55\, Córdoba\, Córdoba\, 14003\, Spain
CATEGORIES:Mercados y compras
ATTACH;FMTTYPE=image/png:https://www.cordoba.info/wp-content/uploads/sites/5/2026/04/EL-VII-BARATILLO-DE-PRIMAVERA-DE-ADEVIDA.-Oratorio-San-Felipe-Neri.-Cordoba.-21-al-26-Abril-2026.png
END:VEVENT
END:VCALENDAR