BEGIN:VCALENDAR
VERSION:2.0
PRODID:-//Cordoba.info - ECPv6.14.2//NONSGML v1.0//EN
CALSCALE:GREGORIAN
METHOD:PUBLISH
X-WR-CALNAME:Cordoba.info
X-ORIGINAL-URL:https://www.cordoba.info
X-WR-CALDESC:Eventos para Cordoba.info
REFRESH-INTERVAL;VALUE=DURATION:PT1H
X-Robots-Tag:noindex
X-PUBLISHED-TTL:PT1H
BEGIN:VTIMEZONE
TZID:Europe/Madrid
BEGIN:DAYLIGHT
TZOFFSETFROM:+0100
TZOFFSETTO:+0200
TZNAME:CEST
DTSTART:20260329T010000
END:DAYLIGHT
BEGIN:STANDARD
TZOFFSETFROM:+0200
TZOFFSETTO:+0100
TZNAME:CET
DTSTART:20261025T010000
END:STANDARD
END:VTIMEZONE
BEGIN:VEVENT
DTSTART;TZID=Europe/Madrid:20260428T190000
DTEND;TZID=Europe/Madrid:20260428T210000
DTSTAMP:20260424T130344
CREATED:20260421T114201Z
LAST-MODIFIED:20260421T114958Z
UID:689410102202-1777402800-1777410000@www.cordoba.info
SUMMARY:Conferencia: «Historia de la construcción de la guitarra española»
DESCRIPTION:La Biblioteca Viva de Al-Andalus acoge el próximo martes 28 de abril una sesión magistral dedicada al instrumento rey de nuestra tierra. El reconocido constructor de guitarras Graciliano Pérez Carrizosa ofrecerá una conferencia detallada sobre la evolución técnica e histórica de la guitarra española. Organizada por la Asociación Arte\, Arqueología e Historia\, la charla recorrerá el proceso artesanal\, los materiales y los hitos constructivos que han llevado a la guitarra a ser el símbolo universal de la música andaluza y española. \nLa propuesta de Graciliano Pérez en Biblioteca Viva de Al-Andalus destaca por su enfoque práctico y artesanal. Como constructor de guitarras de prestigio internacional\, Pérez no solo hablará de fechas\, sino de la «vida» de las maderas y de cómo la morfología del instrumento ha cambiado para adaptarse a las necesidades de los intérpretes. Si buscas eventos que pongan en valor los oficios tradicionales y el patrimonio inmaterial\, esta conferencia es una parada obligatoria. \nEsta es una cita imprescindible para los amantes de la música y la artesanía\, una oportunidad única para disfrutar del talento de uno de los guitarreros más respetados de la ciudad y escuchar de cerca su maestría en el marco histórico y evocador de la Cuesta del Bailío.
URL:https://www.cordoba.info/evento/conferencia-historia-de-la-construccion-de-la-guitarra-espanola/
LOCATION:Biblioteca Viva de Al-Andalus\, Cuesta del Bailío 3\, Córdoba\, Córdoba\, 14001\, Spain
CATEGORIES:Conferencias
ATTACH;FMTTYPE=image/png:https://www.cordoba.info/wp-content/uploads/sites/5/2026/04/Gemini_Generated_Image_31o8jr31o8jr31o8.png
GEO:37.88766° N;–4.77714° W
X-APPLE-STRUCTURED-LOCATION;VALUE=URI;X-ADDRESS=Biblioteca Viva de Al-Andalus Cuesta del Bailío 3 Córdoba Córdoba 14001 Spain;X-APPLE-RADIUS=500;X-TITLE=Cuesta del Bailío 3:geo:–4.77714° W,37.88766° N
END:VEVENT
BEGIN:VEVENT
DTSTART;TZID=Europe/Madrid:20260603T190000
DTEND;TZID=Europe/Madrid:20260603T213000
DTSTAMP:20260424T130344
CREATED:20260421T104546Z
LAST-MODIFIED:20260421T110059Z
UID:689410102200-1780513200-1780522200@www.cordoba.info
SUMMARY:Conferencia: «Al-Ándalus en primera persona: voces\, escritos y emociones»
DESCRIPTION:Casa Árabe en Córdoba presenta el miércoles 3 de junio una nueva sesión del ciclo «Siete mujeres hablan de al-Ándalus». La profesora Laila M. Jreis-Navarro (Universidad de Zaragoza) nos invitará a descubrir la cara más humana y personal del legado andalusí. A pesar de que en la tradición pre-moderna no existían géneros como la autobiografía o el diario personal tal y como los conocemos\, muchos individuos rompieron los convencionalismos para dejar constancia de sus voces íntimas y emociones. La conferencia explorará estos «espacios emocionales» y cómo determinados puntos de inflexión históricos permitieron que la autoexpresión floreciera en los textos árabes. \nLa propuesta de Laila Jreis-Navarro en Casa Árabe en Córdoba destaca por su enfoque innovador en la lingüística y la literatura. A menudo pensamos que la escritura del «yo» es un invento contemporáneo\, pero esta conferencia demuestra que los andalusíes también crearon espacios textuales para sus sentimientos. Si buscas eventos que aporten una visión fresca sobre el patrimonio intelectual y emocional de nuestra tierra\, esta cita en la Judería es imprescindible. \nEsta charla es una oportunidad única para entender que la expresión individual no es exclusiva del ser moderno. Una cita para conectar con la sensibilidad de quienes habitaron nuestra ciudad hace siglos.
URL:https://www.cordoba.info/evento/conferencia-laila-jreis-navarro-emociones-andalusies-2026/
LOCATION:Casa Árabe\, C/ Samuel de los Santos Gener\, 9\, Córdoba\, Córdoba\, 14003\, Spain
CATEGORIES:Conferencias
ATTACH;FMTTYPE=image/png:https://www.cordoba.info/wp-content/uploads/sites/5/2026/04/Gemini_Generated_Image_kjkzq0kjkzq0kjkz.png
END:VEVENT
END:VCALENDAR