BEGIN:VCALENDAR
VERSION:2.0
PRODID:-//Cordoba.info - ECPv6.14.2//NONSGML v1.0//EN
CALSCALE:GREGORIAN
METHOD:PUBLISH
X-ORIGINAL-URL:https://www.cordoba.info
X-WR-CALDESC:Eventos para Cordoba.info
REFRESH-INTERVAL;VALUE=DURATION:PT1H
X-Robots-Tag:noindex
X-PUBLISHED-TTL:PT1H
BEGIN:VTIMEZONE
TZID:Europe/Madrid
BEGIN:DAYLIGHT
TZOFFSETFROM:+0100
TZOFFSETTO:+0200
TZNAME:CEST
DTSTART:20260329T010000
END:DAYLIGHT
BEGIN:STANDARD
TZOFFSETFROM:+0200
TZOFFSETTO:+0100
TZNAME:CET
DTSTART:20261025T010000
END:STANDARD
END:VTIMEZONE
BEGIN:VEVENT
DTSTART;TZID=Europe/Madrid:20260306T173000
DTEND;TZID=Europe/Madrid:20260306T193000
DTSTAMP:20260419T212647
CREATED:20260304T163140Z
LAST-MODIFIED:20260304T163744Z
UID:689410100008-1772818200-1772825400@www.cordoba.info
SUMMARY:Que arda la calle: El rugido de las mujeres cordobesas que cambió la historia
DESCRIPTION:Que arda la calle llega a la gran pantalla de la Filmoteca como una de las citas más significativas del Día Internacional de la Mujer. Este documental de Ana Villa Zamorano recupera la memoria de noviembre de 1975: con la muerte del dictador y el inicio de la Transición\, las mujeres de Córdoba rompieron el silencio para ocupar el espacio público. Una obra necesaria que narra cómo la unión y la valentía transformaron las calles de nuestra ciudad en un escenario de lucha por la democracia y la igualdad. \nEsta proyección especial es una de las propuestas culturales más destacadas del calendario local para entender la historia reciente de nuestra ciudad desde una perspectiva de género. \nLa propuesta de Que arda la calle en Córdoba destaca por su rigor documental y su cercanía emocional. A través de 110 minutos de metraje\, Ana Villa Zamorano nos sumerge en la Córdoba de los años 70\, rescatando testimonios y archivos de aquellas mujeres que se atrevieron a alzar la voz. Si buscas eventos en Córdoba hoy que inviten a la reflexión y al conocimiento de nuestras raíces democráticas\, esta sesión organizada por la AAIICC y la Junta de Andalucía es una cita ineludible.
URL:https://www.cordoba.info/evento/que-arda-la-calle-cordoba-filmoteca-2026/
LOCATION:Filmoteca Andalucía\, Calle Medina y Cornella\, 5\, Córdoba\, Córdoba\, 14004\, Spain
CATEGORIES:Cine y proyecciones
ATTACH;FMTTYPE=image/jpeg:https://www.cordoba.info/wp-content/uploads/sites/5/2026/03/download.jpg
END:VEVENT
END:VCALENDAR