BEGIN:VCALENDAR
VERSION:2.0
PRODID:-//Cordoba.info - ECPv6.14.2//NONSGML v1.0//EN
CALSCALE:GREGORIAN
METHOD:PUBLISH
X-WR-CALNAME:Cordoba.info
X-ORIGINAL-URL:https://www.cordoba.info
X-WR-CALDESC:Eventos para Cordoba.info
REFRESH-INTERVAL;VALUE=DURATION:PT1H
X-Robots-Tag:noindex
X-PUBLISHED-TTL:PT1H
BEGIN:VTIMEZONE
TZID:Europe/Madrid
BEGIN:DAYLIGHT
TZOFFSETFROM:+0100
TZOFFSETTO:+0200
TZNAME:CEST
DTSTART:20260329T010000
END:DAYLIGHT
BEGIN:STANDARD
TZOFFSETFROM:+0200
TZOFFSETTO:+0100
TZNAME:CET
DTSTART:20261025T010000
END:STANDARD
END:VTIMEZONE
BEGIN:VEVENT
DTSTART;TZID=Europe/Madrid:20260428T180000
DTEND;TZID=Europe/Madrid:20260430T203000
DTSTAMP:20260423T193750
CREATED:20260423T152242Z
LAST-MODIFIED:20260423T153816Z
UID:689410102208-1777399200-1777581000@www.cordoba.info
SUMMARY:‘Liternatura’: Jornadas de Cine\, Naturaleza y Literatura
DESCRIPTION:Las jornadas ‘Liternatura’ se celebran en El Palacio de la Merced los días 28\, 29 y 30 de abril\, un ciclo pionero que explora las conexiones entre el cine\, la naturaleza y la creación literaria. Bajo la coordinación del escritor Alejandro López Andrada y la Asociación Cultural CineCercano\, el Salón de Actos de la Diputación se convertirá en un foro de debate con invitados de primer nivel como Manuel Gutiérrez Aragón\, Marta Sanz o Mercedes Álvarez. Cada sesión incluye la proyección de una obra cinematográfica clave seguida de un encuentro con el público para profundizar en temas como la simbología del bosque\, la ecofeminismo o la realidad de la España vaciada. \nLa propuesta de las jornadas ‘Liternatura’ en Córdoba destaca por su enfoque interdisciplinar. El ciclo no solo proyecta cine de autor\, sino que lo utiliza como detonante para conversaciones literarias y sociológicas. Especial interés despierta el cierre del jueves 30\, donde se debatirá si el término «España vacía» es una etiqueta impuesta desde las ciudades\, contando con la visión crítica de la escritora Marta Sanz y la directora Mercedes Álvarez. Si buscas eventos en Córdoba que inviten a la reflexión y al análisis del territorio\, estas jornadas son una parada obligatoria. \n‘Liternatura’ ofrece una experiencia intelectual y visual profunda. Una oportunidad única para dialogar con cineastas y escritores sobre el entorno que nos rodea\, con entrada libre en un entorno monumental.
URL:https://www.cordoba.info/evento/liternatura-jornadas-de-cine-naturaleza-y-literatura/
LOCATION:Palacio de la Merced\, Pl. de Colón\, 15\, Centro\,\, Córdoba\, Córdoba\, 14001\, Spain
CATEGORIES:Cine y proyecciones,Encuentros literarios y poesía
ATTACH;FMTTYPE=image/png:https://www.cordoba.info/wp-content/uploads/sites/5/2026/04/LITERNATURA-CINE-Y-LITERATURA.-Palacio-de-la-Merced.-Cordoba.-28-29-30-Abril-2026.png
END:VEVENT
END:VCALENDAR