BEGIN:VCALENDAR
VERSION:2.0
PRODID:-//Cordoba.info - ECPv6.14.2//NONSGML v1.0//EN
CALSCALE:GREGORIAN
METHOD:PUBLISH
X-WR-CALNAME:Cordoba.info
X-ORIGINAL-URL:https://www.cordoba.info
X-WR-CALDESC:Eventos para Cordoba.info
REFRESH-INTERVAL;VALUE=DURATION:PT1H
X-Robots-Tag:noindex
X-PUBLISHED-TTL:PT1H
BEGIN:VTIMEZONE
TZID:Europe/Madrid
BEGIN:DAYLIGHT
TZOFFSETFROM:+0100
TZOFFSETTO:+0200
TZNAME:CEST
DTSTART:20260329T010000
END:DAYLIGHT
BEGIN:STANDARD
TZOFFSETFROM:+0200
TZOFFSETTO:+0100
TZNAME:CET
DTSTART:20261025T010000
END:STANDARD
END:VTIMEZONE
BEGIN:VEVENT
DTSTART;TZID=Europe/Madrid:20260504T213000
DTEND;TZID=Europe/Madrid:20260504T235900
DTSTAMP:20260420T095319
CREATED:20260330T130003Z
LAST-MODIFIED:20260330T131510Z
UID:689410101162-1777930200-1777939140@www.cordoba.info
SUMMARY:Naturaleza Encendida: Navegantes
DESCRIPTION:Naturaleza Encendida: Navegantes es el espectáculo inmersivo nocturno que transforma los jardines del Alcázar de los Reyes Cristianos de Córdoba en un viaje sensorial por uno de los momentos más decisivos de la historia: el encuentro entre Cristóbal Colón y los Reyes Católicos\, germen de la expedición que cambió el mundo. \nProducido por LetsGo —la compañía detrás de Tim Burton: El Laberinto y El Fantasma de la Ópera—\, el recorrido combina iluminación avanzada\, videoproyecciones y una banda sonora compuesta expresamente para esta edición\, inspirada en la evolución de la vihuela y la guitarra flamenca. Más de 750 elementos técnicos instalados a lo largo de los jardines crean una experiencia multisensorial apta para todos los públicos. \nEl recorrido se articula en tres zonas temáticas: \n\nEl encuentro — La reunión entre Colón y los Reyes Católicos en el Alcázar de Córdoba.\nLa travesía — Los 36 días de navegación desde las Islas Canarias hasta América.\nEl choque de mundos — El impacto del descubrimiento del Nuevo Mundo.\n\nTodo ocurre en un Bien de Interés Cultural declarado Patrimonio de la Humanidad por la Unesco. Historia real\, en el escenario real\, con tecnología de última generación. La duración aproximada del recorrido es de 45 minutos.
URL:https://www.cordoba.info/evento/naturaleza-encendida-navegantes/2026-05-04/
LOCATION:Jardines del Alcázar de los Reyes Cristianos\, Alcázar de los Reyes Cristianos s/n\, Córdoba\, Córdoba\, 14004\, Spain
CATEGORIES:Actividades al aire libre,Espectáculos y conciertos
ATTACH;FMTTYPE=image/png:https://www.cordoba.info/wp-content/uploads/sites/5/2026/03/Navegantes.png
END:VEVENT
BEGIN:VEVENT
DTSTART;TZID=Europe/Madrid:20260505T213000
DTEND;TZID=Europe/Madrid:20260505T235900
DTSTAMP:20260420T095319
CREATED:20260330T130003Z
LAST-MODIFIED:20260330T131510Z
UID:689410101163-1778016600-1778025540@www.cordoba.info
SUMMARY:Naturaleza Encendida: Navegantes
DESCRIPTION:Naturaleza Encendida: Navegantes es el espectáculo inmersivo nocturno que transforma los jardines del Alcázar de los Reyes Cristianos de Córdoba en un viaje sensorial por uno de los momentos más decisivos de la historia: el encuentro entre Cristóbal Colón y los Reyes Católicos\, germen de la expedición que cambió el mundo. \nProducido por LetsGo —la compañía detrás de Tim Burton: El Laberinto y El Fantasma de la Ópera—\, el recorrido combina iluminación avanzada\, videoproyecciones y una banda sonora compuesta expresamente para esta edición\, inspirada en la evolución de la vihuela y la guitarra flamenca. Más de 750 elementos técnicos instalados a lo largo de los jardines crean una experiencia multisensorial apta para todos los públicos. \nEl recorrido se articula en tres zonas temáticas: \n\nEl encuentro — La reunión entre Colón y los Reyes Católicos en el Alcázar de Córdoba.\nLa travesía — Los 36 días de navegación desde las Islas Canarias hasta América.\nEl choque de mundos — El impacto del descubrimiento del Nuevo Mundo.\n\nTodo ocurre en un Bien de Interés Cultural declarado Patrimonio de la Humanidad por la Unesco. Historia real\, en el escenario real\, con tecnología de última generación. La duración aproximada del recorrido es de 45 minutos.
URL:https://www.cordoba.info/evento/naturaleza-encendida-navegantes/2026-05-05/
LOCATION:Jardines del Alcázar de los Reyes Cristianos\, Alcázar de los Reyes Cristianos s/n\, Córdoba\, Córdoba\, 14004\, Spain
CATEGORIES:Actividades al aire libre,Espectáculos y conciertos
ATTACH;FMTTYPE=image/png:https://www.cordoba.info/wp-content/uploads/sites/5/2026/03/Navegantes.png
END:VEVENT
BEGIN:VEVENT
DTSTART;TZID=Europe/Madrid:20260506T213000
DTEND;TZID=Europe/Madrid:20260506T235900
DTSTAMP:20260420T095319
CREATED:20260330T130003Z
LAST-MODIFIED:20260330T131510Z
UID:689410101164-1778103000-1778111940@www.cordoba.info
SUMMARY:Naturaleza Encendida: Navegantes
DESCRIPTION:Naturaleza Encendida: Navegantes es el espectáculo inmersivo nocturno que transforma los jardines del Alcázar de los Reyes Cristianos de Córdoba en un viaje sensorial por uno de los momentos más decisivos de la historia: el encuentro entre Cristóbal Colón y los Reyes Católicos\, germen de la expedición que cambió el mundo. \nProducido por LetsGo —la compañía detrás de Tim Burton: El Laberinto y El Fantasma de la Ópera—\, el recorrido combina iluminación avanzada\, videoproyecciones y una banda sonora compuesta expresamente para esta edición\, inspirada en la evolución de la vihuela y la guitarra flamenca. Más de 750 elementos técnicos instalados a lo largo de los jardines crean una experiencia multisensorial apta para todos los públicos. \nEl recorrido se articula en tres zonas temáticas: \n\nEl encuentro — La reunión entre Colón y los Reyes Católicos en el Alcázar de Córdoba.\nLa travesía — Los 36 días de navegación desde las Islas Canarias hasta América.\nEl choque de mundos — El impacto del descubrimiento del Nuevo Mundo.\n\nTodo ocurre en un Bien de Interés Cultural declarado Patrimonio de la Humanidad por la Unesco. Historia real\, en el escenario real\, con tecnología de última generación. La duración aproximada del recorrido es de 45 minutos.
URL:https://www.cordoba.info/evento/naturaleza-encendida-navegantes/2026-05-06/
LOCATION:Jardines del Alcázar de los Reyes Cristianos\, Alcázar de los Reyes Cristianos s/n\, Córdoba\, Córdoba\, 14004\, Spain
CATEGORIES:Actividades al aire libre,Espectáculos y conciertos
ATTACH;FMTTYPE=image/png:https://www.cordoba.info/wp-content/uploads/sites/5/2026/03/Navegantes.png
END:VEVENT
BEGIN:VEVENT
DTSTART;TZID=Europe/Madrid:20260507T213000
DTEND;TZID=Europe/Madrid:20260507T235900
DTSTAMP:20260420T095319
CREATED:20260330T130003Z
LAST-MODIFIED:20260330T131510Z
UID:689410101165-1778189400-1778198340@www.cordoba.info
SUMMARY:Naturaleza Encendida: Navegantes
DESCRIPTION:Naturaleza Encendida: Navegantes es el espectáculo inmersivo nocturno que transforma los jardines del Alcázar de los Reyes Cristianos de Córdoba en un viaje sensorial por uno de los momentos más decisivos de la historia: el encuentro entre Cristóbal Colón y los Reyes Católicos\, germen de la expedición que cambió el mundo. \nProducido por LetsGo —la compañía detrás de Tim Burton: El Laberinto y El Fantasma de la Ópera—\, el recorrido combina iluminación avanzada\, videoproyecciones y una banda sonora compuesta expresamente para esta edición\, inspirada en la evolución de la vihuela y la guitarra flamenca. Más de 750 elementos técnicos instalados a lo largo de los jardines crean una experiencia multisensorial apta para todos los públicos. \nEl recorrido se articula en tres zonas temáticas: \n\nEl encuentro — La reunión entre Colón y los Reyes Católicos en el Alcázar de Córdoba.\nLa travesía — Los 36 días de navegación desde las Islas Canarias hasta América.\nEl choque de mundos — El impacto del descubrimiento del Nuevo Mundo.\n\nTodo ocurre en un Bien de Interés Cultural declarado Patrimonio de la Humanidad por la Unesco. Historia real\, en el escenario real\, con tecnología de última generación. La duración aproximada del recorrido es de 45 minutos.
URL:https://www.cordoba.info/evento/naturaleza-encendida-navegantes/2026-05-07/
LOCATION:Jardines del Alcázar de los Reyes Cristianos\, Alcázar de los Reyes Cristianos s/n\, Córdoba\, Córdoba\, 14004\, Spain
CATEGORIES:Actividades al aire libre,Espectáculos y conciertos
ATTACH;FMTTYPE=image/png:https://www.cordoba.info/wp-content/uploads/sites/5/2026/03/Navegantes.png
END:VEVENT
BEGIN:VEVENT
DTSTART;TZID=Europe/Madrid:20260508T213000
DTEND;TZID=Europe/Madrid:20260508T235900
DTSTAMP:20260420T095319
CREATED:20260330T130003Z
LAST-MODIFIED:20260330T131510Z
UID:689410101166-1778275800-1778284740@www.cordoba.info
SUMMARY:Naturaleza Encendida: Navegantes
DESCRIPTION:Naturaleza Encendida: Navegantes es el espectáculo inmersivo nocturno que transforma los jardines del Alcázar de los Reyes Cristianos de Córdoba en un viaje sensorial por uno de los momentos más decisivos de la historia: el encuentro entre Cristóbal Colón y los Reyes Católicos\, germen de la expedición que cambió el mundo. \nProducido por LetsGo —la compañía detrás de Tim Burton: El Laberinto y El Fantasma de la Ópera—\, el recorrido combina iluminación avanzada\, videoproyecciones y una banda sonora compuesta expresamente para esta edición\, inspirada en la evolución de la vihuela y la guitarra flamenca. Más de 750 elementos técnicos instalados a lo largo de los jardines crean una experiencia multisensorial apta para todos los públicos. \nEl recorrido se articula en tres zonas temáticas: \n\nEl encuentro — La reunión entre Colón y los Reyes Católicos en el Alcázar de Córdoba.\nLa travesía — Los 36 días de navegación desde las Islas Canarias hasta América.\nEl choque de mundos — El impacto del descubrimiento del Nuevo Mundo.\n\nTodo ocurre en un Bien de Interés Cultural declarado Patrimonio de la Humanidad por la Unesco. Historia real\, en el escenario real\, con tecnología de última generación. La duración aproximada del recorrido es de 45 minutos.
URL:https://www.cordoba.info/evento/naturaleza-encendida-navegantes/2026-05-08/
LOCATION:Jardines del Alcázar de los Reyes Cristianos\, Alcázar de los Reyes Cristianos s/n\, Córdoba\, Córdoba\, 14004\, Spain
CATEGORIES:Actividades al aire libre,Espectáculos y conciertos
ATTACH;FMTTYPE=image/png:https://www.cordoba.info/wp-content/uploads/sites/5/2026/03/Navegantes.png
END:VEVENT
BEGIN:VEVENT
DTSTART;TZID=Europe/Madrid:20260509T213000
DTEND;TZID=Europe/Madrid:20260509T235900
DTSTAMP:20260420T095320
CREATED:20260330T130003Z
LAST-MODIFIED:20260330T131510Z
UID:689410101167-1778362200-1778371140@www.cordoba.info
SUMMARY:Naturaleza Encendida: Navegantes
DESCRIPTION:Naturaleza Encendida: Navegantes es el espectáculo inmersivo nocturno que transforma los jardines del Alcázar de los Reyes Cristianos de Córdoba en un viaje sensorial por uno de los momentos más decisivos de la historia: el encuentro entre Cristóbal Colón y los Reyes Católicos\, germen de la expedición que cambió el mundo. \nProducido por LetsGo —la compañía detrás de Tim Burton: El Laberinto y El Fantasma de la Ópera—\, el recorrido combina iluminación avanzada\, videoproyecciones y una banda sonora compuesta expresamente para esta edición\, inspirada en la evolución de la vihuela y la guitarra flamenca. Más de 750 elementos técnicos instalados a lo largo de los jardines crean una experiencia multisensorial apta para todos los públicos. \nEl recorrido se articula en tres zonas temáticas: \n\nEl encuentro — La reunión entre Colón y los Reyes Católicos en el Alcázar de Córdoba.\nLa travesía — Los 36 días de navegación desde las Islas Canarias hasta América.\nEl choque de mundos — El impacto del descubrimiento del Nuevo Mundo.\n\nTodo ocurre en un Bien de Interés Cultural declarado Patrimonio de la Humanidad por la Unesco. Historia real\, en el escenario real\, con tecnología de última generación. La duración aproximada del recorrido es de 45 minutos.
URL:https://www.cordoba.info/evento/naturaleza-encendida-navegantes/2026-05-09/
LOCATION:Jardines del Alcázar de los Reyes Cristianos\, Alcázar de los Reyes Cristianos s/n\, Córdoba\, Córdoba\, 14004\, Spain
CATEGORIES:Actividades al aire libre,Espectáculos y conciertos
ATTACH;FMTTYPE=image/png:https://www.cordoba.info/wp-content/uploads/sites/5/2026/03/Navegantes.png
END:VEVENT
BEGIN:VEVENT
DTSTART;VALUE=DATE:20260510
DTEND;VALUE=DATE:20260512
DTSTAMP:20260420T095320
CREATED:20250806T154420Z
LAST-MODIFIED:20260225T164819Z
UID:689410015373-1778382000-1778468399@www.cordoba.info
SUMMARY:Romería Virgen de Linares
DESCRIPTION:La Romería de la Virgen de Linares Córdoba es una peregrinación tradicional celebrada cada primer domingo de mayo. Esta festividad rinde honor a «La Conquistadora». Es una talla dorada del siglo XVI vinculada a la reconquista de la ciudad. Es una de las citas más queridas del calendario festivo local. \nLa jornada comienza temprano en la avenida República Argentina. Una comitiva alegre recorre las calles principales. Encontrarás carruajes engalanados\, caballistas y romeros a pie. Los hombres visten de corto con sombrero cordobés. Las mujeres lucen sus mejores trajes de flamenca. La Romería de la Virgen de Linares Córdoba llena la ciudad de color y sevillanas. \nEl destino es el Santuario de Nuestra Señora de Linares. Se ubica en plena Sierra\, a unos diez kilómetros de la capital. El camino atraviesa arroyos\, encinares y hermosos olivares. Durante el trayecto\, los romeros disfrutan del folclore local y la música. \nEl santuario\, construido a partir de 1236 por el rey Fernando III en honor a esta Virgen\, conserva elementos históricos como una torre vigía musulmana y está rodeado de un ambiente natural de gran riqueza. \nLa jornada finaliza con la celebración de una misa en el santuario y actos de hermandad\, entrega de premios a las carrozas y caballistas\, reparto de alimentos tradicionales y actuaciones musicales. La romería es un evento emblemático que mezcla tradición\, cultura\, folclore y religiosidad\, consolidándose como una de las fiestas más esperadas y queridas por los cordobeses y visitantes. \nEs una fiesta que no solo celebra la devoción religiosa\, sino también la historia y la identidad cultural de Córdoba\, con un ambiente festivo y familiar lleno de alegría y color
URL:https://www.cordoba.info/evento/romeria-virgen-de-linares/
LOCATION:Santuario de Nuestra Señora de Linares\, Carretera del Santuario de Linares\, Córdoba\, Córdoba\, 14029\, Spain
CATEGORIES:Actividades al aire libre,Eventos religiosos y procesiones,Fiestas populares
ATTACH;FMTTYPE=image/jpeg:https://www.cordoba.info/wp-content/uploads/sites/5/2025/08/Santuario_de_Nuestra_Senora_de_Linares_Cordoba_Spain.jpg
GEO:37.940977129902;-4.7470385299098
X-APPLE-STRUCTURED-LOCATION;VALUE=URI;X-ADDRESS=Santuario de Nuestra Señora de Linares Carretera del Santuario de Linares Córdoba Córdoba 14029 Spain;X-APPLE-RADIUS=500;X-TITLE=Carretera del Santuario de Linares:geo:-4.7470385299098,37.940977129902
END:VEVENT
BEGIN:VEVENT
DTSTART;TZID=Europe/Madrid:20260510T213000
DTEND;TZID=Europe/Madrid:20260510T235900
DTSTAMP:20260420T095320
CREATED:20260330T130003Z
LAST-MODIFIED:20260330T131510Z
UID:689410101168-1778448600-1778457540@www.cordoba.info
SUMMARY:Naturaleza Encendida: Navegantes
DESCRIPTION:Naturaleza Encendida: Navegantes es el espectáculo inmersivo nocturno que transforma los jardines del Alcázar de los Reyes Cristianos de Córdoba en un viaje sensorial por uno de los momentos más decisivos de la historia: el encuentro entre Cristóbal Colón y los Reyes Católicos\, germen de la expedición que cambió el mundo. \nProducido por LetsGo —la compañía detrás de Tim Burton: El Laberinto y El Fantasma de la Ópera—\, el recorrido combina iluminación avanzada\, videoproyecciones y una banda sonora compuesta expresamente para esta edición\, inspirada en la evolución de la vihuela y la guitarra flamenca. Más de 750 elementos técnicos instalados a lo largo de los jardines crean una experiencia multisensorial apta para todos los públicos. \nEl recorrido se articula en tres zonas temáticas: \n\nEl encuentro — La reunión entre Colón y los Reyes Católicos en el Alcázar de Córdoba.\nLa travesía — Los 36 días de navegación desde las Islas Canarias hasta América.\nEl choque de mundos — El impacto del descubrimiento del Nuevo Mundo.\n\nTodo ocurre en un Bien de Interés Cultural declarado Patrimonio de la Humanidad por la Unesco. Historia real\, en el escenario real\, con tecnología de última generación. La duración aproximada del recorrido es de 45 minutos.
URL:https://www.cordoba.info/evento/naturaleza-encendida-navegantes/2026-05-10/
LOCATION:Jardines del Alcázar de los Reyes Cristianos\, Alcázar de los Reyes Cristianos s/n\, Córdoba\, Córdoba\, 14004\, Spain
CATEGORIES:Actividades al aire libre,Espectáculos y conciertos
ATTACH;FMTTYPE=image/png:https://www.cordoba.info/wp-content/uploads/sites/5/2026/03/Navegantes.png
END:VEVENT
END:VCALENDAR