BEGIN:VCALENDAR
VERSION:2.0
PRODID:-//Cordoba.info - ECPv6.14.2//NONSGML v1.0//EN
CALSCALE:GREGORIAN
METHOD:PUBLISH
X-ORIGINAL-URL:https://www.cordoba.info
X-WR-CALDESC:Eventos para Cordoba.info
REFRESH-INTERVAL;VALUE=DURATION:PT1H
X-Robots-Tag:noindex
X-PUBLISHED-TTL:PT1H
BEGIN:VTIMEZONE
TZID:Europe/Madrid
BEGIN:DAYLIGHT
TZOFFSETFROM:+0100
TZOFFSETTO:+0200
TZNAME:CEST
DTSTART:20260329T010000
END:DAYLIGHT
BEGIN:STANDARD
TZOFFSETFROM:+0200
TZOFFSETTO:+0100
TZNAME:CET
DTSTART:20261025T010000
END:STANDARD
END:VTIMEZONE
BEGIN:VEVENT
DTSTART;VALUE=DATE:20260427
DTEND;VALUE=DATE:20260429
DTSTAMP:20260420T082252
CREATED:20250806T154420Z
LAST-MODIFIED:20260225T175200Z
UID:689410015372-1777258800-1777345199@www.cordoba.info
SUMMARY:Romería de Santo Domingo
DESCRIPTION:La Romería de Santo Domingo Córdoba es una de las citas más antiguas de la ciudad. Se celebra cada año en el mes de abril. Esta fiesta rinde honor a San Álvaro de Córdoba. Los cordobeses suben al santuario de Santo Domingo «Scala Coeli» ubicado en plena Sierra Morena. Es un día de convivencia\, fe y mucha alegría. \nEl camino y las carretas \nLa jornada comienza con el desfile de carretas por las calles cordobesas. Los romeros visten trajes típicos y cantan sevillanas durante el trayecto\, destacando por su colorido y ambiente familiar. El camino hacia el santuario ofrece paisajes naturales de gran belleza. \nEl perol Cordobés: Sabor y Hermandad \nAl llegar al santuario\, la gastronomía toma el protagonismo. El tradicional «perol cordobés» es el plato estrella de la jornada. Los grupos de amigos preparan arroz en el campo entre risas. La Romería de Santo Domingo Córdoba es famosa por su espíritu acogedor.
URL:https://www.cordoba.info/evento/romeria-de-santo-domingo/
LOCATION:Córdoba
CATEGORIES:Actividades al aire libre,Eventos religiosos y procesiones,Fiestas populares
END:VEVENT
BEGIN:VEVENT
DTSTART;TZID=Europe/Madrid:20260501T213000
DTEND;TZID=Europe/Madrid:20260501T235900
DTSTAMP:20260420T082252
CREATED:20260330T130003Z
LAST-MODIFIED:20260330T131510Z
UID:689410101159-1777671000-1777679940@www.cordoba.info
SUMMARY:Naturaleza Encendida: Navegantes
DESCRIPTION:Naturaleza Encendida: Navegantes es el espectáculo inmersivo nocturno que transforma los jardines del Alcázar de los Reyes Cristianos de Córdoba en un viaje sensorial por uno de los momentos más decisivos de la historia: el encuentro entre Cristóbal Colón y los Reyes Católicos\, germen de la expedición que cambió el mundo. \nProducido por LetsGo —la compañía detrás de Tim Burton: El Laberinto y El Fantasma de la Ópera—\, el recorrido combina iluminación avanzada\, videoproyecciones y una banda sonora compuesta expresamente para esta edición\, inspirada en la evolución de la vihuela y la guitarra flamenca. Más de 750 elementos técnicos instalados a lo largo de los jardines crean una experiencia multisensorial apta para todos los públicos. \nEl recorrido se articula en tres zonas temáticas: \n\nEl encuentro — La reunión entre Colón y los Reyes Católicos en el Alcázar de Córdoba.\nLa travesía — Los 36 días de navegación desde las Islas Canarias hasta América.\nEl choque de mundos — El impacto del descubrimiento del Nuevo Mundo.\n\nTodo ocurre en un Bien de Interés Cultural declarado Patrimonio de la Humanidad por la Unesco. Historia real\, en el escenario real\, con tecnología de última generación. La duración aproximada del recorrido es de 45 minutos.
URL:https://www.cordoba.info/evento/naturaleza-encendida-navegantes/2026-05-01/
LOCATION:Jardines del Alcázar de los Reyes Cristianos\, Alcázar de los Reyes Cristianos s/n\, Córdoba\, Córdoba\, 14004\, Spain
CATEGORIES:Actividades al aire libre,Espectáculos y conciertos
ATTACH;FMTTYPE=image/png:https://www.cordoba.info/wp-content/uploads/sites/5/2026/03/Navegantes.png
END:VEVENT
BEGIN:VEVENT
DTSTART;TZID=Europe/Madrid:20260502T213000
DTEND;TZID=Europe/Madrid:20260502T235900
DTSTAMP:20260420T082252
CREATED:20260330T130003Z
LAST-MODIFIED:20260330T131510Z
UID:689410101160-1777757400-1777766340@www.cordoba.info
SUMMARY:Naturaleza Encendida: Navegantes
DESCRIPTION:Naturaleza Encendida: Navegantes es el espectáculo inmersivo nocturno que transforma los jardines del Alcázar de los Reyes Cristianos de Córdoba en un viaje sensorial por uno de los momentos más decisivos de la historia: el encuentro entre Cristóbal Colón y los Reyes Católicos\, germen de la expedición que cambió el mundo. \nProducido por LetsGo —la compañía detrás de Tim Burton: El Laberinto y El Fantasma de la Ópera—\, el recorrido combina iluminación avanzada\, videoproyecciones y una banda sonora compuesta expresamente para esta edición\, inspirada en la evolución de la vihuela y la guitarra flamenca. Más de 750 elementos técnicos instalados a lo largo de los jardines crean una experiencia multisensorial apta para todos los públicos. \nEl recorrido se articula en tres zonas temáticas: \n\nEl encuentro — La reunión entre Colón y los Reyes Católicos en el Alcázar de Córdoba.\nLa travesía — Los 36 días de navegación desde las Islas Canarias hasta América.\nEl choque de mundos — El impacto del descubrimiento del Nuevo Mundo.\n\nTodo ocurre en un Bien de Interés Cultural declarado Patrimonio de la Humanidad por la Unesco. Historia real\, en el escenario real\, con tecnología de última generación. La duración aproximada del recorrido es de 45 minutos.
URL:https://www.cordoba.info/evento/naturaleza-encendida-navegantes/2026-05-02/
LOCATION:Jardines del Alcázar de los Reyes Cristianos\, Alcázar de los Reyes Cristianos s/n\, Córdoba\, Córdoba\, 14004\, Spain
CATEGORIES:Actividades al aire libre,Espectáculos y conciertos
ATTACH;FMTTYPE=image/png:https://www.cordoba.info/wp-content/uploads/sites/5/2026/03/Navegantes.png
END:VEVENT
BEGIN:VEVENT
DTSTART;TZID=Europe/Madrid:20260503T000000
DTEND;TZID=Europe/Madrid:20260503T000000
DTSTAMP:20260420T082252
CREATED:20250806T154351Z
LAST-MODIFIED:20260225T173535Z
UID:689410015367-1777766400-1777766400@www.cordoba.info
SUMMARY:Batalla de las Flores
DESCRIPTION:Cada año\, en la frontera entre abril y mayo\, Córdoba revive una fiesta única y llena de alegría: la Batalla de las Flores. Esta tradición\, con más de un siglo de historia\, es el colorido pistoletazo de salida al Mayo Festivo cordobés\, el mes más emblemático en fiestas de la ciudad. \n¿En qué consiste esta «batalla»? En esta batalla se lanzan miles de claveles en el Paseo de la Victoria. No hay vencedores. Todos terminan cubiertos de flores. Desde carrozas decoradas\, participantes con trajes típicos lanzan pétalos al público. Es una fiesta de color\, música y folclore para todas las edades. \nSus raíces se remontan a antiguos juegos florales y la primera edición documentada de la Batalla de las Flores en Córdoba se sitúa en 1915\, donde lo que primaba era adornar los vehículos de la época con flores para dar la bienvenida a la primavera. Con interrupciones a lo largo de las décadas\, la fiesta se ha consolidado como un evento fijo desde los años 80\, organizado por la Federación de Peñas Cordobesas. \nMás de 100.000 claveles de colores vuelan por el aire. La atmósfera de felicidad contagia a todos los presentes. Bandas locales acompañan el desfile con música. El espíritu festivo impregna cada calle y corazón cordobés. \nLa Batalla de las Flores es mucho más que un mero desfile: es la expresión de identidad\, creatividad y comunidad de Córdoba. Cada carroza es el fruto de meses de trabajo artístico por parte de las peñas\, que ponen todo su empeño en diseñar y engalanar verdaderas obras de arte floral que homenajéan a la ciudad\, su cultura y sus tradiciones.
URL:https://www.cordoba.info/evento/batalla-de-las-flores/
LOCATION:Paseo de la Victoria\, Paseo de la Victoria\, Córdoba\, Córdoba\, 14003\, Spain
CATEGORIES:Actividades al aire libre,Eventos familiares e infantiles,Fiestas populares
ATTACH;FMTTYPE=image/jpeg:https://www.cordoba.info/wp-content/uploads/sites/5/2025/08/BATALLA_FLORES_CORDOBA_01.jpg
END:VEVENT
BEGIN:VEVENT
DTSTART;TZID=Europe/Madrid:20260503T213000
DTEND;TZID=Europe/Madrid:20260503T235900
DTSTAMP:20260420T082252
CREATED:20260330T130003Z
LAST-MODIFIED:20260330T131510Z
UID:689410101161-1777843800-1777852740@www.cordoba.info
SUMMARY:Naturaleza Encendida: Navegantes
DESCRIPTION:Naturaleza Encendida: Navegantes es el espectáculo inmersivo nocturno que transforma los jardines del Alcázar de los Reyes Cristianos de Córdoba en un viaje sensorial por uno de los momentos más decisivos de la historia: el encuentro entre Cristóbal Colón y los Reyes Católicos\, germen de la expedición que cambió el mundo. \nProducido por LetsGo —la compañía detrás de Tim Burton: El Laberinto y El Fantasma de la Ópera—\, el recorrido combina iluminación avanzada\, videoproyecciones y una banda sonora compuesta expresamente para esta edición\, inspirada en la evolución de la vihuela y la guitarra flamenca. Más de 750 elementos técnicos instalados a lo largo de los jardines crean una experiencia multisensorial apta para todos los públicos. \nEl recorrido se articula en tres zonas temáticas: \n\nEl encuentro — La reunión entre Colón y los Reyes Católicos en el Alcázar de Córdoba.\nLa travesía — Los 36 días de navegación desde las Islas Canarias hasta América.\nEl choque de mundos — El impacto del descubrimiento del Nuevo Mundo.\n\nTodo ocurre en un Bien de Interés Cultural declarado Patrimonio de la Humanidad por la Unesco. Historia real\, en el escenario real\, con tecnología de última generación. La duración aproximada del recorrido es de 45 minutos.
URL:https://www.cordoba.info/evento/naturaleza-encendida-navegantes/2026-05-03/
LOCATION:Jardines del Alcázar de los Reyes Cristianos\, Alcázar de los Reyes Cristianos s/n\, Córdoba\, Córdoba\, 14004\, Spain
CATEGORIES:Actividades al aire libre,Espectáculos y conciertos
ATTACH;FMTTYPE=image/png:https://www.cordoba.info/wp-content/uploads/sites/5/2026/03/Navegantes.png
END:VEVENT
END:VCALENDAR