BEGIN:VCALENDAR
VERSION:2.0
PRODID:-//Cordoba.info - ECPv6.14.2//NONSGML v1.0//EN
CALSCALE:GREGORIAN
METHOD:PUBLISH
X-WR-CALNAME:Cordoba.info
X-ORIGINAL-URL:https://www.cordoba.info
X-WR-CALDESC:Eventos para Cordoba.info
REFRESH-INTERVAL;VALUE=DURATION:PT1H
X-Robots-Tag:noindex
X-PUBLISHED-TTL:PT1H
BEGIN:VTIMEZONE
TZID:Europe/Madrid
BEGIN:DAYLIGHT
TZOFFSETFROM:+0100
TZOFFSETTO:+0200
TZNAME:CEST
DTSTART:20250330T010000
END:DAYLIGHT
BEGIN:STANDARD
TZOFFSETFROM:+0200
TZOFFSETTO:+0100
TZNAME:CET
DTSTART:20251026T010000
END:STANDARD
END:VTIMEZONE
BEGIN:VEVENT
DTSTART;TZID=Europe/Madrid:20250913T080000
DTEND;TZID=Europe/Madrid:20250913T170000
DTSTAMP:20260426T023935
CREATED:20250902T194400Z
LAST-MODIFIED:20250902T194737Z
UID:689410081121-1757750400-1757782800@www.cordoba.info
SUMMARY:X Concurso Internacional de Atalaje de Tradición “Ciudad de Córdoba”
DESCRIPTION:El Concurso Internacional de Atalaje de Tradición “Ciudad de Córdoba” es una de las joyas de Cabalcor: un desfile–competición de coches de caballos históricos (en su mayoría anteriores a 1945) impecablemente restaurados y ataviados según la etiqueta tradicional. La prueba combina presentación en jurado\, recorrido urbano cronometrado con pasos obligados y maniobrabilidad final en pista\, valorando la fidelidad histórica del conjunto (carruaje\, guarniciones\, cocheros y caballos). En 2025 está prevista la participación de ~25 carruajes llegados de distintos puntos de España y Portugal.  \nForma parte de la programación oficial de Cabalcor 2025\, el encuentro ecuestre de septiembre–octubre en Caballerizas Reales. La edición 2025 sitúa el certamen el sábado\, 13 de septiembre\, con la ruta por avenidas y paseos emblemáticos y el tramo final en Caballerizas. La estructura de fases y el itinerario tipo (11 km) siguen la pauta de ediciones anteriores: presentación en Jardines del Alcázar\, recorrido por Ribera–Vallellano–Paseo de la Victoria–Jardines de la Agricultura y cierre en Caballerizas Reales.
URL:https://www.cordoba.info/evento/x-concurso-internacional-de-atalaje-de-tradicion-ciudad-de-cordoba/
LOCATION:Alcázar de los Reyes Cristianos\, Plaza Campo Santo de los Mártires\, s/n
CATEGORIES:Actividades al aire libre,Eventos familiares e infantiles,Ferias y festivales
GEO:37.8730° N;–4.7758° W Wikipedia+1Dialnet+1Turismo de Córdoba+4Wikipedia+4Wikipedia+4Wikimapia+2Tripomatic+2Turismo de Córdoba+2WikipediaWikipédia+3Wikipedia+3Wikipedia+3
X-APPLE-STRUCTURED-LOCATION;VALUE=URI;X-ADDRESS=Alcázar de los Reyes Cristianos Plaza Campo Santo de los Mártires s/n;X-APPLE-RADIUS=500;X-TITLE=Plaza Campo Santo de los Mártires\, s/n:geo:–4.7758° W Wikipedia+1Dialnet+1Turismo de Córdoba+4Wikipedia+4Wikipedia+4Wikimapia+2Tripomatic+2Turismo de Córdoba+2WikipediaWikipédia+3Wikipedia+3Wikipedia+3,37.8730° N
END:VEVENT
END:VCALENDAR