BEGIN:VCALENDAR
VERSION:2.0
PRODID:-//Cordoba.info - ECPv6.14.2//NONSGML v1.0//EN
CALSCALE:GREGORIAN
METHOD:PUBLISH
X-WR-CALNAME:Cordoba.info
X-ORIGINAL-URL:https://www.cordoba.info
X-WR-CALDESC:Eventos para Cordoba.info
REFRESH-INTERVAL;VALUE=DURATION:PT1H
X-Robots-Tag:noindex
X-PUBLISHED-TTL:PT1H
BEGIN:VTIMEZONE
TZID:Europe/Madrid
BEGIN:DAYLIGHT
TZOFFSETFROM:+0100
TZOFFSETTO:+0200
TZNAME:CEST
DTSTART:20260329T010000
END:DAYLIGHT
BEGIN:STANDARD
TZOFFSETFROM:+0200
TZOFFSETTO:+0100
TZNAME:CET
DTSTART:20261025T010000
END:STANDARD
END:VTIMEZONE
BEGIN:VEVENT
DTSTART;TZID=Europe/Madrid:20260220T110000
DTEND;TZID=Europe/Madrid:20260830T200000
DTSTAMP:20260425T180358
CREATED:20260319T163455Z
LAST-MODIFIED:20260319T163455Z
UID:689410100738-1771585200-1788120000@www.cordoba.info
SUMMARY:Joshua Serafín: Un grito de resistencia filipina en el corazón del C3A
DESCRIPTION:‘Partir el corazón de la serpiente’ en Córdoba marca la primera exposición individual institucional de Joshua Serafín. A través de una cuidada selección de nuevas producciones y obras recientes\, el artista filipino investiga la intersección entre el cuerpo\, la historia colonial y las mitologías de su tierra natal. La muestra pivota sobre la impactante videoinstalación ‘Void’ (2023)\, pieza central de su trilogía Cosmological Gangbang\, donde el cuerpo se convierte en un territorio de resistencia y búsqueda de trascendencia frente a las narrativas impuestas por el colonialismo. \nLa propuesta de Joshua Serafín en el C3A destaca por su capacidad de materializar investigaciones antropológicas y espirituales en piezas de arte visual de gran potencia. En su obra\, la serpiente no es solo un símbolo mítico\, sino un eje para hablar de la ruptura y la sanación de la identidad. Si buscas eventos en Córdoba que te inviten a la reflexión crítica sobre el pasado y el presente global\, esta videoinstalación es una cita ineludible. \nEsta exposición en la Sala T4 del C3A ofrece una de las experiencias estéticas más profundas y disruptivas de la temporada. Una oportunidad única para conocer la obra de un artista internacional que está redefiniendo los discursos sobre la memoria y el mito desde el sur global.
URL:https://www.cordoba.info/evento/joshua-serafin-cordoba-c3a-exposicion-2026/
LOCATION:Centro de Creación Contemporánea (C3A)\, C/ Carmen Olmedo Checa\, s/n\, Córdoba\, Córdoba\, 14009\, Spain
CATEGORIES:Arte y exposiciones
ATTACH;FMTTYPE=image/jpeg:https://www.cordoba.info/wp-content/uploads/sites/5/2026/03/Centro_de_Creacion_Contemporanea_de_Andalucia.jpg
GEO:37.8757;−4.77186111
X-APPLE-STRUCTURED-LOCATION;VALUE=URI;X-ADDRESS=Centro de Creación Contemporánea (C3A) C/ Carmen Olmedo Checa s/n Córdoba Córdoba 14009 Spain;X-APPLE-RADIUS=500;X-TITLE=C/ Carmen Olmedo Checa\, s/n:geo:−4.77186111,37.8757
END:VEVENT
BEGIN:VEVENT
DTSTART;TZID=Europe/Madrid:20260223T193000
DTEND;TZID=Europe/Madrid:20261129T193000
DTSTAMP:20260425T180358
CREATED:20260203T205457Z
LAST-MODIFIED:20260222T173926Z
UID:689410099684-1771875000-1795980600@www.cordoba.info
SUMMARY:X Aniversario de la Cofradía del Rabo de Toro en Córdoba: fechas y actos
DESCRIPTION:La Cofradía Gastronómica del Rabo de Toro Cordobés ha presentado oficialmente su programa para 2026\, un año marcado por la celebración del X Aniversario de la Cofradía del Rabo de Toro y sus diez años de historia. Esta efeméride no solo festeja una década de existencia de la hermandad\, sino que también rinde homenaje a siglos de tradición en las cocinas de las tabernas y hogares cordobeses. \nEl presidente\, Ricardo Rojas\, junto a la junta directiva\, ha destacado que el objetivo es proyectar internacionalmente esta joya culinaria. Los actos incluyen desde reconocimientos institucionales hasta la esperada competición entre fogones\, donde la calidad del producto y el respeto a la receta tradicional son los protagonistas. La colaboración con entidades como UCOcultura y la Cátedra de Turismo Patrimonial asegura una dimensión académica y cultural que trasciende lo meramente culinario\, reforzando la marca Córdoba. \nLa celebración del X Aniversario de la Cofradía del Rabo de Toro en Córdoba se articula en torno a cuatro hitos fundamentales durante el año 2026. Estos eventos buscan involucrar tanto a profesionales de la hostelería como a ciudadanos aficionados al arte del guiso lento. \nReconocimiento y Honor: El ciclo comienza en febrero con la entrega de distinciones a figuras que han llevado el nombre de la ciudad por el mundo. \nCompetición Profesional: En junio\, los mejores chefs locales medirán su destreza en el concurso oficial\, un evento clave para dinamizar el sector hostelero. \nTradición Amateur: En noviembre\, el foco se pone en la receta casera\, aquella que se hereda de generación en generación. \nGala de Clausura: El colofón final tendrá lugar en octubre\, conmemorando diez años de esfuerzo colectivo.
URL:https://www.cordoba.info/evento/calendario-del-x-aniversario-de-la-cofradia-del-rabo-de-toro/
CATEGORIES:Evento gastronómico
ATTACH;FMTTYPE=image/png:https://www.cordoba.info/wp-content/uploads/sites/5/2026/02/descarga.png
ORGANIZER;CN="Cofrad%C3%ADa del Rabo de Toro":MAILTO:cofradiarabodetorocordobes@gmail.com
END:VEVENT
BEGIN:VEVENT
DTSTART;TZID=Europe/Madrid:20260619T000000
DTEND;TZID=Europe/Madrid:20260718T000000
DTSTAMP:20260425T180358
CREATED:20260129T200804Z
LAST-MODIFIED:20260226T171304Z
UID:689410099665-1781827200-1784332800@www.cordoba.info
SUMMARY:Córdoba Live 2026 consolida El Arenal como sede de los grandes conciertos
DESCRIPTION:El verano de 2026 en la ciudad tiene un nombre propio indiscutible. El ciclo Córdoba Live 2026 consolida el recinto ferial de El Arenal como el epicentro de los grandes eventos en la provincia. De hecho\, la programación de este año apuesta por un cartel espectacular que combina nostalgia\, pop nacional y ritmos latinos. Por este motivo\, las entradas ya han desatado la locura entre los fans de toda Andalucía. Aunque se esperan nuevas confirmaciones próximamente\, los primeros nombres ya aseguran noches inolvidables bajo el cielo cordobés. \nCalendario de estrellas confirmadas en El Arenal \nAdemás\, la organización ha diseñado una agenda para todos los públicos. Prepara tu calendario para disfrutar de los mejores directos en el Córdoba Live 2026: \nHombres G (19 de junio): La mítica banda de David Summers traerá sus himnos intergeneracionales para abrir la temporada por todo lo alto. \nDani Martín (20 de junio): Asimismo\, el artista madrileño regresa a los escenarios con su energía arrolladora en una de las noches más esperadas del ciclo. \nLa Oreja de Van Gogh (4 de julio): El pop más emblemático de las últimas décadas resonará en El Arenal con sus melodías inolvidables. \nChayanne (10 de julio): Finalmente\, el broche de oro latino lo pondrá el puertorriqueño\, prometiendo un espectáculo lleno de baile\, carisma y éxitos.
URL:https://www.cordoba.info/evento/cordoba-live-2026-conciertos-el-arenal/
LOCATION:Recinto Ferial de El Arenal
CATEGORIES:Espectáculos y conciertos
ATTACH;FMTTYPE=image/png:https://www.cordoba.info/wp-content/uploads/sites/5/2026/01/download-1.png
END:VEVENT
BEGIN:VEVENT
DTSTART;VALUE=DATE:20260711
DTEND;VALUE=DATE:20260713
DTSTAMP:20260425T180358
CREATED:20260127T072927Z
LAST-MODIFIED:20260127T074107Z
UID:689410096937-1783738800-1783825199@www.cordoba.info
SUMMARY:Museo Arqueológico de Córdoba — Palacio de los Páez & Teatro Romano
DESCRIPTION:Descubre el Museo Arqueológico de Córdoba y su Teatro Romano\, un tesoro histórico en el corazón del casco antiguo\, ideal para viajeros apasionados por la herencia cultural cordobesa. \nExperiencia Única\nExplora un impresionante recorrido desde la Prehistoria hasta al-Ándalus en el emblemático palacio renacentista de los Páez de Castillejo. Destacan mosaicos romanos\, esculturas imperiales y piezas visigodas\, culminando en el sótano con los restos del gran Teatro Romano (siglo I a.C.)\, uno de los más grandes del Imperio con capacidad para 15.000 espectadores. \nIdeal Para Familias\, estudiantes y amantes de la historia romana. Perfecto para visitas de 1\,5-2 horas con niños gracias a sus piezas visuales y actividades educativas. Accesible desde la Mezquita-Catedral (5 min a pie). \n 
URL:https://www.cordoba.info/evento/museo-arqueologico-de-cordoba-palacio-de-los-paez-teatro-romano-2/2026-07-11/
LOCATION:Museo Arqueológico y Etnológico de Córdoba\, Plaza Jerónimo Páez\, 7\, Córdoba\, Córdoba\, 14003\, Spain
CATEGORIES:Monumentos y museos
ATTACH;FMTTYPE=image/jpeg:https://www.cordoba.info/wp-content/uploads/sites/5/2025/08/Fachada-del-palacio-de-los-Paez-de-Castillejo.jpg
GEO:3.788.196;–4.77789 Wikipediadisfrutacordoba.com+8Wikipédia+8Arte en Córdoba+8
X-APPLE-STRUCTURED-LOCATION;VALUE=URI;X-ADDRESS=Museo Arqueológico y Etnológico de Córdoba Plaza Jerónimo Páez 7 Córdoba Córdoba 14003 Spain;X-APPLE-RADIUS=500;X-TITLE=Plaza Jerónimo Páez\, 7:geo:–4.77789 Wikipediadisfrutacordoba.com+8Wikipédia+8Arte en Córdoba+8,3.788.196
END:VEVENT
BEGIN:VEVENT
DTSTART;TZID=Europe/Madrid:20260711T080000
DTEND;TZID=Europe/Madrid:20260711T230000
DTSTAMP:20260425T180358
CREATED:20250828T093843Z
LAST-MODIFIED:20260305T152349Z
UID:689410082239-1783756800-1783810800@www.cordoba.info
SUMMARY:CEBU by La Bodeguilla – Sabores cordobeses en clave moderna
DESCRIPTION:CEBU by La Bodeguilla es un punto de encuentro gastronómico imprescindible para quienes visitan Córdoba y desean disfrutar de una experiencia culinaria de calidad sin alejarse de la estación del AVE. Concebido con un diseño actual y cosmopolita\, este espacio combina la esencia de la cocina cordobesa con una visión renovada\, pensada para un público que aprecia la tradición pero también la creatividad. \nEl proyecto está liderado por Antonio Pérez\, nieto de la inolvidable Aurora Gallegos Jiménez\, “La Cantarera”\, alma de la histórica La Bodeguilla de Ciudad Jardín. Aurora\, que durante décadas convirtió su taberna en un referente de hospitalidad\, tradición y autenticidad\, transmitió a su familia el amor por la cocina hecha con cariño y por la atención cercana al cliente. Hoy\, Antonio recoge ese legado familiar y lo eleva a un nuevo concepto gastronómico\, manteniendo la raíz cordobesa de la saga Pérez Gallego pero con una apuesta contemporánea que conecta con la Córdoba de hoy. \nLa carta de CEBU se basa en productos locales de primera calidad\, donde se reinterpretan clásicos como el salmorejo\, el flamenquín o el rabo de toro\, junto a propuestas más modernas inspiradas en tendencias internacionales. Su ambiente vibrante y elegante lo convierte en el lugar perfecto tanto para comidas de trabajo como para cenas relajadas tras una jornada de turismo. \nGracias a su ubicación estratégica\, a escasos metros de la estación del AVE\, CEBU es la opción ideal para quienes llegan o parten de Córdoba\, permitiendo saborear lo mejor de la ciudad con comodidad\, estilo y un legado familiar de hospitalidad que ha marcado la historia gastronómica cordobesa.
URL:https://www.cordoba.info/evento/cebu-by-la-bodeguilla-sabores-cordobeses-en-clave-moderna/2026-07-11/
LOCATION:CEBU by La Bodeguilla\, C/ Víctor Escribano Ucelay\, Córdoba\, Córdoba\, 14005\, Spain
CATEGORIES:Evento gastronómico
ATTACH;FMTTYPE=image/jpeg:https://www.cordoba.info/wp-content/uploads/sites/5/2025/08/LA-BODEGUILLA-4.jpg
END:VEVENT
BEGIN:VEVENT
DTSTART;TZID=Europe/Madrid:20260711T120000
DTEND;TZID=Europe/Madrid:20260711T233000
DTSTAMP:20260425T180358
CREATED:20260127T114020Z
LAST-MODIFIED:20260405T083321Z
UID:689410101624-1783771200-1783812600@www.cordoba.info
SUMMARY:Bodegas Mezquita\, el tercer mejor restaurante casual del mundo
DESCRIPTION:En el corazón de la Judería\, justo al lado de la la Mezquita‑Catedral\, se alza Bodegas Mezquita – Calle Céspedes. Más que un simple restaurante\, este rincón se ha consolidado como una referencia absoluta en la gastronomía informal a nivel global. De hecho\, el prestigioso ranking Travellers’ Choice Best of the Best 2024 de TripAdvisor reconoce a Bodegas Mezquita como el tercer mejor restaurante casual del mundo y el mejor de toda España. \nSu carta es un homenaje a la cocina cordobesa y andaluza con propuestas como salmorejo\, berenjenas califales\, rabo de toro\, flamenquín\, y postres caseros\, todo acompañado de una excelente selección de vinos de Montilla‑Moriles. \nEl local\, acogedor y con un ambiente auténtico de taberna tradicional\, destaca por su ubicación privilegiada. Los comensales elogian constantemente su servicio cálido y su excepcional calidad gastronómica\, factores que convierten a Bodegas Mezquita – Calle Céspedes en un referente indiscutible del centro histórico. Hoy\, este establecimiento representa una visita obligada para quienes buscan sensaciones cordobesas reales en un entorno histórico y galardonado.
URL:https://www.cordoba.info/evento/bodegas-mezquita-calle-cespedes-mejor-restaurante-casual/2026-07-11/
LOCATION:Bodegas Mezquita – Céspedes\, Calle Céspedes 12\, Córdoba\, Córdoba\, 14003\, Spain
CATEGORIES:Evento gastronómico
ATTACH;FMTTYPE=image/jpeg:https://www.cordoba.info/wp-content/uploads/sites/5/2025/08/Bodegas-Mezquita-Cespdes-Imagen-de-web-BM-1.jpg
GEO:37.8788;‑4.7772
X-APPLE-STRUCTURED-LOCATION;VALUE=URI;X-ADDRESS=Bodegas Mezquita – Céspedes Calle Céspedes 12 Córdoba Córdoba 14003 Spain;X-APPLE-RADIUS=500;X-TITLE=Calle Céspedes 12:geo:‑4.7772,37.8788
END:VEVENT
BEGIN:VEVENT
DTSTART;TZID=Europe/Madrid:20260711T203000
DTEND;TZID=Europe/Madrid:20260711T223000
DTSTAMP:20260425T180358
CREATED:20260127T140057Z
LAST-MODIFIED:20260225T200449Z
UID:689410099539-1783801800-1783809000@www.cordoba.info
SUMMARY:La Reina Blanca. Homenaje a Blanca del Rey
DESCRIPTION:El 45 Festival de la Guitarra presenta un estreno mundial emocionante. La Gala Homenaje a Blanca del Rey celebra los 80 años de esta bailaora universal. El espectáculo conmemora también el 70 aniversario del Concurso Nacional de Arte Flamenco. Es una cita histórica en el Gran Teatro de Córdoba (20 de mayo de 1986). \nLa dramaturgia original de esta obra se divide en tres partes. Primero\, «lo recordado» evoca la Córdoba que formó a la artista. Después\, «lo soñado» revive sus coreografías más icónicas. Finalmente\, la Gala Homenaje a Blanca del Rey Córdoba cierra con «lo vivido». Esta suite flamenca recorre su trayectoria en el Corral de la Morería. Es un homenaje que une el pasado con el futuro del baile jondo. \nUna noche histórica que une pasado\, presente y futuro del flamenco en la catedral guitarrística mundial\, honrando a una maestra cuya huella trasciende fronteras. Imperdible cita en el Gran Teatro de Córdoba\, 2026. \n 
URL:https://www.cordoba.info/evento/gala-blanca-del-rey-festival-guitarra-cordoba/
LOCATION:Gran Teatro\, Avenida del Gran Capitán\, 3\, Córdoba\, Córdoba\, 14001
CATEGORIES:Espectáculos y conciertos
ATTACH;FMTTYPE=image/jpeg:https://www.cordoba.info/wp-content/uploads/sites/5/2026/01/Blanca_del_Rey_Madrilenos_de_Andalucia.jpg
END:VEVENT
BEGIN:VEVENT
DTSTART;TZID=Europe/Madrid:20260711T210000
DTEND;TZID=Europe/Madrid:20260711T223000
DTSTAMP:20260425T180358
CREATED:20260415T172045Z
LAST-MODIFIED:20260423T163832Z
UID:689410102178-1783803600-1783809000@www.cordoba.info
SUMMARY:CantaJuego en Córdoba: La fiesta de las "Burbujas" toma El Arenal este verano
DESCRIPTION:CantaJuego en Córdoba presenta el próximo 11 de julio su espectáculo más refrescante: «Burbujas». Enmarcado en el ciclo Córdoba Live\, los icónicos personajes Coco\, Pepe\, Buby y el Pajarito aterrizan en el Recinto Ferial El Arenal para invitar a los más pequeños a un viaje lleno de risas y aprendizaje. A través del juego mágico de hacer burbujas\, el grupo explorará la importancia de reconocer y gestionar las emociones\, todo ello al ritmo de sus grandes éxitos de siempre y nuevas canciones diseñadas para hacer bailar a toda la familia. \nLa programación de CantaJuego en Córdoba destaca por su mensaje positivo y su capacidad para conectar con el público infantil de forma única. Si buscas planes familiares en Córdoba\, asistir a «Burbujas» es la oportunidad perfecta para que tus hijos vivan en directo la magia de Coco y Pepe\, participando en una fiesta donde las emociones son las auténticas protagonistas de la noche. \nEsta es la cita estrella del verano. Un espectáculo que combina humor\, color y pedagogía en un entorno seguro y festivo bajo el cielo de julio.
URL:https://www.cordoba.info/evento/cantajuego-cordoba-live-el-arenal-2026/
LOCATION:Recinto Ferial de El Arenal
CATEGORIES:Actividades al aire libre,Espectáculos y conciertos,Eventos familiares e infantiles
ATTACH;FMTTYPE=image/jpeg:https://www.cordoba.info/wp-content/uploads/sites/5/2026/04/a686JFqMwks7.jpg
END:VEVENT
BEGIN:VEVENT
DTSTART;TZID=Europe/Madrid:20260711T213000
DTEND;TZID=Europe/Madrid:20260711T235900
DTSTAMP:20260425T180358
CREATED:20260330T130003Z
LAST-MODIFIED:20260330T131510Z
UID:689410101230-1783805400-1783814340@www.cordoba.info
SUMMARY:Naturaleza Encendida: Navegantes
DESCRIPTION:Naturaleza Encendida: Navegantes es el espectáculo inmersivo nocturno que transforma los jardines del Alcázar de los Reyes Cristianos de Córdoba en un viaje sensorial por uno de los momentos más decisivos de la historia: el encuentro entre Cristóbal Colón y los Reyes Católicos\, germen de la expedición que cambió el mundo. \nProducido por LetsGo —la compañía detrás de Tim Burton: El Laberinto y El Fantasma de la Ópera—\, el recorrido combina iluminación avanzada\, videoproyecciones y una banda sonora compuesta expresamente para esta edición\, inspirada en la evolución de la vihuela y la guitarra flamenca. Más de 750 elementos técnicos instalados a lo largo de los jardines crean una experiencia multisensorial apta para todos los públicos. \nEl recorrido se articula en tres zonas temáticas: \n\nEl encuentro — La reunión entre Colón y los Reyes Católicos en el Alcázar de Córdoba.\nLa travesía — Los 36 días de navegación desde las Islas Canarias hasta América.\nEl choque de mundos — El impacto del descubrimiento del Nuevo Mundo.\n\nTodo ocurre en un Bien de Interés Cultural declarado Patrimonio de la Humanidad por la Unesco. Historia real\, en el escenario real\, con tecnología de última generación. La duración aproximada del recorrido es de 45 minutos.
URL:https://www.cordoba.info/evento/naturaleza-encendida-navegantes/2026-07-11/
LOCATION:Jardines del Alcázar de los Reyes Cristianos\, Alcázar de los Reyes Cristianos s/n\, Córdoba\, Córdoba\, 14004\, Spain
CATEGORIES:Actividades al aire libre,Espectáculos y conciertos
ATTACH;FMTTYPE=image/png:https://www.cordoba.info/wp-content/uploads/sites/5/2026/03/Navegantes.png
END:VEVENT
BEGIN:VEVENT
DTSTART;TZID=Europe/Madrid:20260711T223000
DTEND;TZID=Europe/Madrid:20260711T223000
DTSTAMP:20260425T180358
CREATED:20260408T184430Z
LAST-MODIFIED:20260408T184557Z
UID:689410101912-1783809000-1783809000@www.cordoba.info
SUMMARY:OMEGA 30 Aniversario: Morente\, Lorca y Cohen en Córdoba
DESCRIPTION:OMEGA 30 Aniversario en Córdoba regresa el próximo 11 de julio para celebrar las tres décadas de un disco que marcó un antes y un después en la cultura española. Esta reinterpretación del mítico proyecto de Enrique Morente une de nuevo a la banda clave del álbum original\, Lagartija Nick\, con la voz de Kiki Morente\, quien aporta la sensibilidad y el legado familiar para conectar el mito con el presente. El espectáculo es una vivencia intensa donde el cante jondo dialoga con la poesía de Lorca\, el espíritu de Leonard Cohen y una dimensión eléctrica abrasadora. Como colofón\, el baile revolucionario de Israel Galván suma una fuerza visual única a este rito de transgresión. \nLa propuesta de Omega 30 Aniversario en Córdoba destaca por mantener vivo el espíritu transgresor. No se trata de un ejercicio de nostalgia\, sino de una intervención sonora donde el rock experimental de Lagartija Nick choca y se funde con la pureza del cante. Si buscas eventos en Córdoba que garanticen una experiencia envolvente\, poética y cargada de «duende» eléctrico\, este concierto es el cierre perfecto para el Festival. \nNo existe un plan más potente. Es la clausura del Festival de la Guitarra con la obra que enseñó al flamenco a ser libre\, eléctrico y eterno. Una oportunidad irrepetible de sentir la energía de temas como «Pequeño Vals Teranés» o «Manhattan» bajo las estrellas.
URL:https://www.cordoba.info/evento/omega-30-aniversario-morente-lorca-y-cohen-en-cordoba/
LOCATION:Teatro de la Axerquía\, Avenida Menéndez Pidal\, 1\, Córdoba\, Córdoba\, Spain
CATEGORIES:Espectáculos y conciertos
ATTACH;FMTTYPE=image/jpeg:https://www.cordoba.info/wp-content/uploads/sites/5/2026/04/20260323222711_1774301231.8433OMEGA.jpg
END:VEVENT
BEGIN:VEVENT
DTSTART;TZID=Europe/Madrid:20260711T230000
DTEND;TZID=Europe/Madrid:20260711T230000
DTSTAMP:20260425T180358
CREATED:20260423T170027Z
LAST-MODIFIED:20260423T171128Z
UID:689410102211-1783810800-1783810800@www.cordoba.info
SUMMARY:La Flamenca: Flamenquito & Urban Hits en Córdoba Live 2026
DESCRIPTION:La Flamenca en Córdoba aterriza el próximo sábado 11 de julio como una de las citas más esperadas del ciclo Córdoba Live 2026. Nacido originalmente en Granada como un proyecto digital y escénico (La Flamenca TV)\, este espectáculo se ha convertido en apenas un año en un referente para la Generación Z\, acumulando más de 250.000 seguidores y agotando entradas en más de cuarenta ciudades. La propuesta es una celebración de la identidad española: una puesta en escena rompedora donde el quejío flamenco se encuentra con el beat urbano en una noche diseñada para bailar y reivindicar nuestras raíces. \nLa propuesta de La Flamenca en Córdoba destaca por su capacidad de conectar con el público joven reivindicando el valor de la música andaluza. No es solo un DJ set; es un show con actuaciones en directo que cuidan la estética y la energía en cada canción. Tras recorrer España con un éxito arrollador (haciendo sold out en la mayoría de sus fechas)\, el equipo de La Flamenca TV trae al Arenal su atmósfera de fiesta\, orgullo y modernidad. \nLa Flamenca ofrece una experiencia inmersiva que va más allá de un concierto convencional. Es la unión perfecta entre la tradición de las guitarras y el poder de los hits urbanos que suenan hoy en todas partes.
URL:https://www.cordoba.info/evento/la-flamenca-flamenquito-urban-hits-en-cordoba-live-2026/
LOCATION:Recinto Ferial de El Arenal
CATEGORIES:Espectáculos y conciertos
ATTACH;FMTTYPE=image/png:https://www.cordoba.info/wp-content/uploads/sites/5/2026/04/LA-FLAMENCA.-Flamenquito-Urban-Hits.-Recinto-del-Arenal.-Cordoba.-Sabado-11-Julio-2026.png
END:VEVENT
END:VCALENDAR